Workbook

Sheet L
A1: เทศบาลตำบลหลักช้าง
A3: สำหรับปีสิ้นสุดวันที่ 30 กันยายน 2565

Sheet W
C1: ชื่อบัญชี | D1: รหัสบัญชี | E1: งบทดลองแม่หลังปรับปรุงก่อนปิด | G1: งบทดลองรวมหลังปรับปรุงก่อนปิด | I1: รายการหักระหว่างกัน | K1: รายการปรับปรุงตามสตง. | M1: งบทดลองรวมหลังปรับปรุงก่อนปิด หลังหักรายการระหว่างกัน | O1: รวมสถานธนานุบาล | Q1: รวมโรงผลิตน้ำประปา และประปาหมู่บ้าน | S1: รวมสถานีขนส่ง | U1: รวมโรงพยาบาล และหน่วยบริการสาธารณสุข | W1: รวมโรงเรียน และศูนย์พัฒนาเด็กเล็ก | Y1: รวมศูนย์แสดงและจำหน่ายสินค้าหนึ่งตำบลหนึ่งผลิตภัณฑ์ | AA1: รวมกิจการอื่น | AG1: งบแสดงผลการดำเนินงาน | AK1: งบแสดงฐานะการเงิน.
E3: Dr. | F3: Cr. | G3: Dr. | H3: Cr. | I3: Dr. | J3: Cr. | K3: Dr. | L3: Cr. | M3: Dr. | N3: Cr. | O3: Dr. | P3: Cr. | Q3: Dr. | R3: Cr. | S3: Dr. | T3: Cr. | U3: Dr. | V3: Cr. | W3: Dr. | X3: Cr. | Y3: Dr. | Z3: Cr. | AA3: Dr. | AB3: Cr. | AG3: Dr. | AH3: Cr. | AI3: Dr. | AJ3: Cr. | AK3: Dr. | AL3: Cr.
A4: T | B4: 1 | C4: เงินฝากออมทรัพย์ที่สถาบันการเงิน (2152377293) | D4: 1101030102.001 | E4: 4908840.2 | F4: 0 | G4: 4908840.2 | H4: 0 | I4: 0 | J4: 0 | M4: =+Table1[[#This Row],[Column7]]+Table1[[#This Row],[คอลัมน์3]]-Table1[[#This Row],[คอลัมน์2]] -> 4908840.2 | N4: =+Table1[[#This Row],[Column8]]+Table1[[#This Row],[คอลัมน์2]]-Table1[[#This Row],[คอลัมน์3]] -> 0 | O4: 0 | P4: 0 | Q4: 0 | R4: 0 | S4: 0 | T4: 0 | U4: 0 | V4: 0 | W4: 0 | X4: 0 | Y4: 0 | Z4: 0 | AA4: 0 | AB4: 0 | AC4: 62AFC52F-AFDE-40D9-822E-926DEE808EC7 | AD4: (2152377293) | AE4: 0 | AF4: 0 | AK4: =+Table1[[#This Row],[Column11]] -> 4908840.2 | AL4: =+Table1[[#This Row],[Column12]] -> 0
A5: T | B5: 1 | C5: เงินฝากออมทรัพย์ที่สถาบันการเงิน (8350109726) | D5: 1101030102.001 | E5: 49436544 | F5: 0 | G5: 49436544 | H5: 0 | I5: 0 | J5: 0 | M5: =+Table1[[#This Row],[Column7]]+Table1[[#This Row],[คอลัมน์3]]-Table1[[#This Row],[คอลัมน์2]] -> 49436544 | N5: =+Table1[[#This Row],[Column8]]+Table1[[#This Row],[คอลัมน์2]]-Table1[[#This Row],[คอลัมน์3]] -> 0 | O5: 0 | P5: 0 | Q5: 0 | R5: 0 | S5: 0 | T5: 0 | U5: 0 | V5: 0 | W5: 0 | X5: 0 | Y5: 0 | Z5: 0 | AA5: 0 | AB5: 0 | AC5: 62AFC52F-AFDE-40D9-822E-926DEE808EC7 | AD5: (8350109726) | AE5: 0 | AF5: 0 | AK5: =+Table1[[#This Row],[Column11]] -> 49436544 | AL5: =+Table1[[#This Row],[Column12]] -> 0
A6: T | B6: 1 | C6: เงินฝากออมทรัพย์ที่สถาบันการเงินเงินฝากออมทรัพย์ที่สถาบันการเงิน เลขที่บัญชี 835-0-32215-2 | D6: 1101030102.001 | E6: 0 | F6: 0 | G6: 1015012.4 | H6: 0 | I6: 0 | J6: 0 | M6: =+Table1[[#This Row],[Column7]]+Table1[[#This Row],[คอลัมน์3]]-Table1[[#This Row],[คอลัมน์2]] -> 1015012.4 | N6: =+Table1[[#This Row],[Column8]]+Table1[[#This Row],[คอลัมน์2]]-Table1[[#This Row],[คอลัมน์3]] -> 0 | O6: 0 | P6: 0 | Q6: 0 | R6: 0 | S6: 0 | T6: 0 | U6: 0 | V6: 0 | W6: 1015012.4 | X6: 0 | Y6: 0 | Z6: 0 | AA6: 0 | AB6: 0 | AC6: 62AFC52F-AFDE-40D9-822E-926DEE808EC7 | AD6: เงินฝากออมทรัพย์ที่สถาบันการเงิน เลขที่บัญชี 835-0-32215-2 | AE6: 0 | AF6: 0 | AK6: =+Table1[[#This Row],[Column11]] -> 1015012.4 | AL6: =+Table1[[#This Row],[Column12]] -> 0
A7: T | B7: 1 | C7: เงินฝากไม่มีรายตัว (2154200119) | D7: 1101030199.001 | E7: 17777891 | F7: 0 | G7: 17777891 | H7: 0 | I7: 0 | J7: 0 | M7: =+Table1[[#This Row],[Column7]]+Table1[[#This Row],[คอลัมน์3]]-Table1[[#This Row],[คอลัมน์2]] -> 17777891 | N7: =+Table1[[#This Row],[Column8]]+Table1[[#This Row],[คอลัมน์2]]-Table1[[#This Row],[คอลัมน์3]] -> 0 | O7: 0 | P7: 0 | Q7: 0 | R7: 0 | S7: 0 | T7: 0 | U7: 0 | V7: 0 | W7: 0 | X7: 0 | Y7: 0 | Z7: 0 | AA7: 0 | AB7: 0 | AC7: 2E5DEED5-90E0-4622-B4EC-51C16E0A7EB8 | AD7: (2154200119) | AE7: 0 | AF7: 0 | AK7: =+Table1[[#This Row],[Column11]] -> 17777891 | AL7: =+Table1[[#This Row],[Column12]] -> 0
A8: T | B8: 1 | C8: ลูกหนี้ค่าสินค้าและบริการ - หน่วยงานภาครัฐ | D8: 1102050101.001 | E8: 120814 | F8: 0 | G8: 120814 | H8: 0 | I8: 0 | J8: 0 | M8: =+Table1[[#This Row],[Column7]]+Table1[[#This Row],[คอลัมน์3]]-Table1[[#This Row],[คอลัมน์2]] -> 120814 | N8: =+Table1[[#This Row],[Column8]]+Table1[[#This Row],[คอลัมน์2]]-Table1[[#This Row],[คอลัมน์3]] -> 0 | O8: 0 | P8: 0 | Q8: 0 | R8: 0 | S8: 0 | T8: 0 | U8: 0 | V8: 0 | W8: 0 | X8: 0 | Y8: 0 | Z8: 0 | AA8: 0 | AB8: 0 | AC8: 53BF1E47-D95E-4B08-A937-84D33CBA0ED1 | AE8: 0 | AF8: 0 | AK8: =+Table1[[#This Row],[Column11]] -> 120814 | AL8: =+Table1[[#This Row],[Column12]] -> 0
A9: T | B9: 1 | C9: ลูกหนี้ค่าสินค้าและบริการ - บุคคลภายนอก | D9: 1102050102.001 | E9: 3599586 | F9: 0 | G9: 3599586 | H9: 0 | I9: 0 | J9: 0 | M9: =+Table1[[#This Row],[Column7]]+Table1[[#This Row],[คอลัมน์3]]-Table1[[#This Row],[คอลัมน์2]] -> 3599586 | N9: =+Table1[[#This Row],[Column8]]+Table1[[#This Row],[คอลัมน์2]]-Table1[[#This Row],[คอลัมน์3]] -> 0 | O9: 0 | P9: 0 | Q9: 0 | R9: 0 | S9: 0 | T9: 0 | U9: 0 | V9: 0 | W9: 0 | X9: 0 | Y9: 0 | Z9: 0 | AA9: 0 | AB9: 0 | AC9: 0C8214D6-13B0-43C3-BB89-E23E5206AD72 | AE9: 0 | AF9: 0 | AK9: =+Table1[[#This Row],[Column11]] -> 3599586 | AL9: =+Table1[[#This Row],[Column12]] -> 0
A10: T | B10: 1 | C10: รายได้ค้างรับ - หน่วยงานภาครัฐ | D10: 1102050106.001 | E10: 84314.79 | F10: 0 | G10: 84314.79 | H10: 0 | I10: 0 | J10: 0 | M10: =+Table1[[#This Row],[Column7]]+Table1[[#This Row],[คอลัมน์3]]-Table1[[#This Row],[คอลัมน์2]] -> 84314.79 | N10: =+Table1[[#This Row],[Column8]]+Table1[[#This Row],[คอลัมน์2]]-Table1[[#This Row],[คอลัมน์3]] -> 0 | O10: 0 | P10: 0 | Q10: 0 | R10: 0 | S10: 0 | T10: 0 | U10: 0 | V10: 0 | W10: 0 | X10: 0 | Y10: 0 | Z10: 0 | AA10: 0 | AB10: 0 | AC10: 7504E89F-1D31-4A29-878F-6ACE2C2B31EC | AE10: 0 | AF10: 0 | AK10: =+Table1[[#This Row],[Column11]] -> 84314.79 | AL10: =+Table1[[#This Row],[Column12]] -> 0
A11: T | B11: 1 | C11: รายได้ค้างรับ - บุคคลภายนอก | D11: 1102050107.001 | E11: 61335.9 | F11: 0 | G11: 62994.94 | H11: 0 | I11: 0 | J11: 0 | M11: =+Table1[[#This Row],[Column7]]+Table1[[#This Row],[คอลัมน์3]]-Table1[[#This Row],[คอลัมน์2]] -> 62994.94 | N11: =+Table1[[#This Row],[Column8]]+Table1[[#This Row],[คอลัมน์2]]-Table1[[#This Row],[คอลัมน์3]] -> 0 | O11: 0 | P11: 0 | Q11: 0 | R11: 0 | S11: 0 | T11: 0 | U11: 0 | V11: 0 | W11: 1659.04 | X11: 0 | Y11: 0 | Z11: 0 | AA11: 0 | AB11: 0 | AC11: BAEE4A64-E3CB-473E-9FBA-D9A1D5E2E8D5 | AE11: 0 | AF11: 0 | AK11: =+Table1[[#This Row],[Column11]] -> 62994.94 | AL11: =+Table1[[#This Row],[Column12]] -> 0
A12: T | B12: 1 | C12: ค่าเผื่อหนี้สงสัยจะสูญ - ลูกหนี้ค่าสินค้าและบริการ | D12: 1102050123.001 | E12: 0 | F12: 965362.3 | G12: 0 | H12: 965362.3 | I12: 0 | J12: 0 | M12: =+Table1[[#This Row],[Column7]]+Table1[[#This Row],[คอลัมน์3]]-Table1[[#This Row],[คอลัมน์2]] -> 0 | N12: =+Table1[[#This Row],[Column8]]+Table1[[#This Row],[คอลัมน์2]]-Table1[[#This Row],[คอลัมน์3]] -> 965362.3 | O12: 0 | P12: 0 | Q12: 0 | R12: 0 | S12: 0 | T12: 0 | U12: 0 | V12: 0 | W12: 0 | X12: 0 | Y12: 0 | Z12: 0 | AA12: 0 | AB12: 0 | AC12: 8DD7FDF1-7232-4FDC-B66D-292430B5232A | AE12: 0 | AF12: 0 | AK12: =+Table1[[#This Row],[Column11]] -> 0 | AL12: =+Table1[[#This Row],[Column12]] -> 965362.3
A13: T | B13: 1 | C13: ค่าเผื่อหนี้สงสัยจะสูญ - ลูกหนี้ภาษีโรงเรือนและที่ดิน | D13: 1102050123.002 | E13: 0 | F13: 46860 | G13: 0 | H13: 46860 | I13: 0 | J13: 0 | M13: =+Table1[[#This Row],[Column7]]+Table1[[#This Row],[คอลัมน์3]]-Table1[[#This Row],[คอลัมน์2]] -> 0 | N13: =+Table1[[#This Row],[Column8]]+Table1[[#This Row],[คอลัมน์2]]-Table1[[#This Row],[คอลัมน์3]] -> 46860 | O13: 0 | P13: 0 | Q13: 0 | R13: 0 | S13: 0 | T13: 0 | U13: 0 | V13: 0 | W13: 0 | X13: 0 | Y13: 0 | Z13: 0 | AA13: 0 | AB13: 0 | AC13: 0CB071AD-A946-4CFC-BB6A-9CBB9F261719 | AE13: 0 | AF13: 0 | AK13: =+Table1[[#This Row],[Column11]] -> 0 | AL13: =+Table1[[#This Row],[Column12]] -> 46860
A14: T | B14: 1 | C14: ค่าเผื่อหนี้สงสัยจะสูญ - ลูกหนี้ภาษีบำรุงท้องที่ | D14: 1102050123.003 | E14: 0 | F14: 6720.7 | G14: 0 | H14: 6720.7 | I14: 0 | J14: 0 | M14: =+Table1[[#This Row],[Column7]]+Table1[[#This Row],[คอลัมน์3]]-Table1[[#This Row],[คอลัมน์2]] -> 0 | N14: =+Table1[[#This Row],[Column8]]+Table1[[#This Row],[คอลัมน์2]]-Table1[[#This Row],[คอลัมน์3]] -> 6720.7 | O14: 0 | P14: 0 | Q14: 0 | R14: 0 | S14: 0 | T14: 0 | U14: 0 | V14: 0 | W14: 0 | X14: 0 | Y14: 0 | Z14: 0 | AA14: 0 | AB14: 0 | AC14: 13E7A9B7-C42C-48F7-9ED1-B2F5C9020C73 | AE14: 0 | AF14: 0 | AK14: =+Table1[[#This Row],[Column11]] -> 0 | AL14: =+Table1[[#This Row],[Column12]] -> 6720.7
A15: T | B15: 1 | C15: รายได้เงินอุดหนุนค้างรับ | D15: 1102050193.001 | E15: 6343000 | F15: 0 | G15: 6343000 | H15: 0 | I15: 0 | J15: 0 | M15: =+Table1[[#This Row],[Column7]]+Table1[[#This Row],[คอลัมน์3]]-Table1[[#This Row],[คอลัมน์2]] -> 6343000 | N15: =+Table1[[#This Row],[Column8]]+Table1[[#This Row],[คอลัมน์2]]-Table1[[#This Row],[คอลัมน์3]] -> 0 | O15: 0 | P15: 0 | Q15: 0 | R15: 0 | S15: 0 | T15: 0 | U15: 0 | V15: 0 | W15: 0 | X15: 0 | Y15: 0 | Z15: 0 | AA15: 0 | AB15: 0 | AC15: 52E753CF-532A-491F-88E0-7B57D309B899 | AE15: 0 | AF15: 0 | AK15: =+Table1[[#This Row],[Column11]] -> 6343000 | AL15: =+Table1[[#This Row],[Column12]] -> 0
A16: T | B16: 1 | C16: ลูกหนี้ - ภาษีโรงเรือนและที่ดิน | D16: 1102050194.001 | E16: 53340 | F16: 0 | G16: 53340 | H16: 0 | I16: 0 | J16: 0 | M16: =+Table1[[#This Row],[Column7]]+Table1[[#This Row],[คอลัมน์3]]-Table1[[#This Row],[คอลัมน์2]] -> 53340 | N16: =+Table1[[#This Row],[Column8]]+Table1[[#This Row],[คอลัมน์2]]-Table1[[#This Row],[คอลัมน์3]] -> 0 | O16: 0 | P16: 0 | Q16: 0 | R16: 0 | S16: 0 | T16: 0 | U16: 0 | V16: 0 | W16: 0 | X16: 0 | Y16: 0 | Z16: 0 | AA16: 0 | AB16: 0 | AC16: 527A44CC-BCFF-4264-98F3-8D9078A9AFE0 | AE16: 0 | AF16: 0 | AK16: =+Table1[[#This Row],[Column11]] -> 53340 | AL16: =+Table1[[#This Row],[Column12]] -> 0
A17: T | B17: 1 | C17: ลูกหนี้ - ภาษีบำรุงท้องที่ | D17: 1102050194.002 | E17: 7277.08 | F17: 0 | G17: 7277.08 | H17: 0 | I17: 0 | J17: 0 | M17: =+Table1[[#This Row],[Column7]]+Table1[[#This Row],[คอลัมน์3]]-Table1[[#This Row],[คอลัมน์2]] -> 7277.08 | N17: =+Table1[[#This Row],[Column8]]+Table1[[#This Row],[คอลัมน์2]]-Table1[[#This Row],[คอลัมน์3]] -> 0 | O17: 0 | P17: 0 | Q17: 0 | R17: 0 | S17: 0 | T17: 0 | U17: 0 | V17: 0 | W17: 0 | X17: 0 | Y17: 0 | Z17: 0 | AA17: 0 | AB17: 0 | AC17: 23BEB1E3-1CDF-47D0-9096-A82FB4C515D6 | AE17: 0 | AF17: 0 | AK17: =+Table1[[#This Row],[Column11]] -> 7277.08 | AL17: =+Table1[[#This Row],[Column12]] -> 0
A18: T | B18: 1 | C18: เงินฝากประจำ-ระยะสั้น (300033570023) | D18: 1104010101.001 | E18: 13293357 | F18: 0 | G18: 13293357 | H18: 0 | I18: 0 | J18: 0 | M18: =+Table1[[#This Row],[Column7]]+Table1[[#This Row],[คอลัมน์3]]-Table1[[#This Row],[คอลัมน์2]] -> 13293357 | N18: =+Table1[[#This Row],[Column8]]+Table1[[#This Row],[คอลัมน์2]]-Table1[[#This Row],[คอลัมน์3]] -> 0 | O18: 0 | P18: 0 | Q18: 0 | R18: 0 | S18: 0 | T18: 0 | U18: 0 | V18: 0 | W18: 0 | X18: 0 | Y18: 0 | Z18: 0 | AA18: 0 | AB18: 0 | AC18: 8116693C-BB37-4A8A-AA5F-09C21F68BEB2 | AD18: (300033570023) | AE18: 0 | AF18: 0 | AK18: =+Table1[[#This Row],[Column11]] -> 13293357 | AL18: =+Table1[[#This Row],[Column12]] -> 0
A19: T | B19: 1 | C19: เงินฝากประจำ-ระยะสั้น (8352016520) | D19: 1104010101.001 | E19: 3520773.3 | F19: 0 | G19: 3520773.3 | H19: 0 | I19: 0 | J19: 0 | M19: =+Table1[[#This Row],[Column7]]+Table1[[#This Row],[คอลัมน์3]]-Table1[[#This Row],[คอลัมน์2]] -> 3520773.3 | N19: =+Table1[[#This Row],[Column8]]+Table1[[#This Row],[คอลัมน์2]]-Table1[[#This Row],[คอลัมน์3]] -> 0 | O19: 0 | P19: 0 | Q19: 0 | R19: 0 | S19: 0 | T19: 0 | U19: 0 | V19: 0 | W19: 0 | X19: 0 | Y19: 0 | Z19: 0 | AA19: 0 | AB19: 0 | AC19: 8116693C-BB37-4A8A-AA5F-09C21F68BEB2 | AD19: (8352016520) | AE19: 0 | AF19: 0 | AK19: =+Table1[[#This Row],[Column11]] -> 3520773.3 | AL19: =+Table1[[#This Row],[Column12]] -> 0
A20: T | B20: 1 | C20: วัสดุคงคลัง | D20: 1105010105.001 | E20: 187949.7 | F20: 0 | G20: 187949.7 | H20: 0 | I20: 0 | J20: 0 | M20: =+Table1[[#This Row],[Column7]]+Table1[[#This Row],[คอลัมน์3]]-Table1[[#This Row],[คอลัมน์2]] -> 187949.7 | N20: =+Table1[[#This Row],[Column8]]+Table1[[#This Row],[คอลัมน์2]]-Table1[[#This Row],[คอลัมน์3]] -> 0 | O20: 0 | P20: 0 | Q20: 0 | R20: 0 | S20: 0 | T20: 0 | U20: 0 | V20: 0 | W20: 0 | X20: 0 | Y20: 0 | Z20: 0 | AA20: 0 | AB20: 0 | AC20: C787CD2A-A34C-4680-9B62-A5D701754961 | AE20: 0 | AF20: 0 | AK20: =+Table1[[#This Row],[Column11]] -> 187949.7 | AL20: =+Table1[[#This Row],[Column12]] -> 0
A21: T | B21: 1 | C21: ค่าใช้จ่ายจ่ายล่วงหน้า | D21: 1106010103.001 | E21: 6750 | F21: 0 | G21: 6750 | H21: 0 | I21: 0 | J21: 0 | M21: =+Table1[[#This Row],[Column7]]+Table1[[#This Row],[คอลัมน์3]]-Table1[[#This Row],[คอลัมน์2]] -> 6750 | N21: =+Table1[[#This Row],[Column8]]+Table1[[#This Row],[คอลัมน์2]]-Table1[[#This Row],[คอลัมน์3]] -> 0 | O21: 0 | P21: 0 | Q21: 0 | R21: 0 | S21: 0 | T21: 0 | U21: 0 | V21: 0 | W21: 0 | X21: 0 | Y21: 0 | Z21: 0 | AA21: 0 | AB21: 0 | AC21: 06922F9C-155C-4B0A-A20D-29DD3641F2B2 | AE21: 0 | AF21: 0 | AK21: =+Table1[[#This Row],[Column11]] -> 6750 | AL21: =+Table1[[#This Row],[Column12]] -> 0
A22: T | B22: 1 | C22: เงินฝากเงินทุนส่งเสริมกิจการเทศบาล | D22: 1203020199.002 | E22: 6449883.6 | F22: 0 | G22: 6449883.6 | H22: 0 | I22: 0 | J22: 0 | M22: =+Table1[[#This Row],[Column7]]+Table1[[#This Row],[คอลัมน์3]]-Table1[[#This Row],[คอลัมน์2]] -> 6449883.6 | N22: =+Table1[[#This Row],[Column8]]+Table1[[#This Row],[คอลัมน์2]]-Table1[[#This Row],[คอลัมน์3]] -> 0 | O22: 0 | P22: 0 | Q22: 0 | R22: 0 | S22: 0 | T22: 0 | U22: 0 | V22: 0 | W22: 0 | X22: 0 | Y22: 0 | Z22: 0 | AA22: 0 | AB22: 0 | AC22: 24CC0E52-5CCF-402A-8698-EB806EC5B16D | AE22: 0 | AF22: 0 | AK22: =+Table1[[#This Row],[Column11]] -> 6449883.6 | AL22: =+Table1[[#This Row],[Column12]] -> 0
A23: T | B23: 1 | C23: ที่ดิน | D23: 1204010101.001 | E23: 140000 | F23: 0 | G23: 140000 | H23: 0 | I23: 0 | J23: 0 | M23: =+Table1[[#This Row],[Column7]]+Table1[[#This Row],[คอลัมน์3]]-Table1[[#This Row],[คอลัมน์2]] -> 140000 | N23: =+Table1[[#This Row],[Column8]]+Table1[[#This Row],[คอลัมน์2]]-Table1[[#This Row],[คอลัมน์3]] -> 0 | O23: 0 | P23: 0 | Q23: 0 | R23: 0 | S23: 0 | T23: 0 | U23: 0 | V23: 0 | W23: 0 | X23: 0 | Y23: 0 | Z23: 0 | AA23: 0 | AB23: 0 | AC23: D768F5A8-4BD3-4A06-A32C-8F06DF0C09C7 | AE23: 0 | AF23: 0 | AK23: =+Table1[[#This Row],[Column11]] -> 140000 | AL23: =+Table1[[#This Row],[Column12]] -> 0
A24: T | B24: 1 | C24: อาคารสำนักงาน | D24: 1205020101.001 | E24: 3392000 | F24: 0 | G24: 5751500 | H24: 0 | I24: 0 | J24: 0 | M24: =+Table1[[#This Row],[Column7]]+Table1[[#This Row],[คอลัมน์3]]-Table1[[#This Row],[คอลัมน์2]] -> 5751500 | N24: =+Table1[[#This Row],[Column8]]+Table1[[#This Row],[คอลัมน์2]]-Table1[[#This Row],[คอลัมน์3]] -> 0 | O24: 0 | P24: 0 | Q24: 0 | R24: 0 | S24: 0 | T24: 0 | U24: 0 | V24: 0 | W24: 2359500 | X24: 0 | Y24: 0 | Z24: 0 | AA24: 0 | AB24: 0 | AC24: 9FB4744C-20D3-428C-A27A-60336AD73361 | AE24: 0 | AF24: 0 | AK24: =+Table1[[#This Row],[Column11]] -> 5751500 | AL24: =+Table1[[#This Row],[Column12]] -> 0
A25: T | B25: 1 | C25: ค่าเสื่อมราคาสะสมอาคารสำนักงาน | D25: 1205020103.001 | E25: 0 | F25: 2951299 | G25: 0 | H25: 4231542.8 | I25: 0 | J25: 0 | M25: =+Table1[[#This Row],[Column7]]+Table1[[#This Row],[คอลัมน์3]]-Table1[[#This Row],[คอลัมน์2]] -> 0 | N25: =+Table1[[#This Row],[Column8]]+Table1[[#This Row],[คอลัมน์2]]-Table1[[#This Row],[คอลัมน์3]] -> 4231542.8 | O25: 0 | P25: 0 | Q25: 0 | R25: 0 | S25: 0 | T25: 0 | U25: 0 | V25: 0 | W25: 0 | X25: 1280243.8 | Y25: 0 | Z25: 0 | AA25: 0 | AB25: 0 | AC25: 89A44DE8-8A24-4E10-86C7-197C892A4FAC | AE25: 0 | AF25: 0 | AK25: =+Table1[[#This Row],[Column11]] -> 0 | AL25: =+Table1[[#This Row],[Column12]] -> 4231542.8
A26: T | B26: 1 | C26: อาคารเพื่อประโยชน์อื่น | D26: 1205030101.001 | E26: 1654674.1 | F26: 0 | G26: 1654674.1 | H26: 0 | I26: 0 | J26: 0 | M26: =+Table1[[#This Row],[Column7]]+Table1[[#This Row],[คอลัมน์3]]-Table1[[#This Row],[คอลัมน์2]] -> 1654674.1 | N26: =+Table1[[#This Row],[Column8]]+Table1[[#This Row],[คอลัมน์2]]-Table1[[#This Row],[คอลัมน์3]] -> 0 | O26: 0 | P26: 0 | Q26: 0 | R26: 0 | S26: 0 | T26: 0 | U26: 0 | V26: 0 | W26: 0 | X26: 0 | Y26: 0 | Z26: 0 | AA26: 0 | AB26: 0 | AC26: B810C745-26E9-426F-A60F-E27B836140DD | AE26: 0 | AF26: 0 | AK26: =+Table1[[#This Row],[Column11]] -> 1654674.1 | AL26: =+Table1[[#This Row],[Column12]] -> 0
A27: T | B27: 1 | C27: ค่าเสื่อมราคาสะสมอาคารเพื่อประโยชน์อื่น | D27: 1205030103.001 | E27: 0 | F27: 822139.04 | G27: 0 | H27: 822139.04 | I27: 0 | J27: 0 | M27: =+Table1[[#This Row],[Column7]]+Table1[[#This Row],[คอลัมน์3]]-Table1[[#This Row],[คอลัมน์2]] -> 0 | N27: =+Table1[[#This Row],[Column8]]+Table1[[#This Row],[คอลัมน์2]]-Table1[[#This Row],[คอลัมน์3]] -> 822139.04 | O27: 0 | P27: 0 | Q27: 0 | R27: 0 | S27: 0 | T27: 0 | U27: 0 | V27: 0 | W27: 0 | X27: 0 | Y27: 0 | Z27: 0 | AA27: 0 | AB27: 0 | AC27: 617318BB-5BB5-4D7C-AA58-2B33AF57D85B | AE27: 0 | AF27: 0 | AK27: =+Table1[[#This Row],[Column11]] -> 0 | AL27: =+Table1[[#This Row],[Column12]] -> 822139.04
A28: T | B28: 1 | C28: สิ่งปลูกสร้าง | D28: 1205040101.001 | E28: 1100748 | F28: 0 | G28: 1230248 | H28: 0 | I28: 0 | J28: 0 | M28: =+Table1[[#This Row],[Column7]]+Table1[[#This Row],[คอลัมน์3]]-Table1[[#This Row],[คอลัมน์2]] -> 1230248 | N28: =+Table1[[#This Row],[Column8]]+Table1[[#This Row],[คอลัมน์2]]-Table1[[#This Row],[คอลัมน์3]] -> 0 | O28: 0 | P28: 0 | Q28: 0 | R28: 0 | S28: 0 | T28: 0 | U28: 0 | V28: 0 | W28: 129500 | X28: 0 | Y28: 0 | Z28: 0 | AA28: 0 | AB28: 0 | AC28: 3EBB3D66-FD5F-42C8-A56E-032CBCACC6C9 | AE28: 0 | AF28: 0 | AK28: =+Table1[[#This Row],[Column11]] -> 1230248 | AL28: =+Table1[[#This Row],[Column12]] -> 0
A29: T | B29: 1 | C29: ค่าเสื่อมราคาสะสมสิ่งปลูกสร้าง | D29: 1205040103.001 | E29: 0 | F29: 388753.13 | G29: 0 | H29: 508180.86 | I29: 0 | J29: 0 | M29: =+Table1[[#This Row],[Column7]]+Table1[[#This Row],[คอลัมน์3]]-Table1[[#This Row],[คอลัมน์2]] -> 0 | N29: =+Table1[[#This Row],[Column8]]+Table1[[#This Row],[คอลัมน์2]]-Table1[[#This Row],[คอลัมน์3]] -> 508180.86 | O29: 0 | P29: 0 | Q29: 0 | R29: 0 | S29: 0 | T29: 0 | U29: 0 | V29: 0 | W29: 0 | X29: 119427.73 | Y29: 0 | Z29: 0 | AA29: 0 | AB29: 0 | AC29: 5728A8D1-89CA-4393-9EA8-A8DA51F225D5 | AE29: 0 | AF29: 0 | AK29: =+Table1[[#This Row],[Column11]] -> 0 | AL29: =+Table1[[#This Row],[Column12]] -> 508180.86
A30: T | B30: 1 | C30: ครุภัณฑ์สำนักงาน | D30: 1206010101.001 | E30: 133700 | F30: 0 | G30: 161200 | H30: 0 | I30: 0 | J30: 0 | M30: =+Table1[[#This Row],[Column7]]+Table1[[#This Row],[คอลัมน์3]]-Table1[[#This Row],[คอลัมน์2]] -> 161200 | N30: =+Table1[[#This Row],[Column8]]+Table1[[#This Row],[คอลัมน์2]]-Table1[[#This Row],[คอลัมน์3]] -> 0 | O30: 0 | P30: 0 | Q30: 0 | R30: 0 | S30: 0 | T30: 0 | U30: 0 | V30: 0 | W30: 27500 | X30: 0 | Y30: 0 | Z30: 0 | AA30: 0 | AB30: 0 | AC30: 8BDBEF3D-391A-45F4-B4E4-7E1E42703F89 | AE30: 0 | AF30: 0 | AK30: =+Table1[[#This Row],[Column11]] -> 161200 | AL30: =+Table1[[#This Row],[Column12]] -> 0
A31: T | B31: 1 | C31: ค่าเสื่อมราคาสะสมครุภัณฑ์สำนักงาน | D31: 1206010103.001 | E31: 0 | F31: 28469.37 | G31: 0 | H31: 28469.37 | I31: 0 | J31: 0 | M31: =+Table1[[#This Row],[Column7]]+Table1[[#This Row],[คอลัมน์3]]-Table1[[#This Row],[คอลัมน์2]] -> 0 | N31: =+Table1[[#This Row],[Column8]]+Table1[[#This Row],[คอลัมน์2]]-Table1[[#This Row],[คอลัมน์3]] -> 28469.37 | O31: 0 | P31: 0 | Q31: 0 | R31: 0 | S31: 0 | T31: 0 | U31: 0 | V31: 0 | W31: 0 | X31: 0 | Y31: 0 | Z31: 0 | AA31: 0 | AB31: 0 | AC31: 818B970B-1494-4344-8B40-55F367DBFEC5 | AE31: 0 | AF31: 0 | AK31: =+Table1[[#This Row],[Column11]] -> 0 | AL31: =+Table1[[#This Row],[Column12]] -> 28469.37
... A59: T | B59: 1 | C59: รายได้เงินอุดหนุนรับล่วงหน้า | D59: 2103010102.001 | E59: 0 | F59: 1743000 | G59: 0 | H59: 1743000 | I59: 0 | J59: 0 | M59: =+Table1[[#This Row],[Column7]]+Table1[[#This Row],[คอลัมน์3]]-Table1[[#This Row],[คอลัมน์2]] -> 0 | N59: =+Table1[[#This Row],[Column8]]+Table1[[#This Row],[คอลัมน์2]]-Table1[[#This Row],[คอลัมน์3]] -> 1743000 | O59: 0 | P59: 0 | Q59: 0 | R59: 0 | S59: 0 | T59: 0 | U59: 0 | V59: 0 | W59: 0 | X59: 0 | Y59: 0 | Z59: 0 | AA59: 0 | AB59: 0 | AC59: 7CE4E5A2-67DF-4CDB-892D-9238F88CB290 | AE59: 0 | AF59: 0 | AK59: =+Table1[[#This Row],[Column11]] -> 0 | AL59: =+Table1[[#This Row],[Column12]] -> 1743000
A60: T | B60: 1 | C60: เงินรับฝากอื่น - ระยะสั้น เงินสนับสนุนผู้ประสบภัยพิบัติพายุโซนร้อนปาบึก | D60: 2111020199.999 | E60: 0 | F60: 10000 | G60: 0 | H60: 10000 | I60: 0 | J60: 0 | M60: =+Table1[[#This Row],[Column7]]+Table1[[#This Row],[คอลัมน์3]]-Table1[[#This Row],[คอลัมน์2]] -> 0 | N60: =+Table1[[#This Row],[Column8]]+Table1[[#This Row],[คอลัมน์2]]-Table1[[#This Row],[คอลัมน์3]] -> 10000 | O60: 0 | P60: 0 | Q60: 0 | R60: 0 | S60: 0 | T60: 0 | U60: 0 | V60: 0 | W60: 0 | X60: 0 | Y60: 0 | Z60: 0 | AA60: 0 | AB60: 0 | AC60: 3C1B17A4-5C0F-4560-8647-52A67FDC1654 | AD60: เงินสนับสนุนผู้ประสบภัยพิบัติพายุโซนร้อนปาบึก | AE60: 0 | AF60: 0 | AK60: =+Table1[[#This Row],[Column11]] -> 0 | AL60: =+Table1[[#This Row],[Column12]] -> 10000
A61: T | B61: 1 | C61: เงินประกันสัญญา - ระยะสั้น | D61: 2112010101.001 | E61: 0 | F61: 331900 | G61: 0 | H61: 355363 | I61: 0 | J61: 0 | M61: =+Table1[[#This Row],[Column7]]+Table1[[#This Row],[คอลัมน์3]]-Table1[[#This Row],[คอลัมน์2]] -> 0 | N61: =+Table1[[#This Row],[Column8]]+Table1[[#This Row],[คอลัมน์2]]-Table1[[#This Row],[คอลัมน์3]] -> 355363 | O61: 0 | P61: 0 | Q61: 0 | R61: 0 | S61: 0 | T61: 0 | U61: 0 | V61: 0 | W61: 0 | X61: 23463 | Y61: 0 | Z61: 0 | AA61: 0 | AB61: 0 | AC61: 47E39AA2-84BA-4E43-B8F2-00A2E35F1969 | AE61: 0 | AF61: 0 | AK61: =+Table1[[#This Row],[Column11]] -> 0 | AL61: =+Table1[[#This Row],[Column12]] -> 355363
A62: T | B62: 1 | C62: เงินรับฝากอื่น - ระยะยาว เงินประกันการใช้น้ำ | D62: 2207020102.999 | E62: 0 | F62: 61500 | G62: 0 | H62: 61500 | I62: 0 | J62: 0 | M62: =+Table1[[#This Row],[Column7]]+Table1[[#This Row],[คอลัมน์3]]-Table1[[#This Row],[คอลัมน์2]] -> 0 | N62: =+Table1[[#This Row],[Column8]]+Table1[[#This Row],[คอลัมน์2]]-Table1[[#This Row],[คอลัมน์3]] -> 61500 | O62: 0 | P62: 0 | Q62: 0 | R62: 0 | S62: 0 | T62: 0 | U62: 0 | V62: 0 | W62: 0 | X62: 0 | Y62: 0 | Z62: 0 | AA62: 0 | AB62: 0 | AC62: 1DAC37F2-82A8-4BCD-B5EB-A32693B44206 | AD62: เงินประกันการใช้น้ำ | AE62: 0 | AF62: 0 | AK62: =+Table1[[#This Row],[Column11]] -> 0 | AL62: =+Table1[[#This Row],[Column12]] -> 61500
A63: T | B63: 1 | C63: เงินประกันสัญญา - ระยะยาว | D63: 2208010101.001 | E63: 0 | F63: 167246 | G63: 0 | H63: 167246 | I63: 0 | J63: 0 | M63: =+Table1[[#This Row],[Column7]]+Table1[[#This Row],[คอลัมน์3]]-Table1[[#This Row],[คอลัมน์2]] -> 0 | N63: =+Table1[[#This Row],[Column8]]+Table1[[#This Row],[คอลัมน์2]]-Table1[[#This Row],[คอลัมน์3]] -> 167246 | O63: 0 | P63: 0 | Q63: 0 | R63: 0 | S63: 0 | T63: 0 | U63: 0 | V63: 0 | W63: 0 | X63: 0 | Y63: 0 | Z63: 0 | AA63: 0 | AB63: 0 | AC63: 35F97FF1-B382-41B2-BE9F-DB8A3AF003D3 | AE63: 0 | AF63: 0 | AK63: =+Table1[[#This Row],[Column11]] -> 0 | AL63: =+Table1[[#This Row],[Column12]] -> 167246
A64: T | B64: 1 | C64: เงินสะสม | D64: 3102010101.001 | E64: 0 | F64: 79219570 | G64: 0 | H64: 79219570 | I64: 0 | J64: 0 | M64: =+Table1[[#This Row],[Column7]]+Table1[[#This Row],[คอลัมน์3]]-Table1[[#This Row],[คอลัมน์2]] -> 0 | N64: =+Table1[[#This Row],[Column8]]+Table1[[#This Row],[คอลัมน์2]]-Table1[[#This Row],[คอลัมน์3]] -> 79219570 | O64: 0 | P64: 0 | Q64: 0 | R64: 0 | S64: 0 | T64: 0 | U64: 0 | V64: 0 | W64: 0 | X64: 0 | Y64: 0 | Z64: 0 | AA64: 0 | AB64: 0 | AC64: 606A83FF-C20E-41B3-8916-E13743EE722A | AE64: 0 | AF64: 0 | AJ64: =+F168*0.85 -> 18522036 | AK64: =+Table1[[#This Row],[Column11]] -> 0 | AL64: =+Table1[[#This Row],[Column12]]+AJ64 -> 97741606
A65: T | B65: 1 | C65: เงินทุนสำรองเงินสะสม | D65: 3102010101.002 | E65: 0 | F65: 28863610 | G65: 0 | H65: 28863610 | I65: 0 | J65: 0 | M65: =+Table1[[#This Row],[Column7]]+Table1[[#This Row],[คอลัมน์3]]-Table1[[#This Row],[คอลัมน์2]] -> 0 | N65: =+Table1[[#This Row],[Column8]]+Table1[[#This Row],[คอลัมน์2]]-Table1[[#This Row],[คอลัมน์3]] -> 28863610 | O65: 0 | P65: 0 | Q65: 0 | R65: 0 | S65: 0 | T65: 0 | U65: 0 | V65: 0 | W65: 0 | X65: 0 | Y65: 0 | Z65: 0 | AA65: 0 | AB65: 0 | AC65: 24ED33B5-0AB8-4CB4-965E-7C336108B848 | AE65: 0 | AF65: 0 | AJ65: =+F168*0.15 -> 3268594.6 | AK65: =+Table1[[#This Row],[Column11]] -> 0 | AL65: =+Table1[[#This Row],[Column12]]+AJ65 -> 32132204
A66: T | B66: 1 | C66: รายได้สะสม | D66: 3102010101.003 | E66: 0 | F66: 0 | G66: 0 | H66: 2295356.1 | I66: 0 | J66: 0 | M66: =+Table1[[#This Row],[Column7]]+Table1[[#This Row],[คอลัมน์3]]-Table1[[#This Row],[คอลัมน์2]] -> 0 | N66: =+Table1[[#This Row],[Column8]]+Table1[[#This Row],[คอลัมน์2]]-Table1[[#This Row],[คอลัมน์3]] -> 2295356.1 | O66: 0 | P66: 0 | Q66: 0 | R66: 0 | S66: 0 | T66: 0 | U66: 0 | V66: 0 | W66: 0 | X66: 2295356.1 | Y66: 0 | Z66: 0 | AA66: 0 | AB66: 0 | AC66: 3258F1ED-A8B1-496A-8A51-FB3A26A5BBE2 | AE66: 0 | AF66: 0 | AI66: =+W168 -> 131561.46 | AK66: =+Table1[[#This Row],[Column11]] -> 0 | AL66: =+Table1[[#This Row],[Column12]]-AI66 -> 2163794.7
A67: T | B67: 1 | C67: รายได้ภาษีโรงเรือนและที่ดิน | D67: 4401010101.001 | E67: 0 | F67: 1800 | G67: 0 | H67: 1800 | I67: 0 | J67: 0 | M67: =+Table1[[#This Row],[Column7]]+Table1[[#This Row],[คอลัมน์3]]-Table1[[#This Row],[คอลัมน์2]] -> 0 | N67: =+Table1[[#This Row],[Column8]]+Table1[[#This Row],[คอลัมน์2]]-Table1[[#This Row],[คอลัมน์3]] -> 1800 | O67: 0 | P67: 0 | Q67: 0 | R67: 0 | S67: 0 | T67: 0 | U67: 0 | V67: 0 | W67: 0 | X67: 0 | Y67: 0 | Z67: 0 | AA67: 0 | AB67: 0 | AC67: F7F6BE18-7939-4424-A6C7-5243C1446EDD | AE67: 0 | AF67: 0 | AG67: =+Table1[[#This Row],[Column11]] -> 0 | AH67: =+Table1[[#This Row],[Column12]] -> 1800
A68: T | B68: 1 | C68: รายได้ภาษีบำรุงท้องที่ | D68: 4401010102.001 | E68: 0 | F68: 1260.88 | G68: 0 | H68: 1260.88 | I68: 0 | J68: 0 | M68: =+Table1[[#This Row],[Column7]]+Table1[[#This Row],[คอลัมน์3]]-Table1[[#This Row],[คอลัมน์2]] -> 0 | N68: =+Table1[[#This Row],[Column8]]+Table1[[#This Row],[คอลัมน์2]]-Table1[[#This Row],[คอลัมน์3]] -> 1260.88 | O68: 0 | P68: 0 | Q68: 0 | R68: 0 | S68: 0 | T68: 0 | U68: 0 | V68: 0 | W68: 0 | X68: 0 | Y68: 0 | Z68: 0 | AA68: 0 | AB68: 0 | AC68: 2FDAFB30-E271-4024-88AD-8BB357FA1490 | AE68: 0 | AF68: 0 | AG68: =+Table1[[#This Row],[Column11]] -> 0 | AH68: =+Table1[[#This Row],[Column12]] -> 1260.88
A69: T | B69: 1 | C69: รายได้ภาษีป้าย | D69: 4401010103.001 | E69: 0 | F69: 123855 | G69: 0 | H69: 123855 | I69: 0 | J69: 0 | M69: =+Table1[[#This Row],[Column7]]+Table1[[#This Row],[คอลัมน์3]]-Table1[[#This Row],[คอลัมน์2]] -> 0 | N69: =+Table1[[#This Row],[Column8]]+Table1[[#This Row],[คอลัมน์2]]-Table1[[#This Row],[คอลัมน์3]] -> 123855 | O69: 0 | P69: 0 | Q69: 0 | R69: 0 | S69: 0 | T69: 0 | U69: 0 | V69: 0 | W69: 0 | X69: 0 | Y69: 0 | Z69: 0 | AA69: 0 | AB69: 0 | AC69: 1F7D10B2-C141-414D-9A67-85E1CF428BD5 | AE69: 0 | AF69: 0 | AG69: =+Table1[[#This Row],[Column11]] -> 0 | AH69: =+Table1[[#This Row],[Column12]] -> 123855
A70: T | B70: 1 | C70: รายได้ภาษีที่ดินและสิ่งปลูกสร้าง | D70: 4401010104.001 | E70: 0 | F70: 119761.47 | G70: 0 | H70: 119761.47 | I70: 0 | J70: 0 | M70: =+Table1[[#This Row],[Column7]]+Table1[[#This Row],[คอลัมน์3]]-Table1[[#This Row],[คอลัมน์2]] -> 0 | N70: =+Table1[[#This Row],[Column8]]+Table1[[#This Row],[คอลัมน์2]]-Table1[[#This Row],[คอลัมน์3]] -> 119761.47 | O70: 0 | P70: 0 | Q70: 0 | R70: 0 | S70: 0 | T70: 0 | U70: 0 | V70: 0 | W70: 0 | X70: 0 | Y70: 0 | Z70: 0 | AA70: 0 | AB70: 0 | AC70: D3B49A65-4C5A-432D-9ECB-2639E8B3037F | AE70: 0 | AF70: 0 | AG70: =+Table1[[#This Row],[Column11]] -> 0 | AH70: =+Table1[[#This Row],[Column12]] -> 119761.47
A71: T | B71: 1 | C71: รายได้ค่าธรรมเนียมใบอนุญาตการขายสุรา | D71: 4401030103.001 | E71: 0 | F71: 611.1 | G71: 0 | H71: 611.1 | I71: 0 | J71: 0 | M71: =+Table1[[#This Row],[Column7]]+Table1[[#This Row],[คอลัมน์3]]-Table1[[#This Row],[คอลัมน์2]] -> 0 | N71: =+Table1[[#This Row],[Column8]]+Table1[[#This Row],[คอลัมน์2]]-Table1[[#This Row],[คอลัมน์3]] -> 611.1 | O71: 0 | P71: 0 | Q71: 0 | R71: 0 | S71: 0 | T71: 0 | U71: 0 | V71: 0 | W71: 0 | X71: 0 | Y71: 0 | Z71: 0 | AA71: 0 | AB71: 0 | AC71: D4D21688-688F-4166-AE1B-1222FA376534 | AE71: 0 | AF71: 0 | AG71: =+Table1[[#This Row],[Column11]] -> 0 | AH71: =+Table1[[#This Row],[Column12]] -> 611.1
A72: T | B72: 1 | C72: รายได้ค่าธรรมเนียมเกี่ยวกับการควบคุมอาคาร | D72: 4401030105.001 | E72: 0 | F72: 3500 | G72: 0 | H72: 3500 | I72: 0 | J72: 0 | M72: =+Table1[[#This Row],[Column7]]+Table1[[#This Row],[คอลัมน์3]]-Table1[[#This Row],[คอลัมน์2]] -> 0 | N72: =+Table1[[#This Row],[Column8]]+Table1[[#This Row],[คอลัมน์2]]-Table1[[#This Row],[คอลัมน์3]] -> 3500 | O72: 0 | P72: 0 | Q72: 0 | R72: 0 | S72: 0 | T72: 0 | U72: 0 | V72: 0 | W72: 0 | X72: 0 | Y72: 0 | Z72: 0 | AA72: 0 | AB72: 0 | AC72: 7A4AE2AD-1D86-45FD-8153-4489EC003F76 | AE72: 0 | AF72: 0 | AG72: =+Table1[[#This Row],[Column11]] -> 0 | AH72: =+Table1[[#This Row],[Column12]] -> 3500
A73: T | B73: 1 | C73: รายได้ค่าธรรมเนียมเก็บและขนมูลฝอย | D73: 4401030106.001 | E73: 0 | F73: 43510 | G73: 0 | H73: 43510 | I73: 0 | J73: 0 | M73: =+Table1[[#This Row],[Column7]]+Table1[[#This Row],[คอลัมน์3]]-Table1[[#This Row],[คอลัมน์2]] -> 0 | N73: =+Table1[[#This Row],[Column8]]+Table1[[#This Row],[คอลัมน์2]]-Table1[[#This Row],[คอลัมน์3]] -> 43510 | O73: 0 | P73: 0 | Q73: 0 | R73: 0 | S73: 0 | T73: 0 | U73: 0 | V73: 0 | W73: 0 | X73: 0 | Y73: 0 | Z73: 0 | AA73: 0 | AB73: 0 | AC73: 2B6939CE-051D-4FAF-ABE6-C67AA3238385 | AE73: 0 | AF73: 0 | AG73: =+Table1[[#This Row],[Column11]] -> 0 | AH73: =+Table1[[#This Row],[Column12]] -> 43510
A74: T | B74: 1 | C74: รายได้ค่าธรรมเนียมปิด โปรย ติดตั้งแผ่นประกาศหรือแผ่นปลิวเพื่อการโฆษณา | D74: 4401030110.001 | E74: 0 | F74: 460 | G74: 0 | H74: 460 | I74: 0 | J74: 0 | M74: =+Table1[[#This Row],[Column7]]+Table1[[#This Row],[คอลัมน์3]]-Table1[[#This Row],[คอลัมน์2]] -> 0 | N74: =+Table1[[#This Row],[Column8]]+Table1[[#This Row],[คอลัมน์2]]-Table1[[#This Row],[คอลัมน์3]] -> 460 | O74: 0 | P74: 0 | Q74: 0 | R74: 0 | S74: 0 | T74: 0 | U74: 0 | V74: 0 | W74: 0 | X74: 0 | Y74: 0 | Z74: 0 | AA74: 0 | AB74: 0 | AC74: 159DBB36-1960-4F81-81FB-A8B5A5D28ADF | AE74: 0 | AF74: 0 | AG74: =+Table1[[#This Row],[Column11]] -> 0 | AH74: =+Table1[[#This Row],[Column12]] -> 460
A75: T | B75: 1 | C75: รายได้ค่าธรรมเนียมเกี่ยวกับทะเบียนพาณิชย์ | D75: 4401030127.001 | E75: 0 | F75: 1280 | G75: 0 | H75: 1280 | I75: 0 | J75: 0 | M75: =+Table1[[#This Row],[Column7]]+Table1[[#This Row],[คอลัมน์3]]-Table1[[#This Row],[คอลัมน์2]] -> 0 | N75: =+Table1[[#This Row],[Column8]]+Table1[[#This Row],[คอลัมน์2]]-Table1[[#This Row],[คอลัมน์3]] -> 1280 | O75: 0 | P75: 0 | Q75: 0 | R75: 0 | S75: 0 | T75: 0 | U75: 0 | V75: 0 | W75: 0 | X75: 0 | Y75: 0 | Z75: 0 | AA75: 0 | AB75: 0 | AC75: 73CA60FB-6492-437B-9391-F02435DB2CE0 | AE75: 0 | AF75: 0 | AG75: =+Table1[[#This Row],[Column11]] -> 0 | AH75: =+Table1[[#This Row],[Column12]] -> 1280
A76: T | B76: 1 | C76: รายได้ค่าธรรมเนียมใบอนุญาตการประกอบกิจการน้ำมันเชื้อเพลิง | D76: 4401030130.001 | E76: 0 | F76: 1840 | G76: 0 | H76: 1840 | I76: 0 | J76: 0 | M76: =+Table1[[#This Row],[Column7]]+Table1[[#This Row],[คอลัมน์3]]-Table1[[#This Row],[คอลัมน์2]] -> 0 | N76: =+Table1[[#This Row],[Column8]]+Table1[[#This Row],[คอลัมน์2]]-Table1[[#This Row],[คอลัมน์3]] -> 1840 | O76: 0 | P76: 0 | Q76: 0 | R76: 0 | S76: 0 | T76: 0 | U76: 0 | V76: 0 | W76: 0 | X76: 0 | Y76: 0 | Z76: 0 | AA76: 0 | AB76: 0 | AC76: 4AFC584A-B382-472B-AC35-3A8B6F1FF2D7 | AE76: 0 | AF76: 0 | AG76: =+Table1[[#This Row],[Column11]] -> 0 | AH76: =+Table1[[#This Row],[Column12]] -> 1840
A77: T | B77: 1 | C77: รายได้ค่าธรรมเนียมเกี่ยวกับการขุดดินและถมดิน | D77: 4401030134.001 | E77: 0 | F77: 2000 | G77: 0 | H77: 2000 | I77: 0 | J77: 0 | M77: =+Table1[[#This Row],[Column7]]+Table1[[#This Row],[คอลัมน์3]]-Table1[[#This Row],[คอลัมน์2]] -> 0 | N77: =+Table1[[#This Row],[Column8]]+Table1[[#This Row],[คอลัมน์2]]-Table1[[#This Row],[คอลัมน์3]] -> 2000 | O77: 0 | P77: 0 | Q77: 0 | R77: 0 | S77: 0 | T77: 0 | U77: 0 | V77: 0 | W77: 0 | X77: 0 | Y77: 0 | Z77: 0 | AA77: 0 | AB77: 0 | AC77: 5B5BA683-07A4-4990-9C6B-946E1ED5EFAC | AE77: 0 | AF77: 0 | AG77: =+Table1[[#This Row],[Column11]] -> 0 | AH77: =+Table1[[#This Row],[Column12]] -> 2000
A78: T | B78: 1 | C78: รายได้ค่าธรรมเนียมการสมัครรับเลือกตั้งสมาชิกสภาท้องถิ่นหรือผู้บริหารท้องถิ่น | D78: 4401030137.001 | E78: 0 | F78: 6000 | G78: 0 | H78: 6000 | I78: 0 | J78: 0 | M78: =+Table1[[#This Row],[Column7]]+Table1[[#This Row],[คอลัมน์3]]-Table1[[#This Row],[คอลัมน์2]] -> 0 | N78: =+Table1[[#This Row],[Column8]]+Table1[[#This Row],[คอลัมน์2]]-Table1[[#This Row],[คอลัมน์3]] -> 6000 | O78: 0 | P78: 0 | Q78: 0 | R78: 0 | S78: 0 | T78: 0 | U78: 0 | V78: 0 | W78: 0 | X78: 0 | Y78: 0 | Z78: 0 | AA78: 0 | AB78: 0 | AC78: C022A4B1-6D42-42A9-A91F-C53687488C24 | AE78: 0 | AF78: 0 | AG78: =+Table1[[#This Row],[Column11]] -> 0 | AH78: =+Table1[[#This Row],[Column12]] -> 6000
... A99: T | B99: 1 | C99: รายได้เงินอุดหนุนเฉพาะกิจ | D99: 4403010104.001 | E99: 0 | F99: 14293900 | G99: 0 | H99: 14293900 | I99: 0 | J99: 0 | M99: =+Table1[[#This Row],[Column7]]+Table1[[#This Row],[คอลัมน์3]]-Table1[[#This Row],[คอลัมน์2]] -> 0 | N99: =+Table1[[#This Row],[Column8]]+Table1[[#This Row],[คอลัมน์2]]-Table1[[#This Row],[คอลัมน์3]] -> 14293900 | O99: 0 | P99: 0 | Q99: 0 | R99: 0 | S99: 0 | T99: 0 | U99: 0 | V99: 0 | W99: 0 | X99: 0 | Y99: 0 | Z99: 0 | AA99: 0 | AB99: 0 | AC99: D9C986A1-E0F2-4F0C-8D4E-EBA35000E36E | AE99: 0 | AF99: 0 | AG99: =+Table1[[#This Row],[Column11]] -> 0 | AH99: =+Table1[[#This Row],[Column12]] -> 14293900
A100: T | B100: 1 | C100: รายได้เงินช่วยเหลือจากงบทั่วไป | D100: 4404050104.001 | E100: 0 | F100: 0 | G100: 0 | H100: 2940396.3 | I100: 2940396.3 | J100: 0 | M100: =+Table1[[#This Row],[Column7]]+Table1[[#This Row],[คอลัมน์3]]-Table1[[#This Row],[คอลัมน์2]] -> 0 | N100: =+Table1[[#This Row],[Column8]]+Table1[[#This Row],[คอลัมน์2]]-Table1[[#This Row],[คอลัมน์3]]+Table1[[#This Row],[Column10]]-Table1[[#This Row],[Column9]] -> 0 | O100: 0 | P100: 0 | Q100: 0 | R100: 0 | S100: 0 | T100: 0 | U100: 0 | V100: 0 | W100: 0 | X100: 2940396.3 | Y100: 0 | Z100: 0 | AA100: 0 | AB100: 0 | AC100: 74367AC5-0AC0-4D61-92A7-027402DF7593 | AE100: 0 | AF100: 9 | AG100: =+Table1[[#This Row],[Column11]] -> 0 | AH100: =+Table1[[#This Row],[Column12]] -> 0
A101: T | B101: 1 | C101: รายได้ดอกเบี้ยเงินฝากที่สถาบันการเงิน | D101: 4404050105.001 | E101: 0 | F101: 0 | G101: 0 | H101: 5721.44 | I101: 0 | J101: 0 | M101: =+Table1[[#This Row],[Column7]]+Table1[[#This Row],[คอลัมน์3]]-Table1[[#This Row],[คอลัมน์2]] -> 0 | N101: =+Table1[[#This Row],[Column8]]+Table1[[#This Row],[คอลัมน์2]]-Table1[[#This Row],[คอลัมน์3]] -> 5721.44 | O101: 0 | P101: 0 | Q101: 0 | R101: 0 | S101: 0 | T101: 0 | U101: 0 | V101: 0 | W101: 0 | X101: 5721.44 | Y101: 0 | Z101: 0 | AA101: 0 | AB101: 0 | AC101: 3FF4F7AA-1DA6-4386-8EC4-065C535E4716 | AE101: 0 | AF101: 0 | AG101: =+Table1[[#This Row],[Column11]] -> 0 | AH101: =+Table1[[#This Row],[Column12]] -> 5721.44
A102: T | B102: 1 | C102: เงินเดือน | D102: 5101010101.001 | E102: 5184571.3 | F102: 0 | G102: 6452371.3 | H102: 0 | I102: 0 | J102: 0 | M102: =+Table1[[#This Row],[Column7]]+Table1[[#This Row],[คอลัมน์3]]-Table1[[#This Row],[คอลัมน์2]] -> 6452371.3 | N102: =+Table1[[#This Row],[Column8]]+Table1[[#This Row],[คอลัมน์2]]-Table1[[#This Row],[คอลัมน์3]] -> 0 | O102: 0 | P102: 0 | Q102: 0 | R102: 0 | S102: 0 | T102: 0 | U102: 0 | V102: 0 | W102: 1267800 | X102: 0 | Y102: 0 | Z102: 0 | AA102: 0 | AB102: 0 | AC102: D4E15270-AAC1-4DC2-8A5F-B7DD007A379D | AE102: 0 | AF102: 0 | AG102: =+Table1[[#This Row],[Column11]] -> 6452371.3 | AH102: =+Table1[[#This Row],[Column12]] -> 0
A103: T | B103: 1 | C103: เงินประจำตำแหน่ง | D103: 5101010103.001 | E103: 211532.26 | F103: 0 | G103: 211532.26 | H103: 0 | I103: 0 | J103: 0 | M103: =+Table1[[#This Row],[Column7]]+Table1[[#This Row],[คอลัมน์3]]-Table1[[#This Row],[คอลัมน์2]] -> 211532.26 | N103: =+Table1[[#This Row],[Column8]]+Table1[[#This Row],[คอลัมน์2]]-Table1[[#This Row],[คอลัมน์3]] -> 0 | O103: 0 | P103: 0 | Q103: 0 | R103: 0 | S103: 0 | T103: 0 | U103: 0 | V103: 0 | W103: 0 | X103: 0 | Y103: 0 | Z103: 0 | AA103: 0 | AB103: 0 | AC103: B8E051C4-E6C2-4FF3-9E69-278E44042D7E | AE103: 0 | AF103: 0 | AG103: =+Table1[[#This Row],[Column11]] -> 211532.26 | AH103: =+Table1[[#This Row],[Column12]] -> 0
A104: T | B104: 1 | C104: เงินวิทยฐานะ | D104: 5101010111.001 | E104: 0 | F104: 0 | G104: 122500 | H104: 0 | I104: 0 | J104: 0 | M104: =+Table1[[#This Row],[Column7]]+Table1[[#This Row],[คอลัมน์3]]-Table1[[#This Row],[คอลัมน์2]] -> 122500 | N104: =+Table1[[#This Row],[Column8]]+Table1[[#This Row],[คอลัมน์2]]-Table1[[#This Row],[คอลัมน์3]] -> 0 | O104: 0 | P104: 0 | Q104: 0 | R104: 0 | S104: 0 | T104: 0 | U104: 0 | V104: 0 | W104: 122500 | X104: 0 | Y104: 0 | Z104: 0 | AA104: 0 | AB104: 0 | AC104: A17D51A5-03C3-49CB-B240-BAE2957A210B | AE104: 0 | AF104: 0 | AG104: =+Table1[[#This Row],[Column11]] -> 122500 | AH104: =+Table1[[#This Row],[Column12]] -> 0
A105: T | B105: 1 | C105: ค่าจ้าง | D105: 5101010113.001 | E105: 234780 | F105: 0 | G105: 234780 | H105: 0 | I105: 0 | J105: 0 | M105: =+Table1[[#This Row],[Column7]]+Table1[[#This Row],[คอลัมน์3]]-Table1[[#This Row],[คอลัมน์2]] -> 234780 | N105: =+Table1[[#This Row],[Column8]]+Table1[[#This Row],[คอลัมน์2]]-Table1[[#This Row],[คอลัมน์3]] -> 0 | O105: 0 | P105: 0 | Q105: 0 | R105: 0 | S105: 0 | T105: 0 | U105: 0 | V105: 0 | W105: 0 | X105: 0 | Y105: 0 | Z105: 0 | AA105: 0 | AB105: 0 | AC105: DBD16F9A-958D-4707-AE78-5044E63BC789 | AE105: 0 | AF105: 0 | AG105: =+Table1[[#This Row],[Column11]] -> 234780 | AH105: =+Table1[[#This Row],[Column12]] -> 0
A106: T | B106: 1 | C106: เงินเดือน (ฝ่ายการเมือง) | D106: 5101010199.001 | E106: 2608436.1 | F106: 0 | G106: 2608436.1 | H106: 0 | I106: 0 | J106: 0 | M106: =+Table1[[#This Row],[Column7]]+Table1[[#This Row],[คอลัมน์3]]-Table1[[#This Row],[คอลัมน์2]] -> 2608436.1 | N106: =+Table1[[#This Row],[Column8]]+Table1[[#This Row],[คอลัมน์2]]-Table1[[#This Row],[คอลัมน์3]] -> 0 | O106: 0 | P106: 0 | Q106: 0 | R106: 0 | S106: 0 | T106: 0 | U106: 0 | V106: 0 | W106: 0 | X106: 0 | Y106: 0 | Z106: 0 | AA106: 0 | AB106: 0 | AC106: FD6A1FCC-8DC8-4534-96FF-D288C1AE28FC | AE106: 0 | AF106: 0 | AG106: =+Table1[[#This Row],[Column11]] -> 2608436.1 | AH106: =+Table1[[#This Row],[Column12]] -> 0
A107: T | B107: 1 | C107: เงินค่าตอบแทนพนักงานขององค์กรปกครองส่วนท้องถิ่น | D107: 5101010199.002 | E107: 2129199.4 | F107: 0 | G107: 2700679.4 | H107: 0 | I107: 0 | J107: 0 | M107: =+Table1[[#This Row],[Column7]]+Table1[[#This Row],[คอลัมน์3]]-Table1[[#This Row],[คอลัมน์2]] -> 2700679.4 | N107: =+Table1[[#This Row],[Column8]]+Table1[[#This Row],[คอลัมน์2]]-Table1[[#This Row],[คอลัมน์3]] -> 0 | O107: 0 | P107: 0 | Q107: 0 | R107: 0 | S107: 0 | T107: 0 | U107: 0 | V107: 0 | W107: 571480 | X107: 0 | Y107: 0 | Z107: 0 | AA107: 0 | AB107: 0 | AC107: CF3E6E45-C724-46BB-8BF7-056F2BAFC845 | AE107: 0 | AF107: 0 | AG107: =+Table1[[#This Row],[Column11]] -> 2700679.4 | AH107: =+Table1[[#This Row],[Column12]] -> 0
A108: T | B108: 1 | C108: เงินสมทบกองทุนประกันสังคม | D108: 5101020106.001 | E108: 79040 | F108: 0 | G108: 100848 | H108: 0 | I108: 0 | J108: 0 | M108: =+Table1[[#This Row],[Column7]]+Table1[[#This Row],[คอลัมน์3]]-Table1[[#This Row],[คอลัมน์2]] -> 100848 | N108: =+Table1[[#This Row],[Column8]]+Table1[[#This Row],[คอลัมน์2]]-Table1[[#This Row],[คอลัมน์3]] -> 0 | O108: 0 | P108: 0 | Q108: 0 | R108: 0 | S108: 0 | T108: 0 | U108: 0 | V108: 0 | W108: 21808 | X108: 0 | Y108: 0 | Z108: 0 | AA108: 0 | AB108: 0 | AC108: EA554384-BF4B-4F0F-9639-EBA8F35644B1 | AE108: 0 | AF108: 0 | AG108: =+Table1[[#This Row],[Column11]] -> 100848 | AH108: =+Table1[[#This Row],[Column12]] -> 0
A109: T | B109: 1 | C109: ค่าเช่าบ้าน | D109: 5101020108.001 | E109: 107387 | F109: 0 | G109: 107387 | H109: 0 | I109: 0 | J109: 0 | M109: =+Table1[[#This Row],[Column7]]+Table1[[#This Row],[คอลัมน์3]]-Table1[[#This Row],[คอลัมน์2]] -> 107387 | N109: =+Table1[[#This Row],[Column8]]+Table1[[#This Row],[คอลัมน์2]]-Table1[[#This Row],[คอลัมน์3]] -> 0 | O109: 0 | P109: 0 | Q109: 0 | R109: 0 | S109: 0 | T109: 0 | U109: 0 | V109: 0 | W109: 0 | X109: 0 | Y109: 0 | Z109: 0 | AA109: 0 | AB109: 0 | AC109: 68ACAF99-8A23-4B10-B0A2-08F72BE56FB7 | AE109: 0 | AF109: 0 | AG109: =+Table1[[#This Row],[Column11]] -> 107387 | AH109: =+Table1[[#This Row],[Column12]] -> 0
A110: T | B110: 1 | C110: เงินเพิ่ม | D110: 5101020114.001 | E110: 84000 | F110: 0 | G110: 84000 | H110: 0 | I110: 0 | J110: 0 | M110: =+Table1[[#This Row],[Column7]]+Table1[[#This Row],[คอลัมน์3]]-Table1[[#This Row],[คอลัมน์2]] -> 84000 | N110: =+Table1[[#This Row],[Column8]]+Table1[[#This Row],[คอลัมน์2]]-Table1[[#This Row],[คอลัมน์3]] -> 0 | O110: 0 | P110: 0 | Q110: 0 | R110: 0 | S110: 0 | T110: 0 | U110: 0 | V110: 0 | W110: 0 | X110: 0 | Y110: 0 | Z110: 0 | AA110: 0 | AB110: 0 | AC110: 0C71106F-4288-44C7-BE4E-2A2B600FDEAA | AE110: 0 | AF110: 0 | AG110: =+Table1[[#This Row],[Column11]] -> 84000 | AH110: =+Table1[[#This Row],[Column12]] -> 0
A111: T | B111: 1 | C111: เงินสมทบ กบท. | D111: 5101020199.001 | E111: 690000 | F111: 0 | G111: 690000 | H111: 0 | I111: 0 | J111: 0 | M111: =+Table1[[#This Row],[Column7]]+Table1[[#This Row],[คอลัมน์3]]-Table1[[#This Row],[คอลัมน์2]] -> 690000 | N111: =+Table1[[#This Row],[Column8]]+Table1[[#This Row],[คอลัมน์2]]-Table1[[#This Row],[คอลัมน์3]] -> 0 | O111: 0 | P111: 0 | Q111: 0 | R111: 0 | S111: 0 | T111: 0 | U111: 0 | V111: 0 | W111: 0 | X111: 0 | Y111: 0 | Z111: 0 | AA111: 0 | AB111: 0 | AC111: 17A13D18-A362-4FB6-ADED-3F6663142E60 | AE111: 0 | AF111: 0 | AG111: =+Table1[[#This Row],[Column11]] -> 690000 | AH111: =+Table1[[#This Row],[Column12]] -> 0
A112: T | B112: 1 | C112: เงินสมทบกองทุนเงินทดแทน | D112: 5101020199.002 | E112: 4252.25 | F112: 0 | G112: 5520.25 | H112: 0 | I112: 0 | J112: 0 | M112: =+Table1[[#This Row],[Column7]]+Table1[[#This Row],[คอลัมน์3]]-Table1[[#This Row],[คอลัมน์2]] -> 5520.25 | N112: =+Table1[[#This Row],[Column8]]+Table1[[#This Row],[คอลัมน์2]]-Table1[[#This Row],[คอลัมน์3]] -> 0 | O112: 0 | P112: 0 | Q112: 0 | R112: 0 | S112: 0 | T112: 0 | U112: 0 | V112: 0 | W112: 1268 | X112: 0 | Y112: 0 | Z112: 0 | AA112: 0 | AB112: 0 | AC112: 34BF5477-ABEC-4BC2-814E-0CEB5335FCAB | AE112: 0 | AF112: 0 | AG112: =+Table1[[#This Row],[Column11]] -> 5520.25 | AH112: =+Table1[[#This Row],[Column12]] -> 0
... A161: T | B161: 1 | C161: ค่าจำหน่าย - ครุภัณฑ์อื่น | D161: 5203010126.001 | E161: 11933.7 | F161: 0 | G161: 11933.7 | H161: 0 | I161: 0 | J161: 0 | M161: =+Table1[[#This Row],[Column7]]+Table1[[#This Row],[คอลัมน์3]]-Table1[[#This Row],[คอลัมน์2]] -> 11933.7 | N161: =+Table1[[#This Row],[Column8]]+Table1[[#This Row],[คอลัมน์2]]-Table1[[#This Row],[คอลัมน์3]] -> 0 | O161: 0 | P161: 0 | Q161: 0 | R161: 0 | S161: 0 | T161: 0 | U161: 0 | V161: 0 | W161: 0 | X161: 0 | Y161: 0 | Z161: 0 | AA161: 0 | AB161: 0 | AC161: 88CBF5D2-A24E-4455-A38F-BB34150F0A74 | AE161: 0 | AF161: 0 | AG161: =+Table1[[#This Row],[Column11]] -> 11933.7 | AH161: =+Table1[[#This Row],[Column12]] -> 0
A162: T | B162: 1 | C162: ค่าใช้จ่ายระหว่างหน่วยงาน - งบทั่วไปโอนให้โรงเรียน และศูนย์พัฒนาเด็กเล็ก | D162: 5210010121.005 | E162: 2940396.3 | F162: 0 | G162: 2940396.3 | H162: 0 | I162: 0 | J162: 2940396.3 | M162: =+Table1[[#This Row],[Column7]]+Table1[[#This Row],[คอลัมน์3]]-Table1[[#This Row],[คอลัมน์2]]+Table1[[#This Row],[Column9]]-Table1[[#This Row],[Column10]] -> 0 | N162: =+Table1[[#This Row],[Column8]]+Table1[[#This Row],[คอลัมน์2]]-Table1[[#This Row],[คอลัมน์3]] -> 0 | O162: 0 | P162: 0 | Q162: 0 | R162: 0 | S162: 0 | T162: 0 | U162: 0 | V162: 0 | W162: 0 | X162: 0 | Y162: 0 | Z162: 0 | AA162: 0 | AB162: 0 | AC162: 90CE12B4-3680-4472-88A9-CD781AAD291E | AE162: 9 | AF162: 0 | AG162: =+Table1[[#This Row],[Column11]] -> 0 | AH162: =+Table1[[#This Row],[Column12]] -> 0
A163: T | B163: 1 | C163: เงินสมทบกองทุนหลักประกันสุขภาพองค์กรปกครองส่วนท้องถิ่น | D163: 5212010199.002 | E163: 154890 | F163: 0 | G163: 154890 | H163: 0 | I163: 0 | J163: 0 | M163: =+Table1[[#This Row],[Column7]]+Table1[[#This Row],[คอลัมน์3]]-Table1[[#This Row],[คอลัมน์2]] -> 154890 | N163: =+Table1[[#This Row],[Column8]]+Table1[[#This Row],[คอลัมน์2]]-Table1[[#This Row],[คอลัมน์3]] -> 0 | O163: 0 | P163: 0 | Q163: 0 | R163: 0 | S163: 0 | T163: 0 | U163: 0 | V163: 0 | W163: 0 | X163: 0 | Y163: 0 | Z163: 0 | AA163: 0 | AB163: 0 | AC163: AAAC9E8F-CE95-4355-9C9C-21AD503481CD | AE163: 0 | AF163: 0 | AG163: =+Table1[[#This Row],[Column11]] -> 154890 | AH163: =+Table1[[#This Row],[Column12]] -> 0
A164: T | B164: 1 | C164: ค่าบำรุงสมาคมองค์กรปกครองส่วนท้องถิ่น | D164: 5212010199.005 | E164: 46473.02 | F164: 0 | G164: 46473.02 | H164: 0 | I164: 0 | J164: 0 | M164: =+Table1[[#This Row],[Column7]]+Table1[[#This Row],[คอลัมน์3]]-Table1[[#This Row],[คอลัมน์2]] -> 46473.02 | N164: =+Table1[[#This Row],[Column8]]+Table1[[#This Row],[คอลัมน์2]]-Table1[[#This Row],[คอลัมน์3]] -> 0 | O164: 0 | P164: 0 | Q164: 0 | R164: 0 | S164: 0 | T164: 0 | U164: 0 | V164: 0 | W164: 0 | X164: 0 | Y164: 0 | Z164: 0 | AA164: 0 | AB164: 0 | AC164: 1E57FF25-854D-4ACF-B114-4EB9EF90509C | AE164: 0 | AF164: 0 | AG164: =+Table1[[#This Row],[Column11]] -> 46473.02 | AH164: =+Table1[[#This Row],[Column12]] -> 0
A165: T | B165: 1 | C165: รวม | E165: 2.1856691e+08 | F165: 2.1856691e+08 | G165: 2.2526386e+08 | H165: 2.2526386e+08 | I165: 2940396.3 | J165: 2940396.3 | M165: 2.2232346e+08 | N165: 2.2232346e+08 | O165: 0 | P165: 0 | Q165: 0 | R165: 0 | S165: 0 | T165: 0 | U165: 0 | V165: 0 | W165: 6696950.7 | X165: 6696950.7 | Y165: 0 | Z165: 0 | AA165: 0 | AB165: 0 | AG165: =SUM(AG67:AG164) -> 44304482 | AH165: =SUM(AH67:AH164) -> 65963551 | AK165: =SUM(AK4:AK164) -> 1.7731298e+08 | AL165: =SUM(AL4:AL164) -> 1.7731298e+08
E167: =SUM(E102:E164) -> 44167199 | F167: =SUM(F67:F164) -> 65957830 | W167: =SUM(W102:W164) -> 3077679.2 | X167: =SUM(X67:X164) -> 2946117.8
C168: ผลต่าง | F168: =+F167-E167 -> 21790631 | W168: =+W167-X167 -> 131561.46 | AH168: =+AH165-AG165 -> 21659069 | AL168: =+AK165-AL165 -> 0

Sheet งบฐานะการเงิน
A1: =+L!A1 -> เทศบาลตำบลหลักช้าง
A2: งบแสดงฐานะการเงิน
A3: ณ วันที่ 30 กันยายน 2565
I4: (หน่วย:บาท)
A5: สินทรัพย์ | G5: หมายเหตุ | I5: ปี 2565 | J5: ปี 2564
B6: สินทรัพย์หมุนเวียน
C7: เงินสดและรายการเทียบเท่าเงินสด | G7: 4 | I7: =+'4-5'!D11 -> 73138288 | J7: =+'4-5'!F11 -> 64794995
C8: ลูกหนี้การค้า | G8: 5 | I8: =+'5'!D10 -> 2755037.7 | J8: =+'5'!E10 -> 2294990.2
C9: ลูกหนี้เงินโอนและรายการอุดหนุนระยะสั้น | G9: 6 | I9: =+'6-7'!E10 -> 6350036.4 | J9: =+'6-7'!G10 -> 18122.29
C10: ลูกหนี้อื่นระยะสั้น | G10: 7 | I10: =+'7'!E20 -> 147309.73 | J10: =+'7'!F20 -> 148400.1
C11: เงินให้กู้ยืมระยะสั้น | I11: xxx | J11: xxx
C12: เงินลงทุนระยะสั้น | G12: 8 | I12: =+'8-11'!B7 -> 16814131 | J12: =+'8-11'!D7 -> 13258843
C13: สินค้าคงเหลือ | I13: xxx | J13: xxx
C14: วัสดุคงเหลือ | G14: 9 | I14: =+'9'!B8 -> 187949.7 | J14: =+'9'!C8 -> 411392.5
C15: สินทรัพย์หมุนเวียนอื่น | G15: 10 | I15: =+'10'!B13 -> 6750 | J15: =+'10'!C13 -> 11858.12
C16: รวมสินทรัพย์หมุนเวียน | I16: =SUM(I7:I15) -> 99399502 | J16: =SUM(J7:J15) -> 80938602
B17: สินทรัพย์ไม่หมุนเวียน
C18: เงินให้กู้ยืมระยะยาว | I18: xxx | J18: xxx
C19: เงินลงทุนระยะยาว | G19: 11 | I19: =+'11'!B11 -> 6449883.6 | J19: =+'11'!C11 -> 5348885.3
C20: ที่ดิน อาคาร และอุปกรณ์ - สุทธิ | G20: 12 | I20: =+'12-13'!B21 -> 3715145 | J20: =+'12-13'!C21 -> 3388000.8
C21: สินทรัพย์โครงสร้างพื้นฐาน - สุทธิ | G21: 13 | I21: =+'13'!B24 -> 30650610 | J21: =+'13'!C24 -> 21387724
C22: สินทรัพย์ไม่มีตัวตน - สุทธิ | G22: 18 | I22: xxx | J22: xxx
C23: อสังหาริมทรัพย์เพื่อการลงทุน | G23: 19 | I23: xxx | J23: xxx
C24: สินทรัพย์ไม่หมุนเวียนอื่น | G24: 20 | I24: xxx | J24: xxx
C25: รวมสินทรัพย์ไม่หมุนเวียน | I25: =SUM(I18:I24) -> 40815638 | J25: =SUM(J18:J24) -> 30124610
A26: รวมสินทรัพย์ | I26: =+I16+I25 -> 1.4021514e+08 | J26: =+J16+J25 -> 1.1106321e+08
A27: หนี้สินและสินทรัพย์สุทธิ/ส่วนทุน
A28: หนี้สิน
B29: หนี้สินหมุนเวียน
C30: เจ้าหนี้การค้า | G30: 14 | I30: =+'14-16'!B6 -> 5671300 | J30: =+'14-16'!C6 -> 97771.3
C31: เจ้าหนี้เงินโอนและรายการอุดหนุนระยะสั้น | G31: 15 | I31: =+'15'!B12 -> 1743000 | J31: =+'15'!C12 -> 0
C32: เจ้าหนี้อื่นระยะสั้น | G32: 14 | I32: =+'14-16'!B16-'14-16'!B6 -> 169126.36 | J32: =+'14-16'!C7+'14-16'!C11+'14-16'!C12+'14-16'!C15 -> 135918.83
C33: เงินกู้ยืมระยะสั้น | G33: 23 | I33: xxx | J33: xxx
C34: ส่วนของเงินกู้ยืมระยะยาวที่ถึงกำหนดชำระภายใน 1 ปี | G34: 27 | I34: xxx | J34: xxx
C35: ส่วนของเจ้าหนี้ตามสัญญาเช่าการเงินที่ถึงกำหนดชำระภายใน 1 ปี | G35: 28 | I35: xxx | J35: xxx
C36: เงินรับฝากระยะสั้น | G36: 16 | I36: =+'16'!B14 -> 365363 | J36: =+'16'!C14 -> 123295.25
C37: ประมาณการหนี้สินระยะสั้น | G37: 25 | I37: xxx | J37: xxx
C38: หนี้สินหมุนเวียนอื่น | G38: 26 | I38: xxx | J38: xxx
C39: รวมหนี้สินหมุนเวียน | I39: =SUM(I30:I38) -> 7948789.4 | J39: =SUM(J30:J38) -> 356985.38
B40: หนี้สินไม่หมุนเวียน
C41: เจ้าหนี้ระยะยาว | I41: xxx | J41: xxx
C42: เจ้าหนี้เงินโอนและรายการอุดหนุนระยะยาว | G42: 27 | I42: xxx | J42: xxx
C43: เงินกู้ยืมระยะยาว - สุทธิ | G43: 28 | I43: xxx | J43: xxx
C44: เจ้าหนี้ตามสัญญาเช่าการเงินระยะยาว - สุทธิ | G44: 29 | I44: xxx | J44: xxx
C45: เงินรับฝากระยะยาว | G45: 17 | I45: =+'17'!B12 -> 228746 | J45: =+'17'!C12 -> 344180
C46: ประมาณการหนี้สินระยะยาว | G46: 31 | I46: xxx | J46: xxx
C47: หนี้สินไม่หมุนเวียนอื่น | G47: 32 | I47: xxx | J47: xxx
C48: รวมหนี้สินไม่หมุนเวียน | I48: =SUM(I41:I47) -> 228746 | J48: =SUM(J41:J47) -> 344180
A49: รวมหนี้สิน | I49: =+I39+I48 -> 8177535.4 | J49: =+J39+J48 -> 701165.38
I54: (หน่วย:บาท)
A55: สินทรัพย์สุทธิ/ส่วนทุน | G55: หมายเหตุ | I55: ปี 2565 | J55: ปี 2564
B56: รายได้สูง/(ต่ำ)กว่าค่าใช้จ่ายสะสม | G56: 19 | I56: =+'19-20'!C11 -> 1.320376e+08 | J56: =+'19-20'!D11 -> 1.1036205e+08
B57: องค์ประกอบอื่นของสินทรัพย์สุทธิ/ส่วนทุน | G57: 37 | I57: xxx | J57: xxx
B58: กำไร/ขาดทุนสุทธิ | G58: งบส่วนทุน | I58: xxx | J58: xxx
A59: รวมสินทรัพย์สุทธิ/ส่วนทุน | I59: =SUM(I56:I58) -> 1.320376e+08 | J59: =SUM(J56:J58) -> 1.1036205e+08
A60: รวมหนี้สิ้นและสินทรัพย์สุทธิ/ส่วนทุน | I60: =+I49+I59 -> 1.4021514e+08 | J60: =+J49+J59 -> 1.1106321e+08
B61: หมายเหตุประกอบงบการเงินเป็นส่วนหนึ่งของรายงานการเงินนี้ | I61: =+I26-I60 -> 0 | J61: =+J26-J60 -> 0

Sheet งบผลการดำเนินงาน
A1: =+L!A1 -> เทศบาลตำบลหลักช้าง
A2: งบแสดงผลการดำเนินงานทางการเงิน
A3: =+L!A3 -> สำหรับปีสิ้นสุดวันที่ 30 กันยายน 2565
A4: (หน่วย:บาท)
C5: หมายเหตุ | D5: ปี 2565 | E5: ปี 2564
A6: รายได้
B7: รายได้จากงบประมาณ | D7: xxx | E7: xxx
B8: รายได้ภาษีจัดสรร | C8: 20 | D8: =+'20'!C27 -> 23495513 | E8: =+'20'!D27 -> 21870687
B9: รายได้จากการขายสินค้าและบริการ | C9: 21 | D9: =+'21-23'!B21 -> 952569 | E9: =+'21-23'!C21 -> 926109
B10: รายได้จากการอุดหนุนจากหน่วยงานภาครัฐ | C10: 22 | D10: =+'22'!B13 -> 40658579 | E10: =+'22'!C13 -> 32237911
B11: รายได้จากการจัดเก็บภาษี ค่าธรรมเนียม ค่าปรับ และใบอนุญาต | C11: 23 | D11: =+'23'!B79 -> 337113.95 | E11: =+'23'!C79 -> 1232076.5
B12: รายได้จากการอุดหนุนอื่นและบริจาค | D12: xxx | E12: xxx
B13: รายได้ของกิจการเฉพาะการและหน่วยงานภายใต้สังกัด | C13: 24 | D13: =+'24-25'!B153 -> 5721.44 | E13: =+'24-25'!C153 -> 6950.81
B14: รายได้อื่น | C14: 25 | D14: =+'25'!B28 -> 447864.14 | E14: =+'25'!C28 -> 641357.6
A15: รวมรายได้ | D15: =SUM(D7:D14) -> 65897360 | E15: =SUM(E7:E14) -> 56915091
A16: ค่าใช้จ่าย
B17: ค่าใช้จ่ายบุคลากร | C17: 26 | D17: =+'26-27'!B31 -> 13623717 | E17: =+'26-27'!C31 -> 12202824
B18: ค่าบำเหน็จบำนาญ | C18: 27 | D18: =+'27'!B18 -> 0 | E18: =+'27'!C18 -> 418932
B19: ค่าตอบแทน | C19: 28 | D19: =+'28-30'!B10 -> 261940 | E19: =+'28-30'!C10 -> 304150
B20: ค่าใช้สอย | C20: 29 | D20: =+'29'!B20 -> 2251343.5 | E20: =+'29'!C20 -> 1352096.6
B21: ค่าวัสดุ | C21: 30 | D21: =+'30'!B10 -> 856719.38 | E21: =+'30'!C10 -> 557889.12
B22: ค่าสาธารณูปโภค | C22: 31 | D22: =+'31-33'!B11 -> 280217.55 | E22: =+'31-33'!C11 -> 374305.93
B23: ต้นทุนขายสินค้าและบริการ | C23: 32 | D23: =+'31-33'!B19 -> 884455.02 | E23: =+'31-33'!C19 -> 827526.45
B24: ค่าเสื่อมราคาและค่าตัดจัดหน่าย | C24: 33 | D24: =+'31-33'!B30 -> 5627534.5 | E24: =+'31-33'!C30 -> 4084033
B25: ค่าใช้จ่ายจากการอุดหนุนจากหน่วยงานภาครัฐ | C25: 34 | D25: =+'34-35'!B17 -> 6800681.8 | E25: =+'34-35'!C17 -> 6183784.2
B26: ค่าใช้จ่ายจากการอุดหนุนอื่นและบริจาค | C26: 35 | D26: =+'35'!B25 -> 13504577 | E26: =+'35'!C25 -> 13401116
B27: ค่าใช้จ่ายอื่น | C27: 36 | D27: =+'36'!B78 -> 147105.42 | E27: =+'36'!C78 -> 2055415.5
A28: รวมค่าใช้จ่าย | D28: =SUM(D17:D27) -> 44238291 | E28: =SUM(E17:E27) -> 41762073
A29: รายได้สูง/(ต่ำ) กว่าค่าใช้จ่ายก่อนต้นทุนทางการเงิน | D29: =+D15-D28 -> 21659069 | E29: =+E15-E28 -> 15153018
B30: ต้นทุนทางการเงิน | D30: 0 | E30: 0
A31: รายได้สูง/(ต่ำ) กว่าค่าใช้จ่ายสุทธิ | D31: =+D29-D30 -> 21659069 | E31: =+E29-E30 -> 15153018
A33: หมายเหตุประกอบงบการเงินเป็นส่วนหนึ่งของรายงานการเงินนี้

Sheet งบเปลี่ยนแปลง
A1: =+L!A1 -> เทศบาลตำบลหลักช้าง
A2: งบแสดงการเปลี่ยนแปลงสินทรัพย์สุทธิ/ส่วนทุน
A3: =+L!A3 -> สำหรับปีสิ้นสุดวันที่ 30 กันยายน 2565
A4: (หน่วย:บาท)
B6: หมายเหตุ | D6: รายได้สูง/(ต่ำ)กว่าค่าใช้จ่ายสะสม | J6: องค์ประกอบอื่นของสินทรัพย์สุทธิ/ส่วนทุน | K6: รวมสินทรัพย์สุทธิ/ส่วนทุน
D7: เงินสะสม | E7: เงินทุนสำรองเงินสะสม | F7: รายได้สะสม | G7: ทุนดำเนินการ | H7: กำไร/ขาดทุน สะสม | I7: รวมรายได้สูง/(ต่ำ)กว่าค่าใช้จ่ายสะสม
A8: ยอดคงเหลือ ณ วันที่ 30 กันยายน 2563 - ตามที่รายงานไว้เดิม | D8: =+'[1]งบรวม(แม่+ลูก)'!$C$7 -> 46772555 | E8: =+'[1]งบรวม(แม่+ลูก)'!$D$7 -> 25741695 | F8: =+'[1]งบรวม(แม่+ลูก)'!$E$7 -> 0 | G8: 0 | H8: 0 | I8: =SUM(D8:H8) -> 72514250 | J8: 0 | K8: =SUM(I8:J8) -> 72514250
A9: ผลสะสมจากการแก้ไขข้อผิดพลาดปีก่อน | D9: =+'[1]งบรวม(แม่+ลูก)'!$C$8 -> 0 | E9: =+'[1]งบรวม(แม่+ลูก)'!$D$8 -> 0 | F9: =+'[1]งบรวม(แม่+ลูก)'!$E$8 -> 0 | G9: 0 | H9: 0 | I9: =SUM(D9:H9) -> 0 | J9: 0 | K9: =SUM(I9:J9) -> 0
A10: ผลสะสมของการเปลี่ยนแปลงนโยบายการบัญชี | D10: =+'[1]งบรวม(แม่+ลูก)'!$C$9 -> 17591923 | E10: =+'[1]งบรวม(แม่+ลูก)'!$D$9 -> 941731.7 | F10: =+'[1]งบรวม(แม่+ลูก)'!$E$9 -> 999981.46 | G10: 0 | H10: 0 | I10: =SUM(D10:H10) -> 19533636 | J10: 0 | K10: =SUM(I10:J10) -> 19533636
A11: ยอดคงเหลือ ณ วันที่ 30 กันยายน 2563 - หลังการปรับปรุง | D11: =SUM(D8:D10) -> 64364478 | E11: =SUM(E8:E10) -> 26683427 | F11: =SUM(F8:F10) -> 999981.46 | G11: =SUM(G8:G10) -> 0 | H11: =SUM(H8:H10) -> 0 | I11: =SUM(I8:I10) -> 92047886 | J11: =SUM(J8:J10) -> 0 | K11: =SUM(K8:K10) -> 92047886
A12: การเปลี่ยนในสินทรัพย์สุทธิ/ส่วนทุนสำหรับปี 2564
A13: การเปลี่ยนแปลงที่ทำให้ทุนเพิ่ม/ลด | D13: =+'[1]งบรวม(แม่+ลูก)'!$C$12 -> 1894264.9 | E13: =+'[1]งบรวม(แม่+ลูก)'!$D$12 -> -104112.6 | F13: =+'[1]งบรวม(แม่+ลูก)'!$E$12 -> 1370990.2 | G13: 0 | H13: 0 | I13: =SUM(D13:H13) -> 3161142.5 | J13: 0 | K13: =SUM(I13:J13) -> 3161142.5
A14: รายได้สูง/(ต่ำ) กว่าค่าใช้จ่ายสำหรับงวด | D14: =+'[1]งบรวม(แม่+ลูก)'!$C$13 -> 12944338 | E14: =+'[1]งบรวม(แม่+ลูก)'!$D$13 -> 2284295 | F14: =+'[1]งบรวม(แม่+ลูก)'!$E$13 -> -75615.52 | G14: 0 | H14: 0 | I14: =SUM(D14:H14) -> 15153018 | J14: 0 | K14: =SUM(I14:J14) -> 15153018
A15: ยอดคงเหลือ ณ วันที่ 30 กันยายน 2564 | D15: =SUM(D11:D14) -> 79203081 | E15: =SUM(E11:E14) -> 28863610 | F15: =SUM(F11:F14) -> 2295356.1 | G15: =SUM(G11:G14) -> 0 | H15: =SUM(H11:H14) -> 0 | I15: =SUM(I13:I14) -> 18314161 | J15: =SUM(J11:J14) -> 0 | K15: =SUM(K13:K14) -> 18314161
A17: ยอดคงเหลือ ณ วันที่ 30 กันยายน 2564 - ตามที่รายงานไว้เดิม | D17: =+'[1]งบรวม(แม่+ลูก)'!$C$16 -> 79203081 | E17: =+E15 -> 28863610 | F17: =+F15 -> 2295356.1 | G17: 0 | H17: 0 | I17: =SUM(D17:H17) -> 1.1036205e+08 | J17: 0 | K17: =SUM(I17:J17) -> 1.1036205e+08
A18: ผลสะสมจากการแก้ไขข้อผิดพลาดปีก่อน | D18: =+'[1]งบรวม(แม่+ลูก)'!$C$17 -> 0 | E18: =+'[1]งบรวม(แม่+ลูก)'!$D$17 -> 0 | F18: =+'[1]งบรวม(แม่+ลูก)'!$E$17 -> 0 | G18: 0 | H18: 0 | I18: =SUM(D18:H18) -> 0 | J18: 0 | K18: =SUM(I18:J18) -> 0
A19: ผลสะสมของการเปลี่ยนแปลงนโยบายการบัญชี | D19: =+'[1]งบรวม(แม่+ลูก)'!$C$18 -> 0 | E19: =+'[1]งบรวม(แม่+ลูก)'!$D$18 -> 0 | F19: =+'[1]งบรวม(แม่+ลูก)'!$E$18 -> 0 | G19: 0 | H19: 0 | I19: =SUM(D19:H19) -> 0 | J19: 0 | K19: =SUM(I19:J19) -> 0
A20: ยอดคงเหลือ ณ วันที่ 30 กันยายน 2564 - หลังการปรับปรุง | D20: =SUM(D17:D19) -> 79203081 | E20: =SUM(E17:E19) -> 28863610 | F20: =SUM(F17:F19) -> 2295356.1 | G20: =SUM(G17:G19) -> 0 | H20: =SUM(H17:H19) -> 0 | I20: =SUM(I17:I19) -> 1.1036205e+08 | J20: =SUM(J17:J19) -> 0 | K20: =SUM(I20:J20) -> 1.1036205e+08
A21: การเปลี่ยนในสินทรัพย์สุทธิ/ส่วนทุนสำหรับปี 2565
A22: การเปลี่ยนแปลงที่ทำให้ทุนเพิ่ม/ลด | D22: =+'[1]งบรวม(แม่+ลูก)'!$C$21 -> 16489 | E22: =+'[1]งบรวม(แม่+ลูก)'!$D$21 -> 0 | F22: =+'[1]งบรวม(แม่+ลูก)'!$E$21 -> 0 | G22: 0 | H22: 0 | I22: =SUM(D22:H22) -> 16489 | J22: 0 | K22: =SUM(I22:J22) -> 16489
A23: รายได้สูง/(ต่ำ) กว่าค่าใช้จ่ายสำหรับงวด | D23: =+'[1]งบรวม(แม่+ลูก)'!$C$22 -> 18522036 | E23: =+'[1]งบรวม(แม่+ลูก)'!$D$22 -> 3268594.6 | F23: =+'[1]งบรวม(แม่+ลูก)'!$E$22 -> -131561.46 | G23: 0 | H23: 0 | I23: =SUM(D23:H23) -> 21659069 | J23: 0 | K23: =SUM(I23:J23) -> 21659069
A24: ยอดคงเหลือ ณ วันที่ 30 กันยายน 2565 | D24: =+D20+D22+D23 -> 97741606 | E24: =+E20+E22+E23 -> 32132204 | F24: =+F20+F22+F23 -> 2163794.7 | G24: =+G20+G22+G23 -> 0 | H24: =+H20+H22+H23 -> 0 | I24: =+I20+I22+I23 -> 1.320376e+08 | J24: =+J20+J22+J23 -> 0 | K24: =SUM(K20:K23) -> 1.320376e+08
A26: หมายเหตุประกอบงบการเงินเป็นส่วนหนึ่งของรายงานการเงินนี้

Sheet 4-5
A1: 8
A3: หมายเหตุ 4 เงินสดและรายการเทียบเท่าเงินสด | G3: รหัสบัญชี | H3: ชื่อบัญชี
D4: (หน่วย:บาท)
D5: 2565 | F5: 2564
A6: เงินสดในมือ | D6: 0 | F6: 0 | G6: 1101010101.001 | H6: เงินสดในมือ
A7: เงินฝากสถาบันการเงิน | D7: =+W!AK4+W!AK5+W!AK6 -> 55360396 | F7: 64794995 | G7: 1101030101.001 1101030102.001 | H7: เงินฝากธนาคารกระแสรายวัน เงินฝากธนาคารออมทรัพย์
A8: เงินฝากประจำที่มีกำหนดจ่ายคืนไม่เกิน 3 เดือน | D8: =+W!AK7 -> 17777891 | F8: 0 | G8: 1101030199.001 | H8: เงินฝากไม่มีรายตัว
A10: เงินฝากกระทรวงการคลัง | D10: 0 | F10: 0
A11: รวมเงินสดและรายการเทียบเท่าเงินสด | D11: =SUM(D6:D10) -> 73138288 | F11: =SUM(F6:F10) -> 64794995
A13: หมายเหตุ 5 ลูกหนี้การค้า
F14: (หน่วย:บาท)
D15: 2565 | F15: 2564
A16: ลูกหนี้ค่าสินค้าและบริการ | D16: =+W!AK8+W!AK9 -> 3720400 | F16: 3318144 | G16: 1102050101.001 1102050102.001 1102050194.005 | H16: ลูกหนี้ค่าสินค้าและบริการ-หน่วยงานภาครัฐ ลูกหนี้ค่าสินค้าและบริการ-บุคคลภายนอก ลูกหนี้ - ทรัพย์รับจำนำ
A17: ลูกหนี้ค่ารักษาพยาบาล | D17: 0 | F17: 0
A18: หัก ค่าเผื่อหนี้สงสัยจะสูญ | D18: =-W!AL12 -> -965362.3 | F18: -1023153.8 | G18: 1102050123.001 1102050123.006 1102050123.007 1102050123.008 1102050123.009 1102050123.010 1102050123.011 1102050123.012 1102050123.998 | H18: ค่าเผื่อหนี้สงสัยจะสูญ - ลูกหนี้ค่าสินค้าและบริการ ค่าเผื่อหนี้สงสัยจะสูญ - ลูกหนี้ค่ารักษาพยาบาลสิทธิหลักประกันสุขภาพถ้วนหน้า ค่าเผื่อหนี้สงสัยจะสูญ - ลูกหนี้ค่ารักษาพยาบาลสิทธิประกันสังคม ค่าเผื่อหนี้สงสัยจะสูญ - ลูกหนี้ค่ารักษาพยาบาลสิทธิ พ.ร.บ. รถ ค่าเผื่อหนี้สงสัยจะสูญ - ลูกหนี้ค่ารักษาพยาบาลสิทธิเบิกตรงต้นสังกัดกรมบัญชีกลาง ค่าเผื่อหนี้สงสัยจะสูญ - ลูกหนี้ค่ารักษาพยาบาลสิทธิเบิกตรงต้นสังกัดองค์กรปกครองส่วนท้องถิ่น ค่าเผื่อหนี้สงสัยจะสูญ - ลูกหนี้ค่ารักษาพยาบาลสิทธิเบิกตรงต้นสังกัดกรุงเทพมหานคร ค่าเผื่อหนี้สงสัยจะสูญ - ลูกหนี้ค่ารักษาพยาบาลสิทธิเบิกตรงต้นสังกัดเมืองพัทยา ค่าเผื่อหนี้สงสัยจะสูญ - ลูกหนี้ค่ารักษาพยาบาลอื่น
A19: รวมลูกหนี้การค้า (สุทธิ) | D19: =SUM(D16:D18) -> 2755037.7 | F19: 2294990.2
A21: ลูกหนี้การค้า ณ วันสิ้นปี แยกตามอายุหนี้ ดังนี้
F22: (หน่วย:บาท)
A23: ลูกหนี้การค้า | B23: ยังไม่ถึงกำหนด | C23: เกินกำหนดชำระ | D23: เกินกำหนดชำระ | F23: รวม
B24: ชำระ | C24: ไม่เกิน 30 วัน | D24: เกินกว่า 30 วัน
A25: 2565 | B25: 0 | C25: 54177 | D25: 3666223 | F25: =SUM(B25:D25) -> 3720400
A26: 2564 | B26: 0 | C26: 81940 | D26: 3236204 | F26: =+B26+C26+D26 -> 3318144

Sheet 5
A1: =+L!A1 -> เทศบาลตำบลหลักช้าง
A2: หมายเหตุประกอบงบการเงิน
A3: =+L!A3 -> สำหรับปีสิ้นสุดวันที่ 30 กันยายน 2565
A4: หมายเหตุ 5 ลูกหนี้การค้า | F4: รหัสบัญชี | G4: ชื่อบัญชี
D5: (หน่วย:บาท)
D6: 2565 | E6: 2564
A7: ลูกหนี้ค่าสินค้าและบริการ | D7: =+W!AK8+W!AK9 -> 3720400 | E7: 3318144 | F7: 1102050101.001 1102050102.001 1102050194.005 | G7: ลูกหนี้ค่าสินค้าและบริการ-หน่วยงานภาครัฐ ลูกหนี้ค่าสินค้าและบริการ-บุคคลภายนอก ลูกหนี้ - ทรัพย์รับจำนำ
A8: ลูกหนี้ค่ารักษาพยาบาล | D8: 0 | E8: 0 | F8: 1102050194.006 1102050194.007 1102050194.008 1102050194.009 1102050194.010 1102050194.011 1102050194.012 1102050194.998 | G8: ลูกหนี้ - ค่ารักษาพยาบาลสิทธิหลักประกันสุขภาพถ้วนหน้า ลูกหนี้ - ค่ารักษาพยาบาลสิทธิประกันสังคม ลูกหนี้ - ค่ารักษาพยาบาลสิทธิ พ.ร.บ. รถ ลูกหนี้ - ค่ารักษาพยาบาลสิทธิเบิกตรงต้นสังกัดกรมบัญชีกลาง ลูกหนี้ - ค่ารักษาพยาบาลสิทธิเบิกตรงต้นสังกัดองค์กรปกครองส่วนท้องถิ่น ลูกหนี้ - ค่ารักษาพยาบาลสิทธิเบิกตรงต้นสังกัดกรุงเทพมหานคร ลูกหนี้ - ค่ารักษาพยาบาลสิทธิเบิกตรงต้นสังกัดเมืองพัทยา ลูกหนี้ - ค่ารักษาพยาบาลอื่น
A9: หัก ค่าเผื่อหนี้สงสัยจะสูญ | D9: =-W!AL12 -> -965362.3 | E9: -1023153.8 | F9: 1102050123.001 1102050123.006 1102050123.007 1102050123.008 1102050123.009 1102050123.010 1102050123.011 1102050123.012 1102050123.998 | G9: ค่าเผื่อหนี้สงสัยจะสูญ - ลูกหนี้ค่าสินค้าและบริการ ค่าเผื่อหนี้สงสัยจะสูญ - ลูกหนี้ค่ารักษาพยาบาลสิทธิหลักประกันสุขภาพถ้วนหน้า ค่าเผื่อหนี้สงสัยจะสูญ - ลูกหนี้ค่ารักษาพยาบาลสิทธิประกันสังคม ค่าเผื่อหนี้สงสัยจะสูญ - ลูกหนี้ค่ารักษาพยาบาลสิทธิ พ.ร.บ. รถ ค่าเผื่อหนี้สงสัยจะสูญ - ลูกหนี้ค่ารักษาพยาบาลสิทธิเบิกตรงต้นสังกัดกรมบัญชีกลาง ค่าเผื่อหนี้สงสัยจะสูญ - ลูกหนี้ค่ารักษาพยาบาลสิทธิเบิกตรงต้นสังกัดองค์กรปกครองส่วนท้องถิ่น ค่าเผื่อหนี้สงสัยจะสูญ - ลูกหนี้ค่ารักษาพยาบาลสิทธิเบิกตรงต้นสังกัดกรุงเทพมหานคร ค่าเผื่อหนี้สงสัยจะสูญ - ลูกหนี้ค่ารักษาพยาบาลสิทธิเบิกตรงต้นสังกัดเมืองพัทยา ค่าเผื่อหนี้สงสัยจะสูญ - ลูกหนี้ค่ารักษาพยาบาลอื่น
A10: รวมลูกหนี้การค้า (สุทธิ) | D10: =+D7+D8+D9 -> 2755037.7 | E10: =+E7+E8+E9 -> 2294990.2
A12: ลูกหนี้การค้า ณ วันสิ้นปี แยกตามอายุหนี้ ดังนี้
E13: (หน่วย:บาท)
A14: ลูกหนี้การค้า | B14: ยังไม่ถึงกำหนด | C14: เกินกำหนดชำระ | D14: เกินกำหนดชำระ | E14: รวม
B15: ชำระ | C15: ไม่เกิน 30 วัน | D15: เกินกว่า 30 วัน
A16: 2565 | B16: 0 | C16: 54177 | D16: 3666223 | E16: =SUM(B16:D16) -> 3720400
A17: 2564 | B17: 0 | C17: 81940 | D17: 3236204 | E17: =+B17+C17+D17 -> 3318144

Sheet 6-7
A1: 9
A3: หมายเหตุ 6 ลูกหนี้เงินโอนและรายการอุดหนุนระยะสั้น | H3: รหัสบัญชี | I3: ชื่อบัญชี
E4: (หน่วย:บาท)
E5: 2565 | G5: 2564
A6: ลูกหนี้ค่าภาษี | E6: =+W!AK16+W!AK17 -> 60617.08 | G6: 80102.79 | H6: 1102050194.001 1102050194.002 1102050194.003 1102050194.004 | I6: ลูกหนี้-ภาษีโรงเรือนและที่ดิน ลูกหนี้-ภาษีบำรุงท้องที่ ลูกหนี้-ภาษีป้าย ลูกหนี้-ภาษีที่ดินและสิ่งปลูกสร้าง
A7: หัก ค่าเผื่อหนี้สงสัยจะสูญ | E7: =-(W!AL13+W!AL14) -> -53580.7 | G7: =-(54870+7110.5) -> -61980.5 | H7: 1102050123.002 1102050123.003 1102050123.004 1102050123.005 | I7: ค่าเผื่อหนี้สงสัยจะสูญ - ลูกหนี้ภาษีโรงเรือนและที่ดิน ค่าเผื่อหนี้สงสัยจะสูญ - ลูกหนี้ภาษีบำรุงท้องที่ ค่าเผื่อหนี้สงสัยจะสูญ - ลูกหนี้ภาษีป้าย ค่าเผื่อหนี้สงสัยจะสูญ - ลูกหนี้ภาษีที่ดินและสิ่งปลูกสร้าง
A8: รวมลูกหนี้เงินโอน | E8: 7036.38 | G8: 18122.29
A9: รายได้เงินอุดหนุนค้างรับ | E9: =+W!AK15 -> 6343000 | G9: 0 | H9: 1102050193.001 | I9: รายได้เงินอุดหนุนค้างรับ
A10: รวมลูกหนี้เงินโอนและรายการอุดหนุนระยะสั้น | E10: =+E8+E9 -> 6350036.4 | G10: 18122.29
A12: หมายเหตุ 7 ลูกหนี้อื่นระยะสั้น
G13: (หน่วย:บาท)
E14: 2565 | G14: 2564
A15: ลูกหนี้เงินยืม | E15: 0 | G15: 5850 | H15: 1102010102.001
A16: ลูกหนี้เงินยืมเงินสะสม | E16: xxx | G16: xxx | H16: 1102010102.002
A17: เงินรอรับคืน | E17: xxx | G17: xxx | H17: 1103020110.001
A18: เงินจ่ายล่วงหน้า | E18: xxx | G18: xxx | H18: 1103020111.001
A19: ลูกหนี้เงินมัดจำและเงินประกัน | E19: xxx | G19: xxx | H19: 1102050129.001
A20: รายได้ค้างรับ | E20: =+W!AK10+W!AK11 -> 147309.73 | G20: 142550.1 | H20: 1102050106.001 1102050107.001
A21: ดอกเบี้ยรับจำนำค้างรับ | E21: xxx | G21: xxx | H21: 1102050107.002
A22: ลูกหนี้ความรับผิดทางแพ่ง | E22: xxx | G22: xxx | H22: 1103020112.001
A23: ลูกหนี้ความรับผิดทางละเมิด | E23: xxx | G23: xxx | H23: 1103020115.001
A24: รวม | E24: =SUM(E15:E23) -> 147309.73 | G24: =SUM(G15:G23) -> 148400.1
A25: ลูกหนี้อื่น | E25: 0 | G25: 0 | H25: 1102050193.002 1102050193.999 1102050194.999
A26: หัก ค่าเผื่อหนี้สงสัยจะสูญ | E26: 0 | G26: 0 | H26: 1102050123.999
A27: ลูกหนี้อื่น (สุทธิ) | E27: 0 | G27: 0
A28: รวมลูกหนี้อื่นระยะสั้น | E28: =+E24+E27 -> 147309.73 | G28: =+G24+G27 -> 148400.1 | H28: 1103020112.001 1103020115.001
A30: ลูกหนี้เงินยืม ณ วันสิ้นปี แยกตามอายุหนี้ ดังนี้
G31: (หน่วย:บาท)
A32: ลูกหนี้เงินยืม | B32: ยังไม่ถึงกำหนด | D32: เกินกำหนดชำระ | E32: เกินกำหนดชำระ | G32: รวม
B33: ชำระ | D33: ไม่เกิน 15 วัน | E33: เกินกว่า 15 วัน
A34: 2565 | B34: 0 | D34: 0 | E34: 0 | G34: =SUM(B34:E34) -> 0
A35: 2564 | B35: 5850 | D35: 0 | E35: 0 | G35: =SUM(B35:E35) -> 5850

Sheet 7
A1: =+L!A1 -> เทศบาลตำบลหลักช้าง
A2: หมายเหตุประกอบงบการเงิน
A3: =+L!A3 -> สำหรับปีสิ้นสุดวันที่ 30 กันยายน 2565
A4: หมายเหตุ 7 ลูกหนี้อื่นระยะสั้น | G4: รหัสบัญชี | H4: ชื่อบัญชี
F5: (หน่วย:บาท)
E6: 2565 | F6: 2564
A7: ลูกหนี้เงินยืม | E7: 0 | F7: 5850 | G7: 1102010102.001 | H7: ลูกหนี้เงินยืม
A8: ลูกหนี้เงินยืมเงินสะสม | E8: xxx | F8: xxx | G8: 1102010102.002 | H8: ลูกหนี้เงินยืมเงินสะสม
A9: เงินรอรับคืน | E9: xxx | F9: xxx | G9: 1103020110.001 | H9: เงินรอรับคืน
A10: เงินจ่ายล่วงหน้า | E10: xxx | F10: xxx | G10: 1103020111.001 | H10: เงินจ่ายล่วงหน้า
A11: ลูกหนี้เงินมัดจำและเงินประกัน | E11: xxx | F11: xxx | G11: 1102050129.001 | H11: ลูกหนี้เงินมัดจำและเงินประกัน
A12: รายได้ค้างรับ | E12: =+W!AK10+W!AK11 -> 147309.73 | F12: 142550.1 | G12: 1102050106.001 1102050107.001 | H12: รายได้ค้างรับ-หน่วยงานภาครัฐ รายได้ค้างรับ-บุคคลภายนอก
A13: ดอกเบี้ยรับจำนำค้างรับ | E13: xxx | F13: xxx | G13: 1102050107.002 | H13: ดอกเบี้ยรับจำนำค้างรับ
A14: ลูกหนี้ความรับผิดทางแพ่ง | E14: xxx | F14: xxx | G14: 1103020112.001 | H14: ลูกหนี้ความรับผิดทางแพ่ง
A15: ลูกหนี้ความรับผิดทางละเมิด | E15: xxx | F15: xxx | G15: 1103020115.001 | H15: ลูกหนี้ความรับผิดทางละเมิด
A16: รวม | E16: =SUM(E7:E15) -> 147309.73 | F16: =SUM(F7:F15) -> 148400.1
A17: ลูกหนี้อื่น | E17: 0 | F17: 0 | G17: 1102050193.002 1102050193.999 1102050194.999 | H17: ลูกหนี้อื่น - กรมสรรพากร ลูกหนี้อื่น-หน่วยงานภาครัฐ ลูกหนี้อื่น-บุคคลภายนอก
A18: หัก ค่าเผื่อหนี้สงสัยจะสูญ | E18: 0 | F18: 0 | G18: 1102050123.999 | H18: ค่าเผื่อหนี้สงสัยจะสูญ - ลูกหนี้อื่นบุคคลภายนอก
A19: ลูกหนี้อื่น (สุทธิ) | E19: =+E17-E18 -> 0 | F19: 0
A20: รวมลูกหนี้อื่นระยะสั้น | E20: =+E16+E19 -> 147309.73 | F20: =+F16+F19 -> 148400.1 | G20: 1103020112.001 1103020115.001 | H20: ลูกหนี้ความรับผิดทางแพ่ง ลูกหนี้ความรับผิดทางละเมิด
A22: ลูกหนี้เงินยืม ณ วันสิ้นปี แยกตามอายุหนี้ ดังนี้
F23: (หน่วย:บาท)
A24: ลูกหนี้เงินยืม | B24: ยังไม่ถึงกำหนด | D24: เกินกำหนดชำระ | E24: เกินกำหนดชำระ | F24: รวม
B25: ชำระ | D25: ไม่เกิน 15 วัน | E25: เกินกว่า 15 วัน
A26: 2565 | B26: 0 | D26: 0 | E26: 0 | F26: =SUM(B26:E26) -> 0
A27: 2564 | B27: 5850 | D27: 0 | E27: 0 | F27: =SUM(B27:E27) -> 5850

Sheet 8-11
A1: 10
A3: หมายเหตุ 8 เงินลงทุนระยะสั้น | E3: รหัสบัญชี | F3: ชื่อบัญชี
B4: (หน่วย:บาท)
B5: 2565 | D5: 2564
A6: เงินฝากประจำ | B6: =+W!AK18+W!AK19 -> 16814131 | D6: 13258843 | E6: 1104010101.001 | F6: เงินฝากประจำ-ระยะสั้น
A7: รวมเงินลงทุนระยะสั้น | B7: =SUM(B6) -> 16814131 | D7: =SUM(D6) -> 13258843
A9: หมายเหตุ 9 วัสดุคงเหลือ
D10: (หน่วย:บาท)
B11: 2565 | D11: 2564
A12: วัสดุคงคลัง | B12: =+W!AK20 -> 187949.7 | D12: 411392.5 | E12: 1105010105.001 | F12: วัสดุคงคลัง
A13: รวมวัสดุคงเหลือ | B13: =+B12 -> 187949.7 | D13: =SUM(D12) -> 411392.5
A15: หมายเหตุ 10 สินทรัพย์หมุนเวียนอื่น
D16: (หน่วย:บาท)
B17: 2565 | D17: 2564
A18: ค่าใช้จ่ายจ่ายล่วงหน้า | B18: =+W!AK21 -> 6750 | D18: 11858.12 | E18: 1106010103.001 | F18: ค่าใช้จ่ายจ่ายล่วงหน้า
A19: พักภาษีหัก ณ ที่จ่าย | B19: xxx | D19: xxx
A20: พักค่าปรับ | B20: xxx | D20: xxx
A21: ภาษีซื้อ | B21: xxx | D21: xxx
A22: ภาษีซื้อยังไม่ถึงกำหนดชำระ | B22: xxx | D22: xxx
A23: สินทรัพย์หมุนเวียนอื่น | B23: xxx | D23: xxx
A24: รวมสินทรัพย์หมุนเวียนอื่น | B24: 6750 | D24: 11858.12
A26: หมายเหตุ 11 เงินลงทุนระยะยาว
D27: (หน่วย:บาท)
B28: 2565 | D28: 2564
A29: เงินฝากประจำ | B29: xxx | D29: xxx
A30: เงินสมทบกองทุนส่งเสริมกิจการขององค์กรปกครองส่วนท้องถิ่น | B30: =+W!AK22 -> 6449883.6 | D30: 5348885.3 | E30: 1203020199.001 1203020199.002 | F30: เงินฝากเงินทุนส่งเสริมกิจการองค์การบริหารส่วนจังหวัด เงินฝากเงินทุนส่งเสริมกิจการเทศบาล
A31: หุ้นในโรงพิมพ์อาสารักษาดินแดน | B31: xxx | D31: xxx
A32: เงินลงทุนอื่น | B32: xxx | D32: xxx
A33: รวมเงินลงทุนระยะยาว | B33: 6449883.6 | D33: 5348885.3

Sheet 9
A1: =+L!A1 -> เทศบาลตำบลหลักช้าง
A2: หมายเหตุประกอบงบการเงิน
A3: =+L!A3 -> สำหรับปีสิ้นสุดวันที่ 30 กันยายน 2565
A4: หมายเหตุ 9 วัสดุคงเหลือ | D4: รหัสบัญชี | E4: ชื่อบัญชี
B5: (หน่วย:บาท)
B6: 2565 | C6: 2564
A7: วัสดุคงคลัง | B7: =+W!AK20 -> 187949.7 | C7: 411392.5 | D7: 1105010105.001 | E7: วัสดุคงคลัง
A8: รวมวัสดุคงเหลือ | B8: =+B7 -> 187949.7 | C8: =SUM(C7) -> 411392.5

Sheet 10
A1: =+L!A1 -> เทศบาลตำบลหลักช้าง
A2: หมายเหตุประกอบงบการเงิน
A3: =+L!A3 -> สำหรับปีสิ้นสุดวันที่ 30 กันยายน 2565
A4: หมายเหตุ 10 สินทรัพย์หมุนเวียนอื่น | D4: รหัสบัญชี | E4: ชื่อบัญชี
B5: (หน่วย:บาท)
B6: 2565 | C6: 2564
A7: ค่าใช้จ่ายจ่ายล่วงหน้า | B7: =+W!AK21 -> 6750 | C7: 11858.12 | D7: 1106010103.001 | E7: ค่าใช้จ่ายจ่ายล่วงหน้า
A8: พักภาษีหัก ณ ที่จ่าย | B8: xxx | C8: xxx | D8: 1106010199.001 | E8: พักภาษีหัก ณ ที่จ่าย
A9: พักค่าปรับ | B9: xxx | C9: xxx | D9: 1106010199.002 | E9: พักค่าปรับ
A10: ภาษีซื้อ | B10: xxx | C10: xxx | D10: 1106010199.003 | E10: ภาษีซื้อ
A11: ภาษีซื้อยังไม่ถึงกำหนดชำระ | B11: xxx | C11: xxx | D11: 1106010199.004 | E11: ภาษีซื้อยังไม่ถึงกำหนดชำระ
A12: สินทรัพย์หมุนเวียนอื่น | B12: xxx | C12: xxx | D12: 1106010199.999 | E12: สินทรัพย์หมุนเวียนอื่น
A13: รวมสินทรัพย์หมุนเวียนอื่น | B13: =SUM(B7:B12) -> 6750 | C13: =SUM(C7:C12) -> 11858.12

Sheet 11
A1: =+L!A1 -> เทศบาลตำบลหลักช้าง
A2: หมายเหตุประกอบงบการเงิน
A3: =+L!A3 -> สำหรับปีสิ้นสุดวันที่ 30 กันยายน 2565
A4: หมายเหตุ 11 เงินลงทุนระยะยาว | D4: รหัสบัญชี | E4: ชื่อบัญชี
B5: (หน่วย:บาท)
B6: 2565 | C6: 2564
A7: เงินฝากประจำ | B7: xxx | C7: xxx | D7: 1203010101.001 | E7: เงินฝากประจำ-ระยะยาว
A8: เงินสมทบกองทุนส่งเสริมกิจการขององค์กรปกครองส่วนท้องถิ่น | B8: =+W!AK22 -> 6449883.6 | C8: 5348885.3 | D8: 1203020199.001 1203020199.002 | E8: เงินฝากเงินทุนส่งเสริมกิจการองค์การบริหารส่วนจังหวัด เงินฝากเงินทุนส่งเสริมกิจการเทศบาล
A9: หุ้นในโรงพิมพ์อาสารักษาดินแดน | B9: xxx | C9: xxx | D9: 1203020199.005 | E9: หุ้นในโรงพิมพ์อาสารักษาดินแดน
A10: เงินลงทุนอื่น | B10: xxx | C10: xxx | D10: 1203020199.003 1203020199.004 1203020199.999 | E10: เงินทุนส่งเสริมอาชีพ เงินฝากกองทุนอื่น ๆ เงินลงทุนอื่น
A11: รวมเงินลงทุนระยะยาว | B11: =SUM(B7:B10) -> 6449883.6 | C11: =SUM(C7:C10) -> 5348885.3

Sheet 12-13
A1: 11
A3: หมายเหตุ 12 ที่ดิน อาคาร และอุปกรณ์ | D3: รหัสบัญชี | E3: ชื่อบัญชี
B4: (หน่วย:บาท)
B5: 2565 | C5: 2564
A6: ที่ดิน | B6: =+W!AK23 -> 140000 | C6: 140000 | D6: 1204010101.001 1204040101.001 | E6: ที่ดิน ที่ดินไม่ระบุรายละเอียด
A7: อาคารและสิ่งปลูกสร้าง | B7: =+W!AK24+W!AK26+W!AK28 -> 8636422.2 | C7: 8150174.2 | D7: 1205010101.001 1205020101.001 1205030101.001 1205030106.001 1205040101.001 1205060101.001 | E7: อาคารเพื่อการพักอาศัย อาคารสำนักงาน อาคารเพื่อประโยชน์อื่น ส่วนปรับปรุงอาคาร สิ่งปลูกสร้าง อาคารและสิ่งปลูกสร้างไม่ระบุรายละเอียด
A8: หัก ค่าเสื่อมราคาสะสม - อาคารและสิ่งปลูกสร้าง | B8: =-(W!AL25+W!AL27+W!AL29) -> -5561862.7 | C8: -5308503.6 | D8: 1205010103.001 1205020103.001 1205030103.001 1205030108.001 1205040103.001 1205060102.001 | E8: ค่าเสื่อมราคาสะสมอาคารเพื่อการพักอาศัย ค่าเสื่อมราคาสะสมอาคารสำนักงาน ค่าเสื่อมราคาสะสมอาคารเพื่อประโยชน์อื่น ค่าเสื่อมราคาสะสมส่วนปรับปรุงอาคาร ค่าเสื่อมราคาสะสมสิ่งปลูกสร้าง ค่าเสื่อมราคาสะสมอาคารและสิ่งปลูกสร้างไม่ระบุรายละเอียด
A9: อาคารและสิ่งปลูกสร้าง (สุทธิ) | B9: =+B7+B8 -> 3074559.5 | C9: =+C7+C8 -> 2841670.6
A10: ครุภัณฑ์ | B10: =+W!AK30+W!AK32+W!AK34+W!AK36+W!AK38+W!AK40+W!AK42 -> 1304530 | C10: 1064680 | D10: 1206010101.001 1206020101.001 1206030101.001 1206040101.001 1206050101.001 1206060101.001 1206070101.001 1206080101.001 | E10: ครุภัณฑ์สำนักงาน ครุภัณฑ์ยานพาหนะและขนส่ง ครุภัณฑ์ไฟฟ้าและวิทยุ ครุภัณฑ์โฆษณาและเผยแพร่ ครุภัณฑ์การเกษตร ครุภัณฑ์โรงงาน ครุภัณฑ์ก่อสร้าง ครุภัณฑ์สำรวจ
D11: 1206090101.001 1206100101.001 1206110101.001 1206120101.001 1206130101.001 1206140101.001 1206150101.001 1206160101.001 1206180101.001 | E11: ครุภัณฑ์วิทยาศาสตร์และการแพทย์ ครุภัณฑ์คอมพิวเตอร์ ครุภัณฑ์การศึกษา ครุภัณฑ์งานบ้านงานครัว ครุภัณฑ์กีฬา ครุภัณฑ์ดนตรี ครุภัณฑ์สนาม ครุภัณฑ์อื่น ครุภัณฑ์ไม่ระบุรายละเอียด
D12: 1206010102.001 1206020102.001 1206030102.001 1206040102.001 1206050102.001 1206060102.001 1206070102.001 1206080102.001 | E12: พักครุภัณฑ์สำนักงาน พักครุภัณฑ์ยานพาหนะและขนส่ง พักครุภัณฑ์ไฟฟ้าและวิทยุ พักครุภัณฑ์โฆษณาและเผยแพร่ พักครุภัณฑ์การเกษตร พักครุภัณฑ์โรงงาน พักครุภัณฑ์ก่อสร้าง พักครุภัณฑ์สำรวจ
D13: 1206090102.001 1206100102.001 1206110102.001 1206120102.001 1206130102.001 1206140102.001 1206150102.001 1206160102.001 | E13: พักครุภัณฑ์วิทยาศาสตร์และการแพทย์ พักครุภัณฑ์คอมพิวเตอร์ พักครุภัณฑ์การศึกษา พักครุภัณฑ์งานบ้านงานครัว พักครุภัณฑ์กีฬา พักครุภัณฑ์ดนตรี พักครุภัณฑ์สนาม พักครุภัณฑ์อื่น
A14: หัก ค่าเสื่อมราคาสะสม - ครุภัณฑ์ | B14: =-(+W!AL31+W!AL33+W!AL35+W!AL37+W!AL39+W!AL41+W!AL43) -> -803944.51 | C14: -658349.75 | D14: 1206010103.001 1206020103.001 1206030103.001 1206040103.001 1206050103.001 1206060103.001 1206070103.001 1206080103.001 | E14: ค่าเสื่อมราคาสะสมครุภัณฑ์สำนักงาน ค่าเสื่อมราคาสะสมครุภัณฑ์ยานพาหนะและขนส่ง ค่าเสื่อมราคาสะสมครุภัณฑ์ไฟฟ้าและวิทยุ ค่าเสื่อมราคาสะสมครุภัณฑ์โฆษณาและเผยแพร่ ค่าเสื่อมราคาสะสมครุภัณฑ์การเกษตร ค่าเสื่อมราคาสะสมครุภัณฑ์โรงงาน ค่าเสื่อมราคาสะสมครุภัณฑ์ก่อสร้าง ค่าเสื่อมราคาสะสมครุภัณฑ์สำรวจ
D15: 1206090103.001 1206100103.001 1206110103.001 1206120103.001 1206130103.001 1206140103.001 1206150103.001 1206160103.001 1206180102.001 | E15: ค่าเสื่อมราคาสะสมครุภัณฑ์วิทยาศาสตร์และการแพทย์ ค่าเสื่อมราคาสะสมครุภัณฑ์คอมพิวเตอร์ ค่าเสื่อมราคาสะสมครุภัณฑ์การศึกษา ค่าเสื่อมราคาสะสมครุภัณฑ์งานบ้านงานครัว ค่าเสื่อมราคาสะสมครุภัณฑ์กีฬา ค่าเสื่อมราคาสะสมครุภัณฑ์ดนตรี ค่าเสื่อมราคาสะสมครุภัณฑ์สนาม ค่าเสื่อมราคาสะสมครุภัณฑ์อื่น ค่าเสื่อมราคาสะสมครุภัณฑ์ไม่ระบุรายละเอียด
A16: ครุภัณฑ์ (สุทธิ) | B16: =+B10+B14 -> 500585.49 | C16: =+C10+C14 -> 406330.25
A17: ที่ดิน อาคาร และอุปกรณ์ตามสัญญาเช่าการเงิน | B17: xxx | C17: xxx | D17: 1204010103.001 1205030104.001 1205040104.001 1206160104.001 | E17: ที่ดิน - ภายใต้สัญญาเช่าการเงิน อาคาร - ภายใต้สัญญาเช่าการเงิน สิ่งปลูกสร้าง - ภายใต้สัญญาเช่าการเงิน ครุภัณฑ์ - ภายใต้สัญญาเช่าการเงิน
A18: หัก ค่าเสื่อมราคาสะสม - อาคารและอุปกรณ์ ตามสัญญาเช่าการเงิน | B18: (xxx) | C18: (xxx) | D18: 1205030105.001 1205040105.001 1206160105.001 | E18: ค่าเสื่อมราคาสะสมอาคาร - ภายใต้สัญญาเช่าการเงิน ค่าเสื่อมราคาสะสม - สิ่งปลูกสร้างภายใต้สัญญาเช่าการเงิน ค่าเสื่อมราคาสะสม - ครุภัณฑ์ภายใต้สัญญาเช่าการเงิน
A19: ที่ดิน อาคาร และอุปกรณ์ตามสัญญาเช่าการเงิน (สุทธิ) | B19: 0 | C19: 0
A20: งานระหว่างก่อสร้าง | B20: 0 | C20: 0 | D20: 1211010101.001 | E20: งานระหว่างก่อสร้าง
A21: รวมที่ดิน อาคาร และอุปกรณ์ (สุทธิ) | B21: =+B6+B9+B16+B19+B20 -> 3715145 | C21: =+C6+C9+C16+C19+C20 -> 3388000.8
A23: หมายเหตุ 13 สินทรัพย์โครงสร้างพื้นฐาน
B24: (หน่วย:บาท)
B25: 2565 | C25: 2564
A26: ถนน | B26: =+W!AK44 -> 43000883 | C26: 29996483 | D26: 1208010101.001 | E26: ถนน
A27: หัก ค่าเสื่อมราคาสะสม - ถนน | B27: =-W!AL45 -> -17570492 | C27: -13295428 | D27: 1208010103.001 | E27: ค่าเสื่อมราคาสะสมถนน
A28: ถนน (สุทธิ) | B28: =+B26+B27 -> 25430391 | C28: =+C26+C27 -> 16701055
A29: สะพาน | B29: xxx | C29: xxx | D29: 1208020101.001 | E29: สะพาน
A30: หัก ค่าเสื่อมราคาสะสม - สะพาน | B30: (xxx) | C30: (xxx) | D30: 1208020103.001 | E30: ค่าเสื่อมราคาสะสมสะพาน
A31: สะพาน (สุทธิ) | B31: xxx | C31: xxx
A32: เขื่อน | B32: xxx | C32: xxx | D32: 1208030101.001 | E32: เขื่อน
A33: หัก ค่าเสื่อมราคาสะสม - เขื่อน | B33: (xxx) | C33: (xxx) | D33: 1208030103.001 | E33: ค่าเสื่อมราคาสะสมเขื่อน
A34: เขื่อน (สุทธิ) | B34: xxx | C34: xxx
A35: อ่างเก็บน้ำ | B35: =+W!AK46 -> 1334196.3 | C35: 1334196.3 | D35: 1208040101.001 | E35: อ่างเก็บน้ำ
A36: หัก ค่าเสื่อมราคาสะสม - อ่างเก็บน้ำ | B36: =-W!AL47 -> -317054.37 | C36: -250344.56 | D36: 1208040103.001 | E36: ค่าเสื่อมราคาสะสมอ่างเก็บน้ำ
A37: อ่างเก็บน้ำ (สุทธิ) | B37: =+B35+B36 -> 1017141.9 | C37: =+C35+C36 -> 1083851.7
A38: สินทรัพย์โครงสร้างพื้นฐานอื่น | B38: =+W!AK48 -> 16028620 | C38: 14558620 | D38: 1208050101.001 | E38: สินทรัพย์โครงสร้างพื้นฐานอื่น
D39: 1208070101.001 | E39: สินทรัพย์โครงสร้างพื้นฐานอื่นไม่ระบุรายละเอียด
A40: หัก ค่าเสื่อมราคาสะสม - สินทรัพย์โครงสร้างพื้นฐานอื่น | B40: =-W!AL49 -> -11825543 | C40: -10955802 | D40: 1208050103.001 | E40: ค่าเสื่อมราคาสะสมสินทรัพย์โครงสร้างพื้นฐานอื่น
A42: สินทรัพย์โครงสร้างพื้นฐานอื่น (สุทธิ) | B42: =+B38+B40 -> 4203076.4 | C42: =+C38+C40 -> 3602817.4
A43: รวมสินทรัพย์โครงสร้างพื้นฐาน (สุทธิ) | B43: =+B28+B37+B42 -> 30650610 | C43: =+C28+C37+C42 -> 21387724

Sheet 13
A1: =+L!A1 -> เทศบาลตำบลหลักช้าง
A2: หมายเหตุประกอบงบการเงิน
A3: =+L!A3 -> สำหรับปีสิ้นสุดวันที่ 30 กันยายน 2565
A4: หมายเหตุ 13 สินทรัพย์โครงสร้างพื้นฐาน | D4: รหัสบัญชี | E4: ชื่อบัญชี
B5: (หน่วย:บาท)
B6: 2565 | C6: 2564
A7: ถนน | B7: =+W!AK44 -> 43000883 | C7: 29996483 | D7: 1208010101.001 | E7: ถนน
A8: หัก ค่าเสื่อมราคาสะสม - ถนน | B8: =-W!AL45 -> -17570492 | C8: -13295428 | D8: 1208010103.001 | E8: ค่าเสื่อมราคาสะสมถนน
A9: ถนน (สุทธิ) | B9: =+B7+B8 -> 25430391 | C9: =+C7+C8 -> 16701055
A10: สะพาน | B10: xxx | C10: xxx | D10: 1208020101.001 | E10: สะพาน
A11: หัก ค่าเสื่อมราคาสะสม - สะพาน | B11: (xxx) | C11: (xxx) | D11: 1208020103.001 | E11: ค่าเสื่อมราคาสะสมสะพาน
A12: สะพาน (สุทธิ) | B12: xxx | C12: xxx
A13: เขื่อน | B13: xxx | C13: xxx | D13: 1208030101.001 | E13: เขื่อน
A14: หัก ค่าเสื่อมราคาสะสม - เขื่อน | B14: (xxx) | C14: (xxx) | D14: 1208030103.001 | E14: ค่าเสื่อมราคาสะสมเขื่อน
A15: เขื่อน (สุทธิ) | B15: xxx | C15: xxx
A16: อ่างเก็บน้ำ | B16: =+W!AK46 -> 1334196.3 | C16: 1334196.3 | D16: 1208040101.001 | E16: อ่างเก็บน้ำ
A17: หัก ค่าเสื่อมราคาสะสม - อ่างเก็บน้ำ | B17: =-W!AL47 -> -317054.37 | C17: -250344.56 | D17: 1208040103.001 | E17: ค่าเสื่อมราคาสะสมอ่างเก็บน้ำ
A18: อ่างเก็บน้ำ (สุทธิ) | B18: =+B16+B17 -> 1017141.9 | C18: =+C16+C17 -> 1083851.7
A19: สินทรัพย์โครงสร้างพื้นฐานอื่น | B19: =+W!AK48 -> 16028620 | C19: 14558620 | D19: 1208050101.001 | E19: สินทรัพย์โครงสร้างพื้นฐานอื่น
D20: 1208070101.001 | E20: สินทรัพย์โครงสร้างพื้นฐานอื่นไม่ระบุรายละเอียด
A21: หัก ค่าเสื่อมราคาสะสม - สินทรัพย์โครงสร้างพื้นฐานอื่น | B21: =-W!AL49 -> -11825543 | C21: -10955802 | D21: 1208050103.001 | E21: ค่าเสื่อมราคาสะสมสินทรัพย์โครงสร้างพื้นฐานอื่น
D22: 1208070102.001 | E22: ค่าเสื่อมราคาสะสมสินทรัพย์โครงสร้างพื้นฐานอื่นไม่ระบุรายละเอียด
A23: สินทรัพย์โครงสร้างพื้นฐานอื่น (สุทธิ) | B23: =+B19+B21 -> 4203076.4 | C23: =+C19+C21 -> 3602817.4
A24: รวมสินทรัพย์โครงสร้างพื้นฐาน (สุทธิ) | B24: =+B9+B18+B23 -> 30650610 | C24: =+C9+C18+C23 -> 21387724

Sheet 14-16
A1: 12
A3: หมายเหตุ 14 เจ้าหนี้ระยะสั้น | D3: รหัสบัญชี | E3: ชื่อบัญชี
B4: (หน่วย:บาท)
B5: 2565 | C5: 2564
A6: เจ้าหนี้การค้า | B6: =+W!AL50 -> 5671300 | C6: 97771.3 | D6: 2101010101.001 2101010102.001 | E6: เจ้าหนี้การค้า - หน่วยงานภาครัฐ เจ้าหนี้การค้า - บุคคลภายนอก
A7: เจ้าหนี้อื่น | B7: =+W!AL51 -> 1200 | C7: 11272.45 | D7: 2101020198.001 2101020198.999 2101020199.999 2101020198.002 2101020199.004 | E7: เจ้าหนี้อื่น - กรมสรรพากร เจ้าหนี้อื่น - หน่วยงานภาครัฐ เจ้าหนี้อื่น - บุคคลภายนอก เจ้าหนี้อื่นชดใช้ค่าเสียหายระยะสั้น – หน่วยงานภาครัฐ เจ้าหนี้อื่นชดใช้ค่าเสียหายระยะสั้น – บุคคลภายนอก
A8: เจ้าหนี้ - ทรัพย์จำนำสูญหาย | B8: 0 | C8: xxx | D8: 2101020199.001 | E8: เจ้าหนี้ - ทรัพย์รับจำนำสูญหาย
A9: เจ้าหนี้ - ค่ารักษาพยาบาล | B9: 0 | C9: xxx | D9: 2101020199.002 2101020199.003 | E9: เจ้าหนี้ค่ารักษาพยาบาล-ประกันสุขภาพถ้วนหน้า เจ้าหนี้ค่ารักษาพยาบาล-ประกันสังคม
A10: ดอกเบี้ยค้างจ่าย | B10: 0 | C10: xxx | D10: 2102020102.001 | E10: ดอกเบี้ยค้างจ่าย
A11: ค่าสาธารณูปโภคค้างจ่าย | B11: =+W!AL52 -> 104733.72 | C11: 85343.27 | D11: 2102040101.001 | E11: ค่าสาธารณูปโภคค้างจ่าย
A12: ภาษีหัก ณ ที่จ่าย | B12: =+W!AL53+W!AL54+W!AL55+W!AL56 -> 21192.89 | C12: 9451.15 | D12: 2102040103.001 2102040104.001 2102040105.001 2102040106.001 | E12: ภาษีหัก ณ ที่จ่ายรอนำส่ง - ภาษีเงินได้บุคคลธรรมดา ภาษีหัก ณ ที่จ่ายรอนำส่ง - ภาษีเงินได้บุคคลธรรมดา ภ.ง.ด.1 ภาษีหัก ณ ที่จ่ายรอนำส่ง - ภาษีเงินได้นิติบุคคลจากหน่วยงานภาครัฐ ภาษีหัก ณ ที่จ่ายรอนำส่ง - ภาษีเงินได้นิติบุคคลจากบุคคลภายนอก
A13: ใบสำคัญค้างจ่ายอื่น | B13: 0 | C13: xxx | D13: 2102040110.001 | E13: ใบสำคัญค้างจ่ายอื่น
A14: ค่าจ้างและค่าตอบแทนค้างจ่าย | B14: 0 | C14: xxx | D14: 2102040199.001 | E14: ค่าจ้างและค่าตอบแทนค้างจ่าย
A15: ค่าใช้จ่ายค้างจ่ายอื่น | B15: =+W!AL57+W!AL58 -> 41999.75 | C15: 29851.96 | D15: 2102040198.001 2102040199.999 | E15: ค่าใช้จ่ายค้างจ่ายอื่น - หน่วยงานภาครัฐ ค่าใช้จ่ายค้างจ่ายอื่น - บุคคลภายนอก
A16: รวมเจ้าหนี้ระยะสั้น | B16: =+B6+B7+B8+B9+B10+B11+B12+B13+B14+B15 -> 5840426.4 | C16: =SUM(C6:C15) -> 233690.13
A18: หมายเหตุ 15 เจ้าหนี้เงินโอนและรายการอุดหนุนระยะสั้น
B19: (หน่วย:บาท)
B20: 2565 | C20: 2564
A21: รายได้เงินอุดหนุนรับล่วงหน้า | B21: =+W!AL59 -> 1743000 | C21: 0 | D21: 2103010102.001 | E21: รายได้เงินอุดหนุนรับล่วงหน้า
A22: รายได้ค่าภาษีรับล่วงหน้า | B22: xxx | C22: 0
A23: รายได้จากเงินกู้ของรัฐบาลรับล่วงหน้า | B23: xxx | C23: 0
A24: เงินรับฝากรอคืนแผ่นดิน | B24: xxx | C24: 0
A25: รายได้รอการรับรู้ | B25: xxx | C25: 0
A26: รวมเจ้าหนี้เงินโอนและรายการอุดหนุนระยะสั้น | B26: =SUM(B21:B25) -> 1743000 | C26: =SUM(C21:C25) -> 0
A28: หมายเหตุ 16 เงินรับฝากระยะสั้น
B29: (หน่วย:บาท)
B30: 2565 | C30: 2564
A31: เงินรับฝากเงินทุนโครงการเศรษฐกิจชุมชน | B31: xxx | C31: xxx
A32: เงินรับฝากชดใช้ค่าความเสียหาย | B32: xxx | C32: xxx
A33: เงินรับฝากจากการจัดเก็บภาษีบำรุงท้องที่ | B33: 0 | C33: 6775 | D33: 2111020199.008 2111020199.009 | E33: เงินรับฝากค่าใช้จ่ายในการจัดเก็บภาษีบำรุงท้องที่ 5% เงินรับฝากส่วนลดในการจัดเก็บภาษีบำรุงท้องที่ 6%
A34: เงินรับฝากอื่น | B34: =+W!AL60 -> 10000 | C34: 14595.22 | D34: 2111020199.001 2111020199.002 2111020199.003 2111020199.004 2111020199.005 2111020199.010 2111020199.011 2111020199.999 | E34: เงินรับฝาก ก.บ.ท. เงินรับฝาก กบข. เงินรับฝาก กสจ. เงินรับฝากประกันสังคม เงินรับฝากค่าใช้จ่ายอื่น เงินรับฝากกองทุนหลักประกันสุขภาพถ้วนหน้ารอจัดสรร เงินรับฝากกองทุนประกันสังคมรอจัดสรร เงินรับฝากอื่น - ระยะสั้น
A35: เงินประกันสัญญา | B35: =+W!AL61 -> 355363 | C35: 101925 | D35: 2112010101.001 | E35: เงินประกันสัญญา - ระยะสั้น
A36: เงินประกันผลงาน | B36: xxx | C36: xxx
A37: เงินประกันอื่น | B37: xxx | C37: xxx
A38: รวมเงินรับฝากระยะสั้น | B38: =SUM(B31:B37) -> 365363 | C38: =SUM(C31:C37) -> 123295.22

Sheet 15
A1: =+L!A1 -> เทศบาลตำบลหลักช้าง
A2: หมายเหตุประกอบงบการเงิน
A3: =+L!A3 -> สำหรับปีสิ้นสุดวันที่ 30 กันยายน 2565
A4: หมายเหตุ 15 เจ้าหนี้เงินโอนและรายการอุดหนุนระยะสั้น | D4: รหัสบัญชี | E4: ชื่อบัญชี
A5: ชื่อบัญชี | B5: (หน่วย:บาท)
B6: 2565 | C6: 2564
A7: รายได้เงินอุดหนุนรับล่วงหน้า | B7: =+W!AL59 -> 1743000 | C7: 0 | D7: 2103010102.001 | E7: รายได้เงินอุดหนุนรับล่วงหน้า
A8: รายได้ค่าภาษีรับล่วงหน้า | B8: xxx | C8: 0 | D8: 2103010103.002 | E8: รายได้ค่าภาษีรับล่วงหน้า
A9: รายได้จากเงินกู้ของรัฐบาลรับล่วงหน้า | B9: xxx | C9: 0 | D9: 2103010104.001 | E9: รายได้จากเงินกู้ของรัฐบาลรับล่วงหน้า
A10: เงินรับฝากรอคืนแผ่นดิน | B10: xxx | C10: 0 | D10: 2104010101.001 | E10: เงินรับฝากรอคืนแผ่นดิน
A11: รายได้รอการรับรู้ | B11: xxx | C11: 0 | D11: 2109010199.001 | E11: รายได้รอการรับรู้ - ระยะสั้น
A12: รวมเจ้าหนี้เงินโอนและรายการอุดหนุนระยะสั้น | B12: =SUM(B7:B11) -> 1743000 | C12: =SUM(C7:C11) -> 0

Sheet 16
A1: =+L!A1 -> เทศบาลตำบลหลักช้าง
A2: หมายเหตุประกอบงบการเงิน
A3: =+L!A3 -> สำหรับปีสิ้นสุดวันที่ 30 กันยายน 2565
A4: หมายเหตุ 16 เงินรับฝากระยะสั้น | D4: รหัสบัญชี | E4: ชื่อบัญชี
B5: (หน่วย:บาท)
B6: 2565 | C6: 2564
A7: เงินรับฝากเงินทุนโครงการเศรษฐกิจชุมชน | B7: xxx | C7: xxx | D7: 2111020199.006 | E7: เงินรับฝากเงินทุนโครงการเศรษฐกิจชุมชน - ระยะสั้น
A8: เงินรับฝากชดใช้ค่าความเสียหาย | B8: xxx | C8: xxx | D8: 2111020199.007 | E8: เงินรับฝากชดใช้ค่าความเสียหาย
A9: เงินรับฝากจากการจัดเก็บภาษีบำรุงท้องที่ | B9: 0 | C9: 11370.25 | D9: 2111020199.008 2111020199.009 | E9: เงินรับฝากค่าใช้จ่ายในการจัดเก็บภาษีบำรุงท้องที่ 5% เงินรับฝากส่วนลดในการจัดเก็บภาษีบำรุงท้องที่ 6%
A10: เงินรับฝากอื่น | B10: =+W!AL60 -> 10000 | C10: 10000 | D10: 2111020199.001 2111020199.002 2111020199.003 2111020199.004 2111020199.005 2111020199.010 2111020199.011 2111020199.999 | E10: เงินรับฝาก ก.บ.ท. เงินรับฝาก กบข. เงินรับฝาก กสจ. เงินรับฝากประกันสังคม เงินรับฝากค่าใช้จ่ายอื่น เงินรับฝากกองทุนหลักประกันสุขภาพถ้วนหน้ารอจัดสรร เงินรับฝากกองทุนประกันสังคมรอจัดสรร เงินรับฝากอื่น - ระยะสั้น
A11: เงินประกันสัญญา | B11: =+W!AL61 -> 355363 | C11: 101925 | D11: 2112010101.001 | E11: เงินประกันสัญญา - ระยะสั้น
A12: เงินประกันผลงาน | B12: xxx | C12: xxx | D12: 2112010102.001 | E12: เงินประกันผลงาน - ระยะสั้น
A13: เงินประกันอื่น | B13: xxx | C13: xxx | D13: 2112010199.001 2112010199.002 2112010199.003 2112010199.999 | E13: เงินประกันการเสนอราคา - ระยะสั้น เงินประกันสัญญาเช่าทรัพย์สิน - ระยะสั้น เงินประกันสัญญาเช่าอื่น ๆ - ระยะสั้น เงินประกันอื่น - ระยะสั้น
A14: รวมเงินรับฝากระยะสั้น | B14: =SUM(B7:B13) -> 365363 | C14: =SUM(C7:C13) -> 123295.25

Sheet 17
A1: 13
A3: หมายเหตุ 17 เงินรับฝากระยะยาว | D3: รหัสบัญชี | E3: ชื่อบัญชี
B4: (หน่วย:บาท)
B5: 2565 | C5: 2564
A6: เงินรับฝากเงินทุนโครงการเศรษฐกิจชุมชน | B6: xxx | C6: xxx | D6: 2207020102.001 | E6: เงินรับฝากเงินทุนโครงการเศรษฐกิจชุมชน - ระยะยาว
A7: เงินรับฝากเงินสะสมและเงินสมทบพนักงานสถานธนานุบาล | B7: xxx | C7: xxx | D7: 2207020102.002 | E7: เงินรับฝากเงินสะสมและเงินสมทบพนักงานสถานธนานุบาล
A8: เงินรับฝากอื่น | B8: =+W!AL62 -> 61500 | C8: 51300 | D8: 2207020102.999 | E8: เงินรับฝากอื่น - ระยะยาว
A9: เงินประกันสัญญา | B9: =+W!AL63 -> 167246 | C9: 292880 | D9: 2208010101.001 | E9: เงินประกันสัญญา - ระยะยาว
A10: เงินประกันผลงาน | B10: xxx | C10: xxx | D10: 2208010102.001 | E10: เงินประกันผลงาน - ระยะยาว
A11: เงินประกันอื่น | B11: xxx | C11: xxx | D11: 2208010103.001 2208010103.002 2208010103.999 | E11: เงินประกันสัญญาเช่าทรัพย์สิน - ระยะยาว เงินประกันสัญญาเช่าอื่น ๆ - ระยะยาว เงินประกันอื่น - ระยะยาว
A12: รวมเงินรับฝากระยะยาว | B12: =SUM(B6:B11) -> 228746 | C12: =SUM(C6:C11) -> 344180

Sheet 18
A1: 14
A3: หมายเหตุ 18 ภาระผูกพัน
A4: - | B4: ภาระผูกพันตามสัญญาเช่าดำเนินงาน
B5: หน่วยงานในฐานะผู้เช่ามีจำนวนเงินขั้นต่ำที่ต้องจ่ายในอนาคตตามสัญญาเช่าดำเนินงานที่ไม่สามารถ
A6: ยกเลิกได้ ณ วันที่ 30 กันยายน 2565 และ 2564 ดังนี้
G7: (หน่วย : บาท)
E8: 2565 | G8: 2564
B9: ไม่เกิน 1 ปี | E9: 2800 | G9: 0
B10: เกิน 1 ปี แต่ไม่เกิน 5 ปี | E10: xxx | G10: xxx
B11: เกิน 5 ปี | E11: xxx | G11: xxx
B12: รวม | E12: =SUM(E9:E11) -> 2800 | G12: =SUM(G9:G11) -> 0
A14: - | B14: ภาระผูกพันตามสัญญาจ้างเหมาบริการ
B15: หน่วยงานมีภาระผูกพันตามสัญญาจ้างเหมาบริการบุคคลภายนอกปฏิบัติงานประจำรถบรรทุกขยะ
A16: เป็นจำนวนรวม 19,000.00 บาท
A18: - | B18: ภาระผูกพันเกี่ยวกับรายจ่ายฝ่ายทุน
G19: (หน่วย : บาท)
B20: สัญญาที่ยังไม่ได้รับรู้ | E20: 2565 | G20: 2564
B21: ที่ดิน อาคาร และสิ่งปลูกสร้าง | E21: 4600000 | G21: 5379900
E22: 0 | G22: 0
B23: รวม | E23: =SUM(E21:E22) -> 4600000 | G23: =SUM(G21:G22) -> 5379900
B24: ภาระผูกพันข้างต้นเกิดจากมูลค่าตามสัญญาจ้างก่อสร้าง ปรับปรุง และจัดหาสินทรัพย์
A26: - | B26: ภาระผูกพันตามสัญญาจัดซื้อจัดจ้างพัสดุและบริการอื่น ๆ
B27: ณ วันที่ 30 กันยายน 2565 และ 2564 หน่วยงานมีภาระผูกพันที่เกิดจากสัญญาจัดซื้อจัดจ้างพัสดุ
A28: และบริการอื่น ๆ จำแนกตามระยะเวลาของสัญญาได้ดังนี้
G29: (หน่วย : บาท)
E30: 2565 | G30: 2564
B31: ไม่เกิน 1 ปี | E31: 1010376.9 | G31: 1042744
B32: เกิน 1 ปี แต่ไม่เกิน 5 ปี | E32: xxx | G32: 0
B33: เกิน 5 ปี | E33: xxx | G33: 0
B34: รวม | E34: =SUM(E31:E33) -> 1010376.9 | G34: =SUM(G31:G33) -> 1042744

Sheet 19-20
A1: 15
A3: หมายเหตุ 19 รายได้สูง/(ต่ำ)กว่าค่าใช้จ่ายสะสม | E3: รหัสบัญชี | F3: ชื่อบัญชี
D4: (หน่วย:บาท)
C5: 2565 | D5: 2564
A6: เงินสะสม | C6: =+W!AL64 -> 97741606 | D6: 79203081 | E6: 3102010101.001 | F6: เงินสะสม
A7: เงินทุนสำรองเงินสะสม | C7: =+W!AL65 -> 32132204 | D7: 28863610 | E7: 3102010101.002 | F7: เงินทุนสำรองเงินสะสม
A8: รายได้สะสม | C8: =+W!AL66 -> 2163794.7 | D8: 2295356.1 | E8: 3102010101.003 | F8: รายได้สะสม
A9: ทุนดำเนินการ | C9: XXX | D9: XXX | E9: 3102010101.004 | F9: ทุนดำเนินการ
A10: กำไร/ขาดทุนสะสม | C10: XXX | D10: XXX | E10: 3102010101.005 | F10: กำไร/ขาดทุนสะสม
A11: รวมรายได้สูง/(ต่ำ)กว่าค่าใช้จ่ายสะสม | C11: =SUM(C6:C10) -> 1.320376e+08 | D11: =SUM(D6:D10) -> 1.1036205e+08
A13: หมายเหตุ 20 รายได้ภาษีจัดสรร
C14: (หน่วย:บาท)
C15: 2565 | D15: 2564
A16: รายได้ภาษี
B17: รายได้ภาษีรถยนต์ | C17: =+W!AH90 -> 582748.02 | D17: 498715.7 | E17: 4402010101.001 | F17: รายได้ภาษีรถยนต์
B18: รายได้ภาษีมูลค่าเพิ่มตาม พ.ร.บ.กำหนดแผนฯ | C18: =+W!AH91 -> 11925367 | D18: 10230349 | E18: 4402010102.001 | F18: รายได้ภาษีมูลค่าเพิ่มตาม พ.ร.บ.กำหนดแผนฯ
B19: รายได้ภาษีมูลค่าเพิ่มตาม พ.ร.บ.อบจ.ฯ ร้อยละ 5 | C19: XXX | D19: XXX | E19: 4402010103.001 | F19: รายได้ภาษีมูลค่าเพิ่มตาม พ.ร.บ.อบจ.ฯ ร้อยละ 5
B20: รายได้ภาษีมูลค่าเพิ่มตาม พ.ร.บ.จัดสรรรายได้ฯ | C20: =+W!AH92 -> 3822602.5 | D20: 3425187.8 | E20: 4402010104.001 | F20: รายได้ภาษีมูลค่าเพิ่มตาม พ.ร.บ.จัดสรรรายได้ฯ
B21: รายได้ภาษีธุรกิจเฉพาะ | C21: =+W!AH93 -> 142164.55 | D21: 138235.69 | E21: 4402010105.001 | F21: รายได้ภาษีธุรกิจเฉพาะ
B22: รายได้ภาษีสรรพสามิต | C22: =+W!AH94 -> 5638831.5 | D22: 6172668.2 | E22: 4402010106.001 | F22: รายได้ภาษีสรรพสามิต
B23: รายได้ภาษีการพนัน | C23: XXX | D23: XXX | E23: 4402010107.001 | F23: รายได้ภาษีการพนัน
A24: รายได้อากร
B25: รายได้อากรการประมง | C25: XXX | D25: XXX | E25: 4402010108.001 | F25: รายได้อากรการประมง
B26: รวมรายได้ภาษี | C26: =SUM(C17:C25) -> 22111714 | D26: =SUM(D17:D25) -> 20465156
A27: รายได้ค่าธรรมเนียม
B28: รายได้ค่าภาคหลวงและค่าธรรมเนียมตามกฎหมายว่าด้วยป่าไม้ | C28: XXX | D28: XXX | E28: 4402010109.001 | F28: รายได้ค่าภาคหลวงและค่าธรรมเนียมตามกฎหมาย ว่าด้วยป่าไม้
B29: รายได้ค่าภาคหลวงแร่ | C29: =+W!AH95 -> 203229.65 | D29: 191176.38 | E29: 4402010110.001 | F29: รายได้ค่าภาคหลวงแร่
B30: รายได้ค่าภาคหลวงปิโตรเลียม | C30: =+W!AH96 -> 53505.97 | D30: 34061.11 | E30: 4402010111.001 | F30: รายได้ค่าภาคหลวงปิโตรเลียม
B31: รายได้เงินที่เก็บตามกฎหมายว่าด้วยอุทยานแห่งชาติ | C31: XXX | D31: XXX | E31: 4402010112.001 | F31: รายได้เงินที่เก็บตามกฎหมายว่าด้วยอุทยานแห่งชาติ
B32: รายได้ค่าธรรมเนียมจดทะเบียนสิทธิและนิติกรรม | C32: =+W!AH97 -> 1127063 | D32: 1180293 | E32: 4402010113.001 | F32: รายได้ค่าธรรมเนียมจดทะเบียนสิทธิและนิติกรรมตามประมวลกฎหมายที่ดิน
B33: ตามประมวลกฎหมายที่ดิน
B34: รายได้อากรประทานบัตรและอาชญาบัตรประมง | C34: XXX | D34: XXX
B35: รายได้ค่าธรรมเนียมและค่าใช้น้ำบาดาล | C35: XXX | D35: XXX
B36: รายได้ค่าธรรมเนียมตามกฎหมายว่าด้วยทรัพย์อิงสิทธิ กฎหมายกรมที่ดิน | C36: XXX | D36: XXX
A37: ภาษีจัดสรรอื่นๆ | C37: XXX | D37: XXX
B38: รวมรายได้ค่าธรรมเนียม | C38: =SUM(C29:C37) -> 1383798.6 | D38: =SUM(D29:D37) -> 1405530.5
B39: รวมรายได้ภาษีจัดสรร | C39: =+C26+C38 -> 23495513 | D39: =+D26+D38 -> 21870687

Sheet 20
A1: =+L!A1 -> เทศบาลตำบลหลักช้าง
A2: หมายเหตุประกอบงบการเงิน
A3: =+L!A3 -> สำหรับปีสิ้นสุดวันที่ 30 กันยายน 2565
A4: หมายเหตุ 20 รายได้ภาษีจัดสรร | E4: รหัสบัญชี | F4: ชื่อบัญชี
C5: (หน่วย:บาท)
C6: 2565 | D6: 2564
A7: รายได้ภาษี
B8: รายได้ภาษีรถยนต์ | C8: =+W!AH90 -> 582748.02 | D8: 498715.7 | E8: 4402010101.001 | F8: รายได้ภาษีรถยนต์
B9: รายได้ภาษีมูลค่าเพิ่มตาม พ.ร.บ.กำหนดแผนฯ | C9: =+W!AH91 -> 11925367 | D9: 10230349 | E9: 4402010102.001 | F9: รายได้ภาษีมูลค่าเพิ่มตาม พ.ร.บ.กำหนดแผนฯ
B10: รายได้ภาษีมูลค่าเพิ่มตาม พ.ร.บ.อบจ.ฯ ร้อยละ 5 | C10: XXX | D10: XXX | E10: 4402010103.001 | F10: รายได้ภาษีมูลค่าเพิ่มตาม พ.ร.บ.อบจ.ฯ ร้อยละ 5
B11: รายได้ภาษีมูลค่าเพิ่มตาม พ.ร.บ.จัดสรรรายได้ฯ | C11: =+W!AH92 -> 3822602.5 | D11: 3425187.8 | E11: 4402010104.001 | F11: รายได้ภาษีมูลค่าเพิ่มตาม พ.ร.บ.จัดสรรรายได้ฯ
B12: รายได้ภาษีธุรกิจเฉพาะ | C12: =+W!AH93 -> 142164.55 | D12: 138235.69 | E12: 4402010105.001 | F12: รายได้ภาษีธุรกิจเฉพาะ
B13: รายได้ภาษีสรรพสามิต | C13: =+W!AH94 -> 5638831.5 | D13: 6172668.2 | E13: 4402010106.001 | F13: รายได้ภาษีสรรพสามิต
B14: รายได้ภาษีการพนัน | C14: XXX | D14: XXX | E14: 4402010107.001 | F14: รายได้ภาษีการพนัน
A15: รายได้อากร
B16: รายได้อากรการประมง | C16: XXX | D16: XXX | E16: 4402010108.001 | F16: รายได้อากรการประมง
A17: รายได้ค่าธรรมเนียม
B18: รายได้ค่าภาคหลวงและค่าธรรมเนียมตามกฎหมายว่าด้วยป่าไม้ | C18: XXX | D18: XXX | E18: 4402010109.001 | F18: รายได้ค่าภาคหลวงและค่าธรรมเนียมตามกฎหมาย ว่าด้วยป่าไม้
B19: รายได้ค่าภาคหลวงแร่ | C19: =+W!AH95 -> 203229.65 | D19: 191176.38 | E19: 4402010110.001 | F19: รายได้ค่าภาคหลวงแร่
B20: รายได้ค่าภาคหลวงปิโตรเลียม | C20: =+W!AH96 -> 53505.97 | D20: 34061.11 | E20: 4402010111.001 | F20: รายได้ค่าภาคหลวงปิโตรเลียม
B21: รายได้เงินที่เก็บตามกฎหมายว่าด้วยอุทยานแห่งชาติ | C21: XXX | D21: XXX | E21: 4402010112.001 | F21: รายได้เงินที่เก็บตามกฎหมายว่าด้วยอุทยานแห่งชาติ
B22: รายได้ค่าธรรมเนียมจดทะเบียนสิทธิและนิติกรรมตามประมวลกฎหมายที่ดิน | C22: =+W!AH97 -> 1127063 | D22: 1180293 | E22: 4402010113.001 | F22: รายได้ค่าธรรมเนียมจดทะเบียนสิทธิและนิติกรรมตามประมวลกฎหมายที่ดิน
B23: รายได้อากรประทานบัตรและอาชญาบัตรประมง | C23: XXX | D23: XXX | E23: 4402010114.001 | F23: รายได้อากรประทานบัตรและอาชญาบัตรประมง
B24: รายได้ค่าธรรมเนียมและค่าใช้น้ำบาดาล | C24: XXX | D24: XXX | E24: 4402010115.001 | F24: รายได้ค่าธรรมเนียมและค่าใช้น้ำบาดาล
B25: รายได้ค่าธรรมเนียมตามกฎหมายว่าด้วยทรัพย์อิงสิทธิ กฎหมายกรมที่ดิน | C25: XXX | D25: XXX | E25: 4402010116.001 | F25: รายได้ค่าธรรมเนียมตามกฎหมายว่าด้วยทรัพย์อิงสิทธิ กฎหมายกรมที่ดิน
A26: ภาษีจัดสรรอื่นๆ | C26: XXX | D26: XXX | E26: 4402010199.999 | F26: ภาษีจัดสรรอื่นๆ
B27: รวมรายได้ภาษีจัดสรร | C27: =SUM(C8:C26) -> 23495513 | D27: =SUM(D8:D26) -> 21870687

Sheet 21-23
A1: 16
A3: หมายเหตุ 21 รายได้จากการขายสินค้าและบริการ | D3: รหัสบัญชี | E3: ชื่อบัญชี
B4: (หน่วย:บาท)
B5: 2565 | C5: 2564
A6: รายได้จาการขายสินค้าและบริการ | B6: =+W!AH86+W!AH87 -> 952569 | C6: =914859+11250 -> 926109 | D6: 4401090101.001 | E6: รายได้จากประปา
D7: 4401090198.001 | E7: รายได้จากสาธารณูปโภคอื่น
D8: 4401090199.001 | E8: รายได้จากการขายสินค้าอื่น
D9: 4401090201.001 | E9: รายได้ค่าธรรมเนียมในการใช้เครื่องมือบังคับ ค่าเคลื่อนย้าย และค่าดูแลรักษารถ
D10: 4401090202.001 | E10: รายได้ค่าธรรมเนียมจอดรถในที่จอดรถ
D11: 4401090203.001 | E11: รายได้ค่าขายแบบพิมพ์และคำร้อง
D12: 4401090204.001 | E12: รายได้ค่ารับรองสำเนาและถ่ายเอกสาร
D13: 4401090205.001 | E13: รายได้ค่าสมัครสมาชิกห้องสมุด
D14: 4401090206.001 | E14: รายได้จากตลาดสด
D15: 4401090207.001 | E15: รายได้จากโรงฆ่าสัตว์
D16: 4401090208.001 | E16: รายได้จากสถานีขนส่งหรือกิจการท่าเรือ
D17: 4401090299.001 | E17: รายได้ค่าบริการอื่น ๆ
A18: รายได้จากค่าเช่า | B18: xxx | C18: xxx | D18: 4401060101.001 | E18: รายได้ค่าเช่าที่ดิน
D19: 4401060102.001 | E19: รายได้ค่าเช่าหรือบริการ
D20: 4401060199.001 | E20: รายได้ค่าเช่าอื่น ๆ
A21: รวมรายได้จากการขายสินค้าและบริการ | B21: =SUM(B6:B20) -> 952569 | C21: =SUM(C6:C20) -> 926109
A23: หมายเหตุ 22 รายได้จากการอุดหนุนจากหน่วยงานภาครัฐ
B24: (หน่วย:บาท)
B25: 2565 | C25: 2564
A26: รายได้เงินอุดหนุนทั่วไปตามอำนาจหน้าที่และภารกิจถ่ายโอน | B26: =+W!AH98 -> 26364679 | C26: 26388631 | D26: 4403010101.001 | E26: รายได้เงินอุดหนุน (ที่ไม่ใช่หน่วยรับงบตรง)
A27: รายได้เงินอุดหนุนเพื่อเป็นเงินรางวัลสำหรับองค์กรปกครองส่วนท้องถิ่นที่มีการบริหารจัดการที่ดี | B27: XXX | C27: XXX | D27: 4403010102.001 | E27: รายได้เงินอุดหนุนเพื่อเป็นเงินรางวัลสำหรับองค์กรปกครองส่วนท้องถิ่นที่มีการบริหารจัดการที่ดี
A28: รายได้เงินอุดหนุนทั่วไปที่รัฐกำหนดวัตถุประสงค์ | B28: 0 | C28: 193032 | D28: 4403010103.001 | E28: รายได้เงินอุดหนุนทั่วไปที่รัฐกำหนดวัตถุประสงค์ (ที่ไม่ใช่หน่วยรับงบตรง)
A29: รายได้เงินอุดหนุนเฉพาะกิจ | B29: =+W!AH99 -> 14293900 | C29: 2498322 | D29: 4403010104.001 | E29: รายได้เงินอุดหนุนเฉพาะกิจ (ที่ไม่ใช่หน่วยรับงบตรง)
A30: รายได้เงินอุดหนุนจากหน่วยงานอื่น | B30: XXX | C30: XXX | D30: 4403010105.001 | E30: รายได้เงินอุดหนุนจากหน่วยงานอื่น
A31: รายได้จากการรับโอนสินทรัพย์ระหว่างหน่วยงาน | B31: 0 | C31: 3157925.3 | D31: 4401100104.001 | E31: รายได้จากการรับโอนสินทรัพย์ระหว่างหน่วยงาน
A32: รวมรายได้จากการอุดหนุนจากหน่วยงานภาครัฐ | B32: =SUM(B26:B31) -> 40658579 | C32: =SUM(C26:C31) -> 32237911
A34: หมายเหตุ 23 รายได้จากการจัดเก็บภาษี ค่าธรรมเนียม ค่าปรับ และใบอนุญาต
C35: (หน่วย:บาท)
B36: 2565 | C36: 2564
A37: รายได้ภาษี | B37: =+W!AH67+W!AH68+W!AH69+W!AH70 -> 246677.35 | C37: =24561.69+155865+33565.8 -> 213992.49 | D37: 4401010101.001 | E37: รายได้ภาษีโรงเรือนและที่ดิน
A38: รายได้อากร | B38: xxx | C38: xxx | D38: 4401010102.001 | E38: รายได้ภาษีบำรุงท้องที่
A39: รายได้ค่าธรรมเนียม | B39: =+W!AH71+W!AH72+W!AH73+W!AH74+W!AH75+W!AH76+W!AH77+W!AH78+W!AH79 -> 59401.1 | C39: =1164+3030+290+1420+1840+75600 -> 83344 | D39: 4401010103.001 | E39: รายได้ภาษีป้าย
A40: รายได้ค่าปรับ | B40: =+W!AH80+W!AH81 -> 22650 | C40: =14950+910690 -> 925640 | D40: 4401010104.001 | E40: รายได้ภาษีที่ดินและสิ่งปลูกสร้าง
A41: รายได้ใบอนุญาต | B41: =+W!AH82+W!AH83 -> 8385.5 | C41: =5000+4100 -> 9100 | D41: 4401010105.001 | E41: รายได้ภาษีบำรุง อบจ. จากการค้ายาสูบ
A42: รวมรายได้จากการจัดเก็บภาษี ค่าธรรมเนียม ค่าปรับ และใบอนุญาต | B42: =SUM(B37:B41) -> 337113.95 | C42: =SUM(C37:C41) -> 1232076.5 | D42: 4401010106.001 | E42: รายได้ภาษีบำรุง อบจ. จากการค้าน้ำมัน/ก๊าซ
D43: 4401010107.001 | E43: รายได้ค่าธรรมเนียมบำรุง อบจ. จากผู้เข้าพักโรงแรม
D44: 4401010108.001 | E44: รายได้ภาษีเพื่อการศึกษา
D45: 4401010198.001 | E45: ปรับมูลค่ารายได้ค่าภาษี
D46: 4401010199.001 | E46: รายได้ภาษีอื่น ๆ
D47: 4401020101.001 | E47: รายได้อากรการฆ่าสัตว์
D48: 4401020102.001 | E48: รายได้อากรรังนกอีแอ่น
D49: 4401030101.001 | E49: รายได้ค่าธรรมเนียมการประกอบกิจการฆ่าสัตว์
D50: 4401030102.001 | E50: รายได้ค่าธรรมเนียมการรับรองให้จำหน่ายเนื้อสัตว์
D51: 4401030103.001 | E51: รายได้ค่าธรรมเนียมใบอนุญาตการขายสุรา
D52: 4401030104.001 | E52: รายได้ค่าธรรมเนียมเกี่ยวกับใบอนุญาตการพนัน
D53: 4401030105.001 | E53: รายได้ค่าธรรมเนียมเกี่ยวกับการควบคุมอาคาร
D54: 4401030106.001 | E54: รายได้ค่าธรรมเนียมเก็บและขนมูลฝอย
... D100: 4401050102.001 | E100: รายได้ค่าใบอนุญาตรับทำการกำจัดสิ่งปฏิกูลหรือมูลฝอย

Sheet 22
A1: =+L!A1 -> เทศบาลตำบลหลักช้าง
A2: หมายเหตุประกอบงบการเงิน
A3: =+L!A3 -> สำหรับปีสิ้นสุดวันที่ 30 กันยายน 2565
A4: หมายเหตุ 22 รายได้จากการอุดหนุนจากหน่วยงานภาครัฐ | D4: รหัสบัญชี | E4: ชื่อบัญชี
B5: (หน่วย:บาท)
B6: 2565 | C6: 2564
A7: รายได้เงินอุดหนุนทั่วไปตามอำนาจหน้าที่และภารกิจถ่ายโอน | B7: =+W!AH98 -> 26364679 | C7: 26388631 | D7: 4403010101.001 | E7: รายได้เงินอุดหนุน (ที่ไม่ใช่หน่วยรับงบตรง)
A8: รายได้เงินอุดหนุนเพื่อเป็นเงินรางวัลสำหรับองค์กรปกครองส่วนท้องถิ่นที่มีการบริหารจัดการที่ดี | B8: XXX | C8: XXX | D8: 4403010102.001 | E8: รายได้เงินอุดหนุนเพื่อเป็นเงินรางวัลสำหรับองค์กรปกครองส่วนท้องถิ่นที่มีการบริหารจัดการที่ดี
A9: รายได้เงินอุดหนุนทั่วไปที่รัฐกำหนดวัตถุประสงค์ | B9: 0 | C9: 193032 | D9: 4403010103.001 | E9: รายได้เงินอุดหนุนทั่วไปที่รัฐกำหนดวัตถุประสงค์ (ที่ไม่ใช่หน่วยรับงบตรง)
A10: รายได้เงินอุดหนุนเฉพาะกิจ | B10: =+W!AH99 -> 14293900 | C10: 2498322 | D10: 4403010104.001 | E10: รายได้เงินอุดหนุนเฉพาะกิจ (ที่ไม่ใช่หน่วยรับงบตรง)
A11: รายได้เงินอุดหนุนจากหน่วยงานอื่น | B11: XXX | C11: XXX | D11: 4403010105.001 | E11: รายได้เงินอุดหนุนจากหน่วยงานอื่น
A12: รายได้จากการรับโอนสินทรัพย์ระหว่างหน่วยงาน | B12: 0 | C12: 3157925.3 | D12: 4401100104.001 | E12: รายได้จากการรับโอนสินทรัพย์ระหว่างหน่วยงาน
A13: รวมรายได้จากการอุดหนุนจากหน่วยงานภาครัฐ | B13: =SUM(B7:B12) -> 40658579 | C13: =SUM(C7:C12) -> 32237911

Sheet 23
A1: =+L!A1 -> เทศบาลตำบลหลักช้าง
A2: หมายเหตุประกอบงบการเงิน
A3: =+L!A3 -> สำหรับปีสิ้นสุดวันที่ 30 กันยายน 2565
A4: หมายเหตุ 23 รายได้จากการจัดเก็บภาษี ค่าธรรมเนียม ค่าปรับ และใบอนุญาต | D4: รหัสบัญชี | E4: ชื่อบัญชี
B5: (หน่วย:บาท)
B6: 2565 | C6: 2564
A7: รายได้ภาษี | B7: =+W!AH67+W!AH68+W!AH69+W!AH70 -> 246677.35 | C7: =24561.69+155865+33565.8 -> 213992.49 | D7: 4401010101.001 | E7: รายได้ภาษีโรงเรือนและที่ดิน
D8: 4401010102.001 | E8: รายได้ภาษีบำรุงท้องที่
D9: 4401010103.001 | E9: รายได้ภาษีป้าย
D10: 4401010104.001 | E10: รายได้ภาษีที่ดินและสิ่งปลูกสร้าง
D11: 4401010105.001 | E11: รายได้ภาษีบำรุง อบจ. จากการค้ายาสูบ
D12: 4401010106.001 | E12: รายได้ภาษีบำรุง อบจ. จากการค้าน้ำมัน/ก๊าซ
D13: 4401010107.001 | E13: รายได้ค่าธรรมเนียมบำรุง อบจ. จากผู้เข้าพักโรงแรม
D14: 4401010108.001 | E14: รายได้ภาษีเพื่อการศึกษา
D15: 4401010198.001 | E15: ปรับมูลค่ารายได้ค่าภาษี
D16: 4401010199.001 | E16: รายได้ภาษีอื่น ๆ
A17: รายได้อากร | B17: xxx | C17: xxx | D17: 4401020101.001 | E17: รายได้อากรการฆ่าสัตว์
D18: 4401020102.001 | E18: รายได้อากรรังนกอีแอ่น
A19: รายได้ค่าธรรมเนียม | B19: =+W!AH71+W!AH72+W!AH73+W!AH74+W!AH75+W!AH76+W!AH77+W!AH78+W!AH79 -> 59401.1 | C19: =1164+3030+290+1420+1840+75600 -> 83344 | D19: 4401030101.001 | E19: รายได้ค่าธรรมเนียมการประกอบกิจการฆ่าสัตว์
D20: 4401030102.001 | E20: รายได้ค่าธรรมเนียมการรับรองให้จำหน่ายเนื้อสัตว์
D21: 4401030103.001 | E21: รายได้ค่าธรรมเนียมใบอนุญาตการขายสุรา
D22: 4401030104.001 | E22: รายได้ค่าธรรมเนียมเกี่ยวกับใบอนุญาตการพนัน
D23: 4401030105.001 | E23: รายได้ค่าธรรมเนียมเกี่ยวกับการควบคุมอาคาร
D24: 4401030106.001 | E24: รายได้ค่าธรรมเนียมเก็บและขนมูลฝอย
D25: 4401030107.001 | E25: รายได้ค่าธรรมเนียมเก็บขนอุจจาระหรือสิ่งปฏิกูล
D26: 4401030108.001 | E26: รายได้ค่าธรรมเนียมในการออกหนังสือรับรองการแจ้งสถานที่จำหน่ายอาหารหรือสะสมอาหาร
D27: 4401030109.001 | E27: รายได้ค่าธรรมเนียมเกี่ยวกับสุสานและฌาปนสถาน
D28: 4401030110.001 | E28: รายได้ค่าธรรมเนียมปิด โปรย ติดตั้งแผ่นประกาศหรือแผ่นปลิวเพื่อการโฆษณา
D29: 4401030111.001 | E29: รายได้ค่าธรรมเนียมเกี่ยวกับทะเบียนราษฎร
D30: 4401030112.001 | E30: รายได้ค่าธรรมเนียมเกี่ยวกับบัตรประจำตัวประชาชน
D31: 4401030113.001 | E31: รายได้ค่าธรรมเนียมการฉีดวัคซีน / ใบรับรองการฉีดวัคซีน
... D55: 4401030199.001 | E55: รายได้ค่าธรรมเนียมอื่น
A56: รายได้ค่าปรับ | B56: =+W!AH80+W!AH81 -> 22650 | C56: =14950+910690 -> 925640 | D56: 4401040101.001 | E56: รายได้ค่าปรับผู้กระทำความผิดกฎหมายจัดระเบียบการจอดรถ
D57: 4401040102.001 | E57: รายได้ค่าปรับจากการกระทำผิด พ.ร.บ. จราจรทางบก
D58: 4401040103.001 | E58: รายได้ค่าปรับผู้กระทำผิดกฎหมายการป้องกันและระงับอัคคีภัย
D59: 4401040104.001 | E59: รายได้ค่าปรับผู้กระทำผิดกฎหมายรักษาความสะอาดและความเป็นระเบียบเรียบร้อยของบ้านเมือง
D60: 4401040105.001 | E60: รายได้ค่าปรับผู้กระทำผิดกฎหมายการทะเบียนราษฎร
D61: 4401040106.001 | E61: รายได้ค่าปรับผู้กระทำผิดกฎหมายบัตรประจำตัวประชาชน
D62: 4401040107.001 | E62: รายได้ค่าปรับผู้กระทำผิดกฎหมายว่าด้วยสาธารณสุข
D63: 4401040108.001 | E63: รายได้ค่าปรับผู้กระทำผิดกฎหมายโรคพิษสุนัขบ้า
D64: 4401040109.001 | E64: รายได้ค่าปรับผู้กระทำผิดกฎหมายและข้อบังคับท้องถิ่น
D65: 4401040110.001 | E65: รายได้ค่าปรับการผิดสัญญา
D66: 4401040111.001 | E66: รายได้ค่าปรับผู้กระทำความผิดกฎหมายทะเบียนพาณิชย์
D67: 4401040112.001 | E67: รายได้ค่าปรับผู้กระทำผิดกฎหมายหอพัก
D68: 4401040199.001 | E68: รายได้ค่าปรับอื่น
A69: รายได้ใบอนุญาต | B69: =+W!AH82+W!AH83 -> 8385.5 | C69: =5000+4100 -> 9100 | D69: 4401050101.001 | E69: รายได้ค่าใบอนุญาตรับทำการเก็บขนสิ่งปฏิกูล หรือมูลฝอย
D70: 4401050102.001 | E70: รายได้ค่าใบอนุญาตรับทำการกำจัดสิ่งปฏิกูลหรือมูลฝอย
D71: 4401050103.001 | E71: รายได้ค่าใบอนุญาตประกอบการค้าสำหรับกิจการที่เป็นอันตรายต่อสุขภาพ
D72: 4401050104.001 | E72: รายได้ค่าใบอนุญาตจัดตั้งสถานที่จำหน่ายอาหารหรือสถานที่สะสมอาหารในครัว หรือ พื้นที่ใดซึ่งมีพื้นที่เกิน 200 ตารางเมตร
D73: 4401050105.001 | E73: รายได้ค่าใบอนุญาตจำหน่ายสินค้าในที่หรือทางสาธารณะ
D74: 4401050106.001 | E74: รายได้ค่าใบอนุญาตจัดตั้งตลาดเอกชน
D75: 4401050107.001 | E75: รายได้ค่าใบอนุญาตเกี่ยวกับการควบคุมอาคาร
D76: 4401050108.001 | E76: รายได้ค่าใบอนุญาตเกี่ยวกับการโฆษณาโดยใช้เครื่องขยายเสียง
D77: 4401050109.001 | E77: รายได้ค่าใบอนุญาตสำหรับ สิ่งล่วงล้ำลำน้ำ
D78: 4401050199.001 | E78: รายได้ค่าใบอนุญาตอื่น ๆ
A79: รวมรายได้จากการจัดเก็บภาษี ค่าธรรมเนียม ค่าปรับ และใบอนุญาต | B79: =SUM(B7:B78) -> 337113.95 | C79: =SUM(C7:C78) -> 1232076.5

Sheet 24-25
A1: 17
A3: หมายเหตุ 24 รายได้ของกิจการเฉพาะการและหน่วยงานภายใต้สังกัด | D3: รหัสบัญชี | E3: ชื่อบัญชี
B4: (หน่วย:บาท)
B5: 2565 | C5: 2564
A6: รายได้ของสถานธนานุบาล
A7: รายได้จากการขายสินค้าและบริการ | B7: 0 | C7: XXX | D7: 4404010101.001 | E7: รายได้ดอกเบี้ยรับจำนำ
D8: 4404010102.001 | E8: รายได้กำไรจากการจำหน่ายทรัพย์หลุดจำนำ
A9: รายได้อื่น | B9: 0 | C9: XXX | D9: 4404010104.001 | E9: รายได้ดอกเบี้ยเงินฝากที่สถาบันการเงิน
D10: 4404010104.002 | E10: รายได้ดอกเบี้ยเงินลงทุน
D11: 4404010105.001 | E11: รายได้ค่าปรับการผิดสัญญา
D12: 4404010106.001 | E12: รายได้ค่าจำหน่ายเศษของ
D13: 4404010109.001 | E13: รายได้ค่าขายเอกสารจัดซื้อจัดจ้าง
D14: 4404010110.001 | E14: รายได้จากการขายอสังหาริมทรัพย์เพื่อการลงทุน
D15: 4404010111.001 | E15: รายได้จากการขายที่ดินที่มีกรรมสิทธิ์
D16: 4404010112.001 | E16: รายได้จากการขายอาคารและสิ่งปลูกสร้าง
D17: 4404010113.001 | E17: รายได้จากการขายครุภัณฑ์
D18: 4404010114.001 | E18: รายได้จากการขายสินทรัพย์ไม่มีตัวตน
D19: 4404010115.001 | E19: หนี้สูญได้รับคืน
D20: 4404010199.001 | E20: รายได้อื่น
A21: รายได้จากการอุดหนุนอื่นและบริจาค | B21: 0 | C21: XXX | D21: 4404010116.001 | E21: รายได้เงินอุดหนุนจากหน่วยงานอื่น
D22: 4404010107.001 | E22: รายได้จากการบริจาค
D23: 4404010107.002 | E23: รายได้จากการบริจาคเพื่อใช้ตามวัตถุประสงค์
D24: 4404010107.003 | E24: รายได้จากการบริจาคสินทรัพย์
D25: 4404010108.001 | E25: รายได้จากการรับโอนสินทรัพย์ระหว่างหน่วยงาน
A26: รวมรายได้ของสถานธนานุบาล | B26: =SUM(B7:B25) -> 0 | C26: =SUM(C7:C25) -> 0
A27: รายได้ของโรงผลิตน้ำประปา โรงผลิตน้ำดื่มและประปาหมู่บ้าน
A28: รายได้จากการขายสินค้าและบริการ | B28: 0 | C28: XXX | D28: 4404020101.001 | E28: รายได้ค่าจำหน่ายน้ำจากมาตรวัดน้ำ
D29: 4404020102.001 | E29: รายได้ค่าบริการประจำเดือน
D30: 4404020103.001 | E30: รายได้ค่าจำหน่ายน้ำจากท่อธาร
D31: 4404020104.001 | E31: รายได้เงินผลประโยชน์จากกิจการประปา
D32: 4404020105.001 | E32: รายได้จากการจำหน่ายสินค้า
A33: รายได้อื่น | B33: 0 | C33: XXX | D33: 4404020107.001 | E33: รายได้ดอกเบี้ยเงินฝากที่สถาบันการเงิน
D34: 4404020107.002 | E34: รายได้ดอกเบี้ยเงินลงทุน
D35: 4404020108.001 | E35: รายได้ค่าปรับการผิดสัญญา
D36: 4404020109.001 | E36: รายได้ค่าจำหน่ายเศษของ
D37: 4404020112.001 | E37: รายได้ค่าขายเอกสารจัดซื้อจัดจ้าง
D38: 4404020113.001 | E38: รายได้จากการขายอสังหาริมทรัพย์เพื่อการลงทุน
D39: 4404020114.001 | E39: รายได้จากการขายที่ดินที่มีกรรมสิทธิ์
D40: 4404020115.001 | E40: รายได้จากการขายอาคารและสิ่งปลูกสร้าง
D41: 4404020116.001 | E41: รายได้จากการขายครุภัณฑ์
D42: 4404020117.001 | E42: รายได้จากการขายสินทรัพย์ไม่มีตัวตน
D43: 4404020118.001 | E43: หนี้สูญได้รับคืน
D44: 4404020199.001 | E44: รายได้อื่น
A45: รายได้จากการอุดหนุนอื่นและบริจาค | B45: 0 | C45: XXX | D45: 4404020119.001 | E45: รายได้เงินอุดหนุนจากหน่วยงานอื่น
D46: 4404020110.001 | E46: รายได้จากการบริจาค
D47: 4404020110.002 | E47: รายได้จากการบริจาคเพื่อใช้ตามวัตถุประสงค์
D48: 4404020110.003 | E48: รายได้จากการบริจาคสินทรัพย์
D49: 4404020111.001 | E49: รายได้จากการรับโอนสินทรัพย์ระหว่างหน่วยงาน
A50: รวมรายได้ของโรงผลิตน้ำประปา โรงผลิตน้ำดื่มและประปาหมู่บ้าน | B50: =SUM(B28:B49) -> 0 | C50: =SUM(C28:C49) -> 0
A51: รายได้ของสถานีขนส่ง
A52: รายได้จากการขายสินค้าและบริการ | B52: 0 | C52: XXX | D52: 4404030101.001 | E52: รายได้ค่าเช่าสถานที่เพื่อบริการขนส่ง
D53: 4404030102.001 | E53: รายได้ค่าเช่าสถานที่เพื่อบริการห้องสุขา
D54: 4404030103.001 | E54: รายได้ค่าเช่าสถานที่เพื่อขายสินค้าหรือบริการ
A55: รายได้อื่น | B55: 0 | C55: XXX | D55: 4404030105.001 | E55: รายได้ดอกเบี้ยเงินฝากที่สถาบันการเงิน
D56: 4404030105.002 | E56: รายได้ดอกเบี้ยเงินลงทุน
D57: 4404030106.001 | E57: รายได้ค่าปรับการผิดสัญญา
D58: 4404030107.001 | E58: รายได้ค่าจำหน่ายเศษของ
D59: 4404030110.001 | E59: รายได้ค่าขายเอกสารจัดซื้อจัดจ้าง
D60: 4404030111.001 | E60: รายได้จากการขายอสังหาริมทรัพย์เพื่อการลงทุน
D61: 4404030112.001 | E61: รายได้จากการขายที่ดินที่มีกรรมสิทธิ์
D62: 4404030113.001 | E62: รายได้จากการขายอาคารและสิ่งปลูกสร้าง
D63: 4404030114.001 | E63: รายได้จากการขายครุภัณฑ์
D64: 4404030115.001 | E64: รายได้จากการขายสินทรัพย์ไม่มีตัวตน
D65: 4404030116.001 | E65: หนี้สูญได้รับคืน
D66: 4404030199.001 | E66: รายได้อื่น
A67: รายได้จากการอุดหนุนอื่นและบริจาค | B67: 0 | C67: XXX | D67: 4404030117.001 | E67: รายได้เงินอุดหนุนจากหน่วยงานอื่น
D68: 4404030108.001 | E68: รายได้จากการบริจาค
D69: 4404030108.002 | E69: รายได้จากการบริจาคเพื่อใช้ตามวัตถุประสงค์
D70: 4404030108.003 | E70: รายได้จากการบริจาคสินทรัพย์
D71: 4404030109.001 | E71: รายได้จากการรับโอนสินทรัพย์ระหว่างหน่วยงาน
A72: รวมรายได้ของสถานีขนส่ง | B72: =SUM(B52:B71) -> 0 | C72: =SUM(C52:C71) -> 0
A73: รายได้ของโรงพยาบาล และหน่วยบริการสาธารณสุข
A74: รายได้จากการขายสินค้าและบริการ | B74: 0 | C74: XXX | D74: 4404040101.001 | E74: รายได้ค่ารักษาพยาบาล-ชำระเงิน
D75: 4404040102.001 | E75: รายได้ค่ารักษาพยาบาลสิทธิเบิกจ่ายตรง - กรมบัญชีกลาง
D76: 4404040102.002 | E76: รายได้ค่ารักษาพยาบาลสิทธิเบิกจ่ายตรง - องค์กรปกครองส่วนท้องถิ่น
D77: 4404040102.003 | E77: รายได้ค่ารักษาพยาบาลสิทธิเบิกจ่ายตรง - กรุงเทพมหานคร
D78: 4404040102.004 | E78: รายได้ค่ารักษาพยาบาลสิทธิเบิกจ่ายตรง - เมืองพัทยา
D79: 4404040103.001 | E79: รายได้ค่ารักษาพยาบาลสิทธิ - หลักประกันสุขภาพถ้วนหน้า
D80: 4404040103.002 | E80: รายได้กองทุนหลักประกันถ้วนหน้า - P&P แบบเหมาจ่ายต่อผู้มีสิทธิ
D81: 4404040103.003 | E81: รายได้กองทุนหลักประกันถ้วนหน้า - ตามเกณฑ์คุณภาพผลงานบริการ (QOF)
D82: 4404040103.004 | E82: รายได้เงินสนับสนุนงบค่าใช้จ่ายที่เป็นต้นทุนคงที่จากกองทุนหลักประกันสุขภาพถ้วนหน้า (Fixed cost)
D83: 4404040104.001 | E83: รายได้ค่ารักษาพยาบาลสิทธิ - ประกันสังคม
D84: 4404040105.001 | E84: รายค่ารักษาพยาบาลจากกองทุนหรือหน่วยงานอื่น
D85: 4404040106.001 | E85: รายได้จากการขายสินค้าและบริการ
D86: 4404040110.001 | E86: รายได้ค่าเช่า
A87: รายได้อื่น | B87: 0 | C87: XXX | D87: 4.4040401e+09 | E87: รายได้ดอกเบี้ยเงินฝากที่สถาบันการเงิน
D88: 4.4040401e+09 | E88: รายได้ดอกเบี้ยเงินลงทุน
D89: 4.4040401e+09 | E89: รายได้ค่าปรับการผิดสัญญา
D90: 4.4040401e+09 | E90: รายได้ค่าขายจำหน่ายเวชภัณฑ์
D91: 4.4040401e+09 | E91: รายได้ค่าจำหน่ายเศษของ
D92: 4.4040401e+09 | E92: รายได้ค่าขายเอกสารจัดซื้อจัดจ้าง
D93: 4.4040401e+09 | E93: รายได้จากการขายอสังหาริมทรัพย์เพื่อการลงทุน
D94: 4.4040401e+09 | E94: รายได้จากการขายที่ดินที่มีกรรมสิทธิ์
D95: 4.4040401e+09 | E95: รายได้จากการขายอาคารและสิ่งปลูกสร้าง
D96: 4.4040401e+09 | E96: รายได้จากการขายครุภัณฑ์
D97: 4.4040401e+09 | E97: รายได้จากการขายสินทรัพย์ไม่มีตัวตน
D98: 4.4040401e+09 | E98: หนี้สูญได้รับคืน
D99: 4.4040402e+09 | E99: รายได้อื่น
A100: รายได้จากการอุดหนุนอื่นและบริจาค | B100: 0 | C100: XXX | D100: 4404040122.001 | E100: รายได้เงินอุดหนุนจากหน่วยงานอื่น
D101: 4.4040401e+09 | E101: รายได้จากการบริจาค
...

Sheet 25
A1: =+L!A1 -> เทศบาลตำบลหลักช้าง
A2: หมายเหตุประกอบงบการเงิน
A3: =+L!A3 -> สำหรับปีสิ้นสุดวันที่ 30 กันยายน 2565
A4: หมายเหตุ 25 รายได้อื่น | D4: รหัสบัญชี | E4: ชื่อบัญชี
B5: (หน่วย:บาท)
B6: 2565 | C6: 2564
A7: รายได้ดอกเบี้ยเงินฝากที่สถาบันการเงิน | B7: =+W!AH84 -> 283357.66 | C7: 219911.7 | D7: 4401070101.001 | E7: รายได้ดอกเบี้ยเงินฝากที่สถาบันการเงิน
A8: รายได้ดอกเบี้ยหรือเงินปันผล | B8: =+W!AH85 -> 74191.52 | C8: 337290.6 | D8: 4401070102.001 | E8: รายได้ดอกเบี้ยเงินลงทุน
D9: 4401070103.001 | E9: รายได้ดอกเบี้ยอื่น
D10: 4401070104.001 | E10: รายได้เงินปันผล
D11: 4401070105.001 | E11: รายได้ค่าตอบแทนตามที่กฎหมายกำหนด
D12: 4401070199.001 | E12: รายได้จากทรัพย์สินอื่น
A13: รายได้จากกิจการเฉพาะการ | B13: xxx | C13: xxx | D13: 4401080005.001 | E13: รายได้หรือเงินสะสมจากการโอนกิจการสาธารณูปโภคหรือกิจการพาณิชย์
A14: รายได้อื่น | B14: =+W!AH88+W!AH89 -> 90314.96 | C14: =83000+252.3+903 -> 84155.3 | D14: 4401100101.001 | E14: รายได้ค่าขายเวชภัณฑ์
D15: 4401100102.001 | E15: รายได้ค่าจำหน่ายเศษของ
D16: 4401100105.001 | E16: รายได้ค่าขายเอกสารจัดซื้อจัดจ้าง
D17: 4401100106.001 | E17: รายได้ค่าเขียนแบบแปลน
D18: 4401100107.001 | E18: รายได้จากการขายอสังหาริมทรัพย์เพื่อการลงทุน
D19: 4401100108.001 | E19: รายได้จากการขายที่ดินที่มีกรรมสิทธิ์
D20: 4401100109.001 | E20: รายได้จากการขายอาคารและ สิ่งปลูกสร้าง
D21: 4401100110.001 | E21: รายได้จากการขายครุภัณฑ์
D22: 4401100111.001 | E22: รายได้จากการขายสินทรัพย์ไม่มีตัวตน
D23: 4401100112.001 | E23: หนี้สูญได้รับคืน
D24: 4401100113.001 | E24: รายได้เงินชดเชยปฏิบัติการฉุกเฉิน
D25: 4401100114.001 | E25: รายได้เงินรางวัลต่าง ๆ
D26: 4401100198.001 | E26: รายได้จากทุนอื่น ๆ
D27: 4401100199.001 | E27: รายได้เบ็ดเตล็ดอื่น ๆ
A28: รวมรายได้อื่น | B28: =SUM(B7:B27) -> 447864.14 | C28: =SUM(C7:C27) -> 641357.6

Sheet 26-27
A1: 18
A3: หมายเหตุ 26 ค่าใช้จ่ายบุคลากร | D3: รหัสบัญชี | E3: ชื่อบัญชี
B4: (หน่วย:บาท)
B5: 2565 | C5: 2564
A6: เงินเดือน (ฝ่ายประจำ) | B6: =+W!AG102 -> 6452371.3 | C6: 6450712 | D6: 5101010101.001 5101010109.001 | E6: เงินเดือน เงินตอบแทนพิเศษของผู้ได้รับเงินเต็มขั้น
A7: เงินเดือน (ฝ่ายการเมือง) | B7: =+W!AG106 -> 2608436.1 | C7: 2000680 | D7: 5101010199.001 | E7: เงินเดือน (ฝ่ายการเมือง)
A8: ค่าล่วงเวลา | B8: xxx | C8: xxx | D8: 5101010108.001 | E8: ค่าล่วงเวลา
A9: เงินประจำตำแหน่ง | B9: =+W!AG103 -> 211532.26 | C9: 211225.8 | D9: 5101010103.001 | E9: เงินประจำตำแหน่ง
A10: ค่าจ้าง | B10: =+W!AG105 -> 234780 | C10: 223620 | D10: 5101010113.001 | E10: ค่าจ้าง
A11: เงินตอบแทนพนักงานขององค์กรปกครองส่วนท้องถิ่น | B11: =+W!AG107 -> 2700679.4 | C11: 1999940 | D11: 5101010199.002 | E11: เงินค่าตอบแทนพนักงานขององค์กรปกครองส่วนท้องถิ่น
A12: เงินค่าครองชีพ | B12: =+W!AG136 -> 241296.61 | C12: 205042.5 | D12: 5104040108.001 | E12: เงินค่าครองชีพ
A13: โบนัส | B13: xxx | C13: xxx | D13: 5101010102.001 | E13: โบนัส
A14: ค่ารักษาพยาบาล | B14: xxx | C14: xxx | D14: 5101030205.001 5101030206.001 5101030207.001 5101030208.001 5101030211.001 | E14: เงินช่วยค่ารักษาพยาบาลประเภทผู้ป่วยนอก - รพ.รัฐ สำหรับผู้มีสิทธิตามฎหมายยกเว้นผู้รับเบี้ยหวัด/บำนาญ เงินช่วยค่ารักษาพยาบาลประเภทผู้ป่วยใน - รพ.รัฐ สำหรับผู้มีสิทธิตามกฎหมาย ยกเว้นผู้รับเบี้ยหวัด/บำนาญ เงินช่วยค่ารักษาพยาบาลประเภทผู้ป่วยนอก - รพ.เอกชน สำหรับผู้มีสิทธิตามกฎหมาย ยกเว้นผู้รับเบี้ยหวัด/บำนาญ เงินช่วยค่ารักษาพยาบาลประเภทผู้ป่วยใน - รพ.เอกชน สำหรับผู้มีสิทธิตามกฎหมาย ยกเว้นผู้รับเบี้ยหวัด/บำนาญ เงินช่วยเหลือค่ารักษาพยาบาลตามกฎหมายสงเคราะห์ข้าราชการ
A15: เงินช่วยการศึกษาบุตร | B15: =+W!AG113 -> 64366 | C15: 106100 | D15: 5101030101.001 | E15: เงินช่วยการศึกษาบุตร
A16: เงินช่วยเหลือบุตร | B16: xxx | C16: xxx | D16: 5101030102.001 | E16: เงินช่วยเหลือบุตร
A17: เงินช่วยพิเศษ | B17: xxx | C17: xxx | D17: 5101020101.001 | E17: เงินช่วยพิเศษ
A18: เงินวิทยฐานะ | B18: =+W!AG104 -> 122500 | C18: 35000 | D18: 5101010111.001 | E18: เงินวิทยฐานะ
A19: เงินทำขวัญข้าราชการและลูกจ้าง | B19: xxx | C19: xxx | D19: 5101020102.001 | E19: เงินทำขวัญข้าราชการและลูกจ้าง
A20: เงินสมทบ กบข. | B20: xxx | C20: xxx | D20: 5101020104.001 | E20: เงินสมทบ กบข.
A21: เงินสมทบ กสจ. | B21: xxx | C21: xxx | D21: 5101020105.001 | E21: เงินสมทบ กสจ.
A22: เงินสมทบ กบท. | B22: =+W!AG111 -> 690000 | C22: 756489 | D22: 5101020199.001 | E22: เงินสมทบ กบท.
A23: เงินสมทบกองทุนประกันสังคม | B23: =+W!AG108 -> 100848 | C23: 66999.32 | D23: 5101020106.001 | E23: เงินสมทบกองทุนประกันสังคม
A24: เงินสมทบกองทุนเงินทดแทน | B24: =+W!AG112 -> 5520.25 | C24: 2015.43 | D24: 5101020199.002 | E24: เงินสมทบกองทุนเงินทดแทน
A25: เงินสมทบเงินสะสมพนักงาน | B25: xxx | C25: xxx | D25: 5101020199.003 | E25: เงินสมทบเงินสะสมพนักงาน
A26: ค่าเช่าบ้าน | B26: =+W!AG109 -> 107387 | C26: 61000 | D26: 5101020108.001 | E26: ค่าเช่าบ้าน
A27: ค่าเบี้ยประกันชีวิตและสุขภาพ | B27: xxx | C27: xxx | D27: 5101020109.001 5101020110.001 | E27: ค่าเบี้ยประกันสุขภาพ ค่าเบี้ยประกันชีวิต
A28: เงินเพิ่ม | B28: =+W!AG110 -> 84000 | C28: 84000 | D28: 5101020114..001 | E28: เงินเพิ่ม
A29: ค่าตอบแทนพิเศษชายแดนภาคใต้ | B29: xxx | C29: xxx | D29: 5101020115.001 | E29: ค่าตอบแทนพิเศษชายแดนภาคใต้
A30: ค่าใช้จ่ายบุคลากรอื่น | B30: xxx | C30: xxx | D30: 5101020199.999 5101010199.999 | E30: ค่าใช้จ่ายบุคลากรอื่น เงินเดือนและค่าจ้างอื่น
A31: รวมค่าใช้จ่ายบุคลากร | B31: =SUM(B6:B30) -> 13623717 | C31: =SUM(C6:C30) -> 12202824
A33: หมายเหตุ 27 ค่าบำเหน็จบำนาญ
B34: (หน่วย:บาท)
B35: 2565 | C35: 2564
A36: บำนาญ | B36: 0 | C36: xxx
A37: เงินบำเหน็จ | B37: 0 | C37: 418932 | D37: 5101040106.001 | E37: เงินบำเหน็จ
A38: เงินบำเหน็จตกทอด | B38: 0 | C38: xxx
A39: เงินบำเหน็จดำรงชีพ | B39: 0 | C39: xxx
A40: บำเหน็จรายเดือนสำหรับการเบิกเงินบำเหน็จลูกจ้าง | B40: 0 | C40: xxx
A41: เงินช่วยพิเศษกรณีผู้รับบำนาญเสียชีวิต | B41: 0 | C41: xxx
A42: เงินชดเชยกรณีเลิกจ้าง | B42: 0 | C42: xxx
A43: ค่ารักษาพยาบาล | B43: 0 | C43: xxx
A44: เงินช่วยการศึกษาบุตรผู้รับบำนาญ | B44: 0 | C44: xxx
A45: เงินช่วยเหลือบุตรผู้รับบำนาญ | B45: 0 | C45: xxx
A46: บำเหน็จบำนาญอื่น | B46: 0 | C46: xxx
A47: รวมค่าบำเหน็จบำนาญ | B47: =SUM(B36:B46) -> 0 | C47: =SUM(C36:C46) -> 418932

Sheet 27
A1: =+L!A1 -> เทศบาลตำบลหลักช้าง
A2: หมายเหตุประกอบงบการเงิน
A3: =+L!A3 -> สำหรับปีสิ้นสุดวันที่ 30 กันยายน 2565
A4: หมายเหตุ 27 ค่าบำเหน็จบำนาญ | D4: รหัสบัญชี | E4: ชื่อบัญชี
B5: (หน่วย:บาท)
B6: 2565 | C6: 2564
A7: บำนาญ | B7: 0 | C7: xxx | D7: 5101040102.001 5101040118.001 | E7: บำนาญปกติ เงินบำนาญตกทอด
A8: เงินบำเหน็จ | B8: 0 | C8: 418932 | D8: 5101040106.001 | E8: เงินบำเหน็จ
A9: เงินบำเหน็จตกทอด | B9: 0 | C9: xxx | D9: 5101040107.001 | E9: เงินบำเหน็จตกทอด
A10: เงินบำเหน็จดำรงชีพ | B10: 0 | C10: xxx | D10: 5101040108.001 | E10: เงินบำเหน็จดำรงชีพ
A11: บำเหน็จรายเดือนสำหรับการเบิกเงินบำเหน็จลูกจ้าง | B11: 0 | C11: xxx | D11: 5101040120.001 | E11: บำเหน็จรายเดือนสำหรับการเบิกเงินบำเหน็จลูกจ้าง
A12: เงินช่วยพิเศษกรณีผู้รับบำนาญเสียชีวิต | B12: 0 | C12: xxx | D12: 5101040111.001 | E12: เงินช่วยพิเศษกรณีผู้รับบำนาญเสียชีวิต
A13: เงินชดเชยกรณีเลิกจ้าง | B13: 0 | C13: xxx | D13: 5101040119.001 | E13: เงินชดเชยกรณีเลิกจ้าง
A14: ค่ารักษาพยาบาล | B14: 0 | C14: xxx | D14: 5101040204.001 5101040205.001 5101040206.001 5101040207.001 | E14: เงินช่วยค่ารักษาพยาบาลประเภทผู้ป่วยนอก - รพ.รัฐ สำหรับผู้รับเบี้ยหวัด/บำนาญตามกฎหมาย เงินช่วยค่ารักษาพยาบาลประเภทผู้ป่วยใน- รพ.รัฐ สำหรับผู้รับเบี้ยหวัด/บำนาญตามกฎหมาย เงินช่วยค่ารักษาพยาบาลประเภทผู้ป่วยนอก - รพ.เอกชน สำหรับผู้รับเบี้ยหวัด/บำนาญตามกฎหมาย เงินช่วยค่ารักษาพยาบาลประเภทผู้ป่วยใน - รพ.เอกชน สำหรับผู้รับเบี้ยหวัด/บำนาญ ตามกฎหมาย
A15: เงินช่วยการศึกษาบุตรผู้รับบำนาญ | B15: 0 | C15: xxx | D15: 5101040202.001 | E15: เงินช่วยการศึกษาบุตรผู้รับบำนาญ
A16: เงินช่วยเหลือบุตรผู้รับบำนาญ | B16: 0 | C16: xxx | D16: 5101040203.001 | E16: เงินช่วยเหลือบุตรผู้รับบำนาญ
A17: บำเหน็จบำนาญอื่น | B17: 0 | C17: xxx | D17: 5101040199.999 | E17: บำเหน็จบำนาญอื่น
A18: รวมค่าบำเหน็จบำนาญ | B18: =SUM(B7:B17) -> 0 | C18: =SUM(C7:C17) -> 418932

Sheet 28-30
A1: 19
A3: หมายเหตุ 28 ค่าตอบแทน | D3: รหัสบัญชี | E3: ชื่อบัญชี
B4: (หน่วย:บาท)
B5: 2565 | C5: 2564
A6: ค่าตอบแทนตามตำแหน่ง | B6: xxx | C6: xxx | D6: 5104040101.001 5104040103.001 | E6: ค่าตอบแทนตามตำแหน่ง เงินประจำตำแหน่งพิเศษและเงินเพิ่ม
A7: ค่าตอบแทนการปฏิบัติงาน | B7: =+W!AG135 -> 243416 | C7: 269530 | D7: 5104040102.001 | E7: ค่าตอบแทนการปฏิบัติงาน
A8: ค่าตอบแทนอาสาสมัคร | B8: xxx | C8: xxx | D8: 5104040105.001 | E8: ค่าตอบแทนอาสาสมัคร
A9: ค่าตอบแทนอื่น | B9: =+W!AG137 -> 18524 | C9: 34620 | D9: 5104040199.001 | E9: ค่าตอบแทนอื่น
A10: รวมค่าตอบแทน | B10: =SUM(B6:B9) -> 261940 | C10: =SUM(C6:C9) -> 304150
A12: หมายเหตุ 29 ค่าใช้สอย
B13: (หน่วย:บาท)
B14: 2565 | C14: 2564
A15: ค่าใช้จ่ายทุนการศึกษา | B15: xxx | C15: xxx
A16: ค่าใช้จ่ายด้านการฝึกอบรม | B16: =+W!AG114 -> 337737 | C16: 34250 | D16: 5102010199.001 5102020199.001 5102030199.001 | E16: ค่าใช้จ่ายด้านการฝึกอบรม - ในประเทศ ค่าใช้จ่ายด้านการฝึกอบรม - ต่างประเทศ ค่าใช้จ่ายด้านการฝึกอบรม - บุคคลภายนอก
A17: ค่าใช้จ่ายเดินทาง | B17: =+W!AG117+W!AG115+W!AG116 -> 195863 | C17: =8230+13600+20747.09 -> 42577.09 | D17: 5103010199.001 5103010102.001 5103010103.001 5103020199.001 5103020102.001 5103020103.001 | E17: ค่าใช้จ่ายเดินทางไปราชการ - ในประเทศ ค่าเบี้ยเลี้ยง ค่าที่พัก ค่าใช้จ่ายเดินไปราชการ - ต่างประเทศ ค่าเบี้ยเลี้ยง ค่าที่พัก
A18: ค่าซ่อมแซมและบำรุงรักษา | B18: =+W!AG119+W!AG120 -> 901457.57 | C18: 267020.76 | D18: 5104010107.001 5104010107.002 5104010107.003 | E18: ค่าซ่อมแซมและบำรุงรักษา ค่าใช้จ่ายในการปรับปรุงภูมิทัศน์ ค่าใช้จ่ายในการปรับปรุงอสังหาริมทรัพย์ต่ำกว่าเกณฑ์
A19: ค่าจ้างเหมาบริการ | B19: =+W!AG122+W!AG123 -> 710683.45 | C19: =595913+306942.35 -> 902855.35 | D19: 5104010112.001 5104010113.001 | E19: ค่าจ้างเหมาบริการ - บุคคลภายนอก ค่าจ้างเหมาบริการ - หน่วยงานภาครัฐ
A20: ค่าธรรมเนียม | B20: xxx | C20: xxx | D20: 5104010114.001 5104010115.001 | E20: ค่าธรรมเนียมทางกฎหมาย ค่าธรรมเนียม
A21: ค่าจ้างที่ปรึกษา | B21: xxx | C21: xxx | D21: 5104030202.001 | E21: ค่าจ้างที่ปรึกษา
A22: ค่าใช้จ่ายในการประชุม | B22: =+W!AG131 -> 3660 | C22: 2275 | D22: 5104030207.001 | E22: ค่าใช้จ่ายในการประชุม
A23: ค่าเช่า | B23: =+W!AG133 -> 14600 | C23: 2250 | D23: 5104030209.001 5104030210.001 5104030211.001 5104030212.001 | E23: ค่าเช่าอสังหาริมทรัพย์ - หน่วยงานภาครัฐ ค่าเช่าอสังหาริมทรัพย์ - บุคคลภายนอก ค่าเช่าเบ็ดเตล็ด - หน่วยงานภาครัฐ ค่าเช่าเบ็ดเตล็ด - บุคคลภายนอก
A24: ค่าวิจัยและพัฒนา | B24: xxx | C24: xxx | D24: 5104030215.001 5104030216.001 | E24: ค่าวิจัยและพัฒนา - หน่วยงานภาครัฐ ค่าวิจัยและพัฒนา - บุคคลภายนอก
A25: ค่าประชาสัมพันธ์ | B25: =+W!AG134 -> 52469.6 | C25: 49987 | D25: 5104030219.001 | E25: ค่าประชาสัมพันธ์
A26: ค่าใช้สอยอื่น | B26: =+W!AG128+W!AG132 -> 34872.87 | C26: =826.37+11725+38330 -> 50881.37 | D26: 5104030203.001 5104030208.001 5104030213.001 5104030214.001 5104030217.001 5104030220.001 5104030299.001 | E26: ค่าเบี้ยประกันภัย ค่ารับรองและพิธีการ ค่าตรวจสอบบัญชี - สำนักงานการตรวจเงินแผ่นดิน ค่าตรวจสอบบัญชี - ผู้ตรวจสอบอื่น เงินชดเชยค่างานสิ่งก่อสร้าง ชดใช้ค่าเสียหาย ค่าใช้สอยอื่น ๆ
A28: รวมค่าใช้สอย | B28: =SUM(B15:B27) -> 2251343.5 | C28: =SUM(C15:C27) -> 1352096.6
A30: หมายเหตุ 30 ค่าวัสดุ
B31: (หน่วย:บาท)
B32: 2565 | C32: 2564
A33: ค่าวัสดุใช้ไป | B33: =+W!AG118 -> 599197.4 | C33: 318711.09 | D33: 5104010104.001 | E33: ค่าวัสดุใช้ไป
A34: ค่าแก็สและน้ำมันเชื้อเพลิง | B34: =+W!AG121 -> 155821.98 | C34: 121438.03 | D34: 5104010110.001 | E34: ค่าเชื้อเพลิง
A35: ค่าจัดหาสินทรัพย์มูลค่าต่ำกว่าเกณฑ์ | B35: =+W!AG130 -> 101700 | C35: 117740 | D35: 5104030206.001 | E35: ค่าครุภัณฑ์มูลค่าต่ำกว่าเกณฑ์
A36: รวมค่าวัสดุ | B36: =SUM(B33:B35) -> 856719.38 | C36: =SUM(C33:C35) -> 557889.12

Sheet 29
A1: =+L!A1 -> เทศบาลตำบลหลักช้าง
A2: หมายเหตุประกอบงบการเงิน
A3: =+L!A3 -> สำหรับปีสิ้นสุดวันที่ 30 กันยายน 2565
A4: หมายเหตุ 29 ค่าใช้สอย | D4: รหัสบัญชี | E4: ชื่อบัญชี
B5: (หน่วย:บาท)
B6: 2565 | C6: 2564
A7: ค่าใช้จ่ายทุนการศึกษา | B7: xxx | C7: xxx | D7: 5102010106.001 | E7: ค่าใช้จ่ายทุนการศึกษา - ในประเทศ
A8: ค่าใช้จ่ายด้านการฝึกอบรม | B8: =+W!AG114 -> 337737 | C8: 34250 | D8: 5102010199.001 5102020199.001 5102030199.001 | E8: ค่าใช้จ่ายด้านการฝึกอบรม - ในประเทศ ค่าใช้จ่ายด้านการฝึกอบรม - ต่างประเทศ ค่าใช้จ่ายด้านการฝึกอบรม - บุคคลภายนอก
A9: ค่าใช้จ่ายเดินทาง | B9: =+W!AG117+W!AG115+W!AG116 -> 195863 | C9: =8230+13600+20747.09 -> 42577.09 | D9: 5103010199.001 5103010102.001 5103010103.001 5103020199.001 5103020102.001 5103020103.001 | E9: ค่าใช้จ่ายเดินทางไปราชการ - ในประเทศ ค่าเบี้ยเลี้ยง ค่าที่พัก ค่าใช้จ่ายเดินไปราชการ - ต่างประเทศ ค่าเบี้ยเลี้ยง ค่าที่พัก
A10: ค่าซ่อมแซมและบำรุงรักษา | B10: =+W!AG119+W!AG120 -> 901457.57 | C10: 267020.76 | D10: 5104010107.001 5104010107.002 5104010107.003 | E10: ค่าซ่อมแซมและบำรุงรักษา ค่าใช้จ่ายในการปรับปรุงภูมิทัศน์ ค่าใช้จ่ายในการปรับปรุงอสังหาริมทรัพย์ต่ำกว่าเกณฑ์
A11: ค่าจ้างเหมาบริการ | B11: =+W!AG122+W!AG123 -> 710683.45 | C11: =595913+306942.35 -> 902855.35 | D11: 5104010112.001 5104010113.001 | E11: ค่าจ้างเหมาบริการ - บุคคลภายนอก ค่าจ้างเหมาบริการ - หน่วยงานภาครัฐ
A12: ค่าธรรมเนียม | B12: xxx | C12: xxx | D12: 5104010114.001 5104010115.001 | E12: ค่าธรรมเนียมทางกฎหมาย ค่าธรรมเนียม
A13: ค่าจ้างที่ปรึกษา | B13: xxx | C13: xxx | D13: 5104030202.001 | E13: ค่าจ้างที่ปรึกษา
A14: ค่าใช้จ่ายในการประชุม | B14: =+W!AG131 -> 3660 | C14: 2275 | D14: 5104030207.001 | E14: ค่าใช้จ่ายในการประชุม
A15: ค่าเช่า | B15: =+W!AG133 -> 14600 | C15: 2250 | D15: 5104030209.001 5104030210.001 5104030211.001 5104030212.001 | E15: ค่าเช่าอสังหาริมทรัพย์ - หน่วยงานภาครัฐ ค่าเช่าอสังหาริมทรัพย์ - บุคคลภายนอก ค่าเช่าเบ็ดเตล็ด - หน่วยงานภาครัฐ ค่าเช่าเบ็ดเตล็ด - บุคคลภายนอก
A16: ค่าวิจัยและพัฒนา | B16: xxx | C16: xxx | D16: 5104030215.001 5104030216.001 | E16: ค่าวิจัยและพัฒนา - หน่วยงานภาครัฐ ค่าวิจัยและพัฒนา - บุคคลภายนอก
A17: ค่าประชาสัมพันธ์ | B17: =+W!AG134 -> 52469.6 | C17: 49987 | D17: 5104030219.001 | E17: ค่าประชาสัมพันธ์
A18: ค่าใช้สอยอื่น | B18: =+W!AG128+W!AG132 -> 34872.87 | C18: =826.37+11725+38330 -> 50881.37 | D18: 5104030203.001 5104030208.001 5104030213.001 5104030214.001 5104030217.001 5104030220.001 5104030299.001 | E18: ค่าเบี้ยประกันภัย ค่ารับรองและพิธีการ ค่าตรวจสอบบัญชี - สำนักงานการตรวจเงินแผ่นดิน ค่าตรวจสอบบัญชี - ผู้ตรวจสอบอื่น เงินชดเชยค่างานสิ่งก่อสร้าง ชดใช้ค่าเสียหาย ค่าใช้สอยอื่น ๆ
D19: 5104030299.002 | E19: ค่ารักษาพยาบาลจ่ายตามจริง
A20: รวมค่าใช้สอย | B20: =SUM(B7:B19) -> 2251343.5 | C20: =SUM(C7:C19) -> 1352096.6

Sheet 30
A1: =+L!A1 -> เทศบาลตำบลหลักช้าง
A2: หมายเหตุประกอบงบการเงิน
A3: =+L!A3 -> สำหรับปีสิ้นสุดวันที่ 30 กันยายน 2565
A4: หมายเหตุ 30 ค่าวัสดุ | D4: รหัสบัญชี | E4: ชื่อบัญชี
B5: (หน่วย:บาท)
B6: 2565 | C6: 2564
A7: ค่าวัสดุใช้ไป | B7: =+W!AG118 -> 599197.4 | C7: 318711.09 | D7: 5104010104.001 | E7: ค่าวัสดุใช้ไป
A8: ค่าแก็สและน้ำมันเชื้อเพลิง | B8: =+W!AG121 -> 155821.98 | C8: 121438.03 | D8: 5104010110.001 | E8: ค่าเชื้อเพลิง
A9: ค่าจัดหาสินทรัพย์มูลค่าต่ำกว่าเกณฑ์ | B9: =+W!AG130 -> 101700 | C9: 117740 | D9: 5104030206.001 | E9: ค่าครุภัณฑ์มูลค่าต่ำกว่าเกณฑ์
A10: รวมค่าวัสดุ | B10: =SUM(B7:B9) -> 856719.38 | C10: =SUM(C7:C9) -> 557889.12

Sheet 31-33
A1: 20
A3: หมายเหตุ 31 ค่าสาธารณูปโภค | D3: รหัสบัญชี | E3: ชื่อบัญชี
B4: (หน่วย:บาท)
B5: 2565 | C5: 2564
A6: ค่าไฟฟ้า | B6: =+W!AG124 -> 169319.33 | C6: 265010.46 | D6: 5104020101.001 | E6: ค่าไฟฟ้า
A7: ค่าน้ำประปาและบาดาล | B7: xxx | C7: xxx | D7: 5104020103.001 | E7: ค่าน้ำประปาและน้ำบาดาล
A8: ค่าโทรศัพท์ | B8: =+W!AG125 -> 4940.22 | C8: 6411.47 | D8: 5104020105.001 | E8: ค่าโทรศัพท์
A9: ค่าบริการสื่อสารและโทรคมนาคม | B9: =+W!AG126 -> 72000 | C9: 78000 | D9: 5104020106.001 | E9: ค่าบริการสื่อสารและโทรคมนาคม
A10: ค่าบริการไปรษณีย์ | B10: =+W!AG127 -> 33958 | C10: 24884 | D10: 5104020107.001 | E10: ค่าบริการไปรษณีย์
A11: รวมค่าสาธารณูปโภค | B11: =SUM(B6:B10) -> 280217.55 | C11: =SUM(C6:C10) -> 374305.93
A13: หมายเหตุ 32 ต้นทุนขายสินค้าและบริการ
B14: (หน่วย:บาท)
B15: 2565 | C15: 2564
A16: ต้นทุนขายสินค้าและบริการ | B16: =+W!AG129 -> 884455.02 | C16: 827526.45 | D16: 5104030205.001 | E16: ต้นทุนขาย - สินค้าและบริการ
A17: ค่ายาใช้ไป | B17: xxx | C17: xxx
A18: ค่าวัสดุที่มีไว้ใช้เพื่อการแพทย์ใช้ไป | B18: xxx | C18: xxx
A19: รวมต้นทุนขายสินค้าและบริการ | B19: =SUM(B16:B18) -> 884455.02 | C19: =SUM(C16:C18) -> 827526.45
A21: หมายเหตุ 33 ค่าเสื่อมราคาและค่าตัดจำหน่าย
B22: (หน่วย:บาท)
B23: 2565 | C23: 2564
A24: อาคารและสิ่งปลูกสร้าง | B24: =+W!AG138+W!AG139+W!AG140 -> 301891.84 | C24: =158655+58290.5+93316.11 -> 310261.61 | D24: 5105010101.001 5105010103.001 5105010105.001 5105010106.001 5105010107.001 5105010108.001 5105010158.001 5105010194.001 | E24: ค่าเสื่อมราคา - อาคารเพื่อการพักอาศัย ค่าเสื่อมราคา - อาคารสำนักงาน ค่าเสื่อมราคา - อาคารเพื่อประโยชน์อื่น ค่าเสื่อมราคา - อาคารภายใต้สัญญาเช่าการเงิน ค่าเสื่อมราคา - สิ่งปลูกสร้าง ค่าเสื่อมราคา - สิ่งปลูกสร้างภายใต้สัญญาเช่าการเงิน ค่าเสื่อมราคา - ส่วนปรับปรุงอาคาร ค่าเสื่อมราคา - อาคารและสิ่งปลูกสร้างไม่ระบุรายละเอียด
A25: ครุภัณฑ์ | B25: =+W!AG141+W!AG142+W!AG143+W!AG144+W!AG145+W!AG146+W!AG147 -> 162661.06 | C25: =1729.37+21638+21800.11+5060+3833.33+50377 -> 104437.81 | D25: 5105010109.001 5105010111.001 5105010113.001 5105010115.001 5105010117.001 5105010119.001 5105010121.001 5105010123.001 | E25: ค่าเสื่อมราคา - ครุภัณฑ์สำนักงาน ค่าเสื่อมราคา - ยานพาหนะและขนส่ง ค่าเสื่อมราคา - ครุภัณฑ์ไฟฟ้าและวิทยุ ค่าเสื่อมราคา - ครุภัณฑ์โฆษณาและเผยแพร่ ค่าเสื่อมราคา - ครุภัณฑ์การเกษตร ค่าเสื่อมราคา - ครุภัณฑ์โรงงาน ค่าเสื่อมราคา - ครุภัณฑ์ก่อสร้าง ค่าเสื่อมราคา - ครุภัณฑ์สำรวจ
D26: 5105010125.001 5105010127.001 5105010129.001 5105010131.001 5105010133.001 5105010135.001 5105010137.001 5105010139.001 5105010140.001 5105010195.001 | E26: ค่าเสื่อมราคา - ครุภัณฑ์วิทยาศาสตร์และการแพทย์ ค่าเสื่อมราคา - ครุภัณฑ์คอมพิวเตอร์ ค่าเสื่อมราคา - ครุภัณฑ์การศึกษา ค่าเสื่อมราคา - ครุภัณฑ์งานบ้านงานครัว ค่าเสื่อมราคา - ครุภัณฑ์กีฬา ค่าเสื่อมราคา - ครุภัณฑ์ดนตรี ค่าเสื่อมราคา - ครุภัณฑ์สนาม ค่าเสื่อมราคา - ครุภัณฑ์อื่น ค่าเสื่อมราคา - ครุภัณฑ์ภายใต้สัญญาเช่าการเงิน ค่าเสื่อมราคา - ครุภัณฑ์ไม่ระบุรายละเอียด
A27: สินทรัพย์โครงสร้างพื้นฐาน | B27: =+W!AG148+W!AG149+W!AG150 -> 5162981.6 | C27: =2760425.74+6945.13+901962.74 -> 3669333.6 | D27: 5105010143.001 5105010144.001 5105010145.001 5105010146.001 5105010147.001 5105010197.001 | E27: ค่าเสื่อมราคา - ถนน ค่าเสื่อมราคา - สะพาน ค่าเสื่อมราคา - เขื่อน ค่าเสื่อมราคา - อ่างเก็บน้ำ ค่าเสื่อมราคา - สินทรัพย์โครงสร้างพื้นฐานอื่น ค่าเสื่อมราคา - สินทรัพย์โครงสร้างพื้นฐานไม่ระบุรายละเอียด
A28: อสังหาริมทรัพย์เพื่อการลงทุน | B28: xxx | C28: xxx
A29: สินทรัพย์ไม่มีตัวตน | B29: xxx | C29: xxx
A30: รวมค่าเสื่อมราคาและค่าตัดจำหน่าย | B30: =SUM(B24:B29) -> 5627534.5 | C30: =SUM(C24:C29) -> 4084033

Sheet 32
A1: =+L!A1 -> เทศบาลตำบลหลักช้าง
A2: หมายเหตุประกอบงบการเงิน
A3: =+L!A3 -> สำหรับปีสิ้นสุดวันที่ 30 กันยายน 2565
A4: หมายเหตุ 32 ต้นทุนขายสินค้าและบริการ | D4: รหัสบัญชี | E4: ชื่อบัญชี
B5: (หน่วย:บาท)
B6: 2565 | C6: 2564
A7: ต้นทุนขายสินค้าและบริการ | B7: =+W!AG129 -> 884455.02 | C7: 827526.45 | D7: 5104030205.001 | E7: ต้นทุนขาย - สินค้าและบริการ
A8: ค่ายาใช้ไป | B8: xxx | C8: xxx | D8: 5104010104.002 | E8: ค่ายาใช้ไป
A9: ค่าวัสดุที่มีไว้ใช้เพื่อการแพทย์ใช้ไป | B9: xxx | C9: xxx | D9: 5104010104.003 | E9: ค่าวัสดุที่มีไว้ใช้เพื่อการแพทย์ใช้ไป
A10: รวมต้นทุนขายสินค้าและบริการ | B10: =SUM(B7:B9) -> 884455.02 | C10: =SUM(C7:C9) -> 827526.45

Sheet 33
A1: =+L!A1 -> เทศบาลตำบลหลักช้าง
A2: หมายเหตุประกอบงบการเงิน
A3: =+L!A3 -> สำหรับปีสิ้นสุดวันที่ 30 กันยายน 2565
A4: หมายเหตุ 33 ค่าเสื่อมราคาและค่าตัดจำหน่าย | D4: รหัสบัญชี | E4: ชื่อบัญชี
B5: (หน่วย:บาท)
B6: 2565 | C6: 2564
A7: อาคารและสิ่งปลูกสร้าง | B7: =+W!AG138+W!AG139+W!AG140 -> 301891.84 | C7: =158655+58290.5+93316.11 -> 310261.61 | D7: 5105010101.001 5105010103.001 5105010105.001 5105010106.001 5105010107.001 5105010108.001 5105010158.001 5105010194.001 | E7: ค่าเสื่อมราคา - อาคารเพื่อการพักอาศัย ค่าเสื่อมราคา - อาคารสำนักงาน ค่าเสื่อมราคา - อาคารเพื่อประโยชน์อื่น ค่าเสื่อมราคา - อาคารภายใต้สัญญาเช่าการเงิน ค่าเสื่อมราคา - สิ่งปลูกสร้าง ค่าเสื่อมราคา - สิ่งปลูกสร้างภายใต้สัญญาเช่าการเงิน ค่าเสื่อมราคา - ส่วนปรับปรุงอาคาร ค่าเสื่อมราคา - อาคารและสิ่งปลูกสร้างไม่ระบุรายละเอียด
A8: ครุภัณฑ์ | B8: =+W!AG141+W!AG142+W!AG143+W!AG144+W!AG145+W!AG146+W!AG147 -> 162661.06 | C8: =1729.37+21638+21800.11+5060+3833.33+50377 -> 104437.81 | D8: 5105010109.001 5105010111.001 5105010113.001 5105010115.001 5105010117.001 5105010119.001 5105010121.001 5105010123.001 | E8: ค่าเสื่อมราคา - ครุภัณฑ์สำนักงาน ค่าเสื่อมราคา - ยานพาหนะและขนส่ง ค่าเสื่อมราคา - ครุภัณฑ์ไฟฟ้าและวิทยุ ค่าเสื่อมราคา - ครุภัณฑ์โฆษณาและเผยแพร่ ค่าเสื่อมราคา - ครุภัณฑ์การเกษตร ค่าเสื่อมราคา - ครุภัณฑ์โรงงาน ค่าเสื่อมราคา - ครุภัณฑ์ก่อสร้าง ค่าเสื่อมราคา - ครุภัณฑ์สำรวจ
D9: 5105010125.001 5105010127.001 5105010129.001 5105010131.001 5105010133.001 5105010135.001 5105010137.001 5105010139.001 5105010140.001 5105010195.001 | E9: ค่าเสื่อมราคา - ครุภัณฑ์วิทยาศาสตร์และการแพทย์ ค่าเสื่อมราคา - ครุภัณฑ์คอมพิวเตอร์ ค่าเสื่อมราคา - ครุภัณฑ์การศึกษา ค่าเสื่อมราคา - ครุภัณฑ์งานบ้านงานครัว ค่าเสื่อมราคา - ครุภัณฑ์กีฬา ค่าเสื่อมราคา - ครุภัณฑ์ดนตรี ค่าเสื่อมราคา - ครุภัณฑ์สนาม ค่าเสื่อมราคา - ครุภัณฑ์อื่น ค่าเสื่อมราคา - ครุภัณฑ์ภายใต้สัญญาเช่าการเงิน ค่าเสื่อมราคา - ครุภัณฑ์ไม่ระบุรายละเอียด
A10: สินทรัพย์โครงสร้างพื้นฐาน | B10: =+W!AG148+W!AG149+W!AG150 -> 5162981.6 | C10: =2760425.74+6945.13+901962.74 -> 3669333.6 | D10: 5105010143.001 5105010144.001 5105010145.001 5105010146.001 5105010147.001 5105010197.001 | E10: ค่าเสื่อมราคา - ถนน ค่าเสื่อมราคา - สะพาน ค่าเสื่อมราคา - เขื่อน ค่าเสื่อมราคา - อ่างเก็บน้ำ ค่าเสื่อมราคา - สินทรัพย์โครงสร้างพื้นฐานอื่น ค่าเสื่อมราคา - สินทรัพย์โครงสร้างพื้นฐานไม่ระบุรายละเอียด
A11: อสังหาริมทรัพย์เพื่อการลงทุน | B11: xxx | C11: xxx | D11: 5105010152.001 | E11: ค่าเสื่อมราคา - อสังหาริมทรัพย์เพื่อการลงทุน
A12: สินทรัพย์ไม่มีตัวตน | B12: xxx | C12: xxx | D12: 5105010148.001 5105010149.001 5105010169.001 5105010170.001 5105010198.001 | E12: ค่าตัดจำหน่าย - โปรแกรมคอมพิวเตอร์ ค่าตัดจำหน่าย - สินทรัพย์ไม่มีตัวตนอื่น ค่าตัดจำหน่าย - โปรแกรมคอมพิวเตอร์ภายใต้สัญญาเช่าการเงิน ค่าตัดจำหน่าย- สินทรัพย์ไม่มีตัวตนอื่นภายใต้สัญญาเช่าการเงิน ค่าตัดจำหน่าย - สินทรัพย์ไม่มีตัวตนไม่ระบุรายละเอียด
A13: รวมคาเสื่อมราคาและค่าตัดจำหน่าย | B13: =SUM(B7:B12) -> 5627534.5 | C13: =SUM(C7:C12) -> 4084033

Sheet 34-35
A1: 21
A3: หมายเหตุ 34 ค่าใช้จ่ายจากการอุดหนุนจากหน่วยงานภาครัฐ | D3: รหัสบัญชี | E3: ชื่อบัญชี
B4: (หน่วย:บาท)
B5: 2565 | C5: 2564
A6: ค่าใช้จ่ายเงินอุดหนุนเพื่อการดำเนินงาน
A7: ค่าใช้จ่ายอุดหนุน - หน่วยงานภาครัฐ | B7: =+W!AG151 -> 6755681.8 | C7: 6138784.2 | D7: 5107010101.001 | E7: ค่าใช้จ่ายอุดหนุน - หน่วยงานภาครัฐ
A8: ค่าใช้จ่ายอุดหนุน - องค์กรปกครองส่วนท้องถิ่น | B8: =+W!AG152 -> 45000 | C8: 45000 | D8: 5107010103.001 | E8: ค่าใช้จ่ายอุดหนุน - องค์กรปกครองส่วนท้องถิ่น
A9: ค่าใช้จ่ายอุดหนุนเพื่อการดำเนินงาน - รัฐวิสาหกิจที่ไม่ใช่สถาบันการเงิน | B9: xxx | C9: xxx | D9: 5107010110.001 | E9: ค่าใช้จ่ายอุดหนุนเพื่อการดำเนินงาน - รัฐวิสาหกิจที่ไม่ใช่สถาบันการเงิน
A10: ค่าใช้จ่ายอุดหนุนเพื่อการดำเนินงาน - รัฐวิสาหกิจที่เป็นสถาบันการเงิน | B10: xxx | C10: xxx | D10: 5107010111.001 | E10: ค่าใช้จ่ายอุดหนุนเพื่อการดำเนินงาน - รัฐวิสาหกิจที่เป็นสถาบันการเงิน
A11: รวมค่าใช้จ่ายเงินอุดหนุนเพื่อดำเนินงาน | B11: =SUM(B7:B10) -> 6800681.8 | C11: =SUM(C7:C10) -> 6183784.2
A12: ค่าใช้จ่ายเงินอุดหนุนเพื่อการลงทุน
A13: ค่าใช้จ่ายอุดหนุนเพื่อการลงทุน - องค์กรปกครองส่วนท้องถิ่น | B13: xxx | C13: xxx | D13: 5107020103.001 | E13: ค่าใช้จ่ายอุดหนุนเพื่อการลงทุน - องค์กรปกครองส่วนท้องถิ่น
A14: ค่าใช้จ่ายอุดหนุนเพื่อการลงทุน - รัฐวิสาหกิจที่ไม่ใช่สถาบันการเงิน | B14: xxx | C14: xxx | D14: 5107020107.001 | E14: ค่าใช้จ่ายอุดหนุนเพื่อการลงทุน - รัฐวิสาหกิจที่ไม่ใช่สถาบันการเงิน
A15: ค่าใช้จ่ายอุดหนุนเพื่อการลงทุน - รัฐวิสาหกิจที่เป็นสถาบันการเงิน | B15: xxx | C15: xxx | D15: 5107020108.001 | E15: ค่าใช้จ่ายอุดหนุนเพื่อการลงทุน - รัฐวิสาหกิจที่เป็นสถาบันการเงิน
A16: รวมค่าใช้เงินอุดหนุนเพื่อการลงทุน | B16: =SUM(B13:B15) -> 0 | C16: =SUM(C13:C15) -> 0
A17: รวมค่าใช้จ่ายจากการอุดหนุนจากหน่วยงานภาครัฐ | B17: =+B11+B16 -> 6800681.8 | C17: =+C11+C16 -> 6183784.2
A19: หมายเหตุ 35 ค่าใช้จ่ายจากการอุดหนุนอื่นและบริจาค
B20: (หน่วย:บาท)
B21: 2565 | C21: 2564
A22: ค่าใช้จ่ายเงินอุดหนุนเพื่อการดำเนินงาน
A23: ค่าใช้จ่ายอุดหนุนเพื่อการดำเนินงาน - ภาคครัวเรือน | B23: =+W!AG153 -> 71385 | C23: 131177 | D23: 5107010104.001 | E23: ค่าใช้จ่ายอุดหนุนเพื่อการดำเนินงาน - ภาคครัวเรือน
A24: ค่าใช้จ่ายอุดหนุนเพื่อการดำเนินงาน - ธุรกิจเอกชน | B24: xxx | C24: xxx | D24: 5107010105.001 | E24: ค่าใช้จ่ายอุดหนุนเพื่อการดำเนินงาน - ธุรกิจเอกชน
A25: เงินอุดหนุนเพื่อการดำเนินงาน - องค์กรไม่หวังผลกำไร | B25: xxx | C25: xxx | D25: 5107010106.001 | E25: เงินอุดหนุนเพื่อการดำเนินงาน - องค์กรไม่หวังผลกำไร
A26: ค่าใช้จ่ายอุดหนุนเพื่อการดำเนินงาน - หน่วยธุรกิจอื่น | B26: xxx | C26: xxx | D26: 5107010109.001 | E26: ค่าใช้จ่ายอุดหนุนเพื่อการดำเนินงาน - หน่วยธุรกิจอื่น
A27: ค่าใช้จ่ายอุดหนุนเพื่อชดเชยจากทุนหมุนเวียน | B27: xxx | C27: xxx | D27: 5107010112.001 | E27: ค่าใช้จ่ายอุดหนุนเพื่อชดเชยจากทุนหมุนเวียน
A28: ค่าใช้จ่ายช่วยเหลือตามมาตรการของรัฐบาล | B28: xxx | C28: xxx | D28: 5107010113.001 | E28: ค่าใช้จ่ายช่วยเหลือตามมาตรการของรัฐบาล
A29: ค่าใช้จ่ายสวัสดิการของรัฐบาล | B29: =+W!AG154 -> 12410700 | C29: 12176100 | D29: 5107010114.001 | E29: ค่าใช้จ่ายสวัสดิการของรัฐบาล
A30: ค่าใช้จ่ายอุดหนุนเพื่อโภชนาการ | B30: =+W!AG155 -> 539983.88 | C30: 533598.12 | D30: 5107010115.001 | E30: ค่าใช้จ่ายอุดหนุนเพื่อโภชนาการ
A31: ค่าใช้จ่ายอุดหนุนเพื่อการศึกษา | B31: =+W!AG156 -> 158750 | C31: 0 | D31: 5107010116.001 | E31: ค่าใช้จ่ายอุดหนุนเพื่อการศึกษา
A32: ค่าใช้จ่ายอุดหนุนเพื่อการบริการสังคม | B32: =+W!AG157 -> 323758 | C32: =367241+193000 -> 560241 | D32: 5107010117.001 5107010117.002 | E32: ค่าใช้จ่ายอุดหนุนเพื่อการบริการสังคม ค่าใช้จ่ายด้านสาธารณสุขตามอำนาจหน้าที่ขององค์กรปกครองส่วนท้องถิ่น
A33: ค่าใช้จ่ายอุดหนุนเพื่อการดำเนินงานอื่น | B33: xxx | C33: xxx
A34: รวมค่าใช้จ่ายเงินอุดหนุนเพื่อดำเนินงาน | B34: =SUM(B23:B33) -> 13504577 | C34: =SUM(C23:C33) -> 13401116
A35: ค่าใช้จ่ายเงินอุดหนุนเพื่อการลงทุน
A36: ค่าใช้จ่ายอุดหนุนเพื่อการลงทุน - ธุรกิจภาคเอกชน | B36: xxx | C36: xxx
A37: ค่าใช้จ่ายอุดหนุนเพื่อการลงทุน - องค์กรไม่หวังผลกำไร | B37: xxx | C37: xxx
A38: ค่าใช้จ่ายอุดหนุนเพื่อการลงทุนอื่น | B38: xxx | C38: xxx
A39: รวมค่าใช้เงินอุดหนุนเพื่อการลงทุน | B39: =SUM(B36:B38) -> 0 | C39: =SUM(C36:C38) -> 0
A40: รวมค่าใช้จ่ายจากการอุดหนุนอื่นและบริจาค | B40: =+B34+B39 -> 13504577 | C40: =+C34+C39 -> 13401116

Sheet 35
A1: =+L!A1 -> เทศบาลตำบลหลักช้าง
A2: หมายเหตุประกอบงบการเงิน
A3: =+L!A3 -> สำหรับปีสิ้นสุดวันที่ 30 กันยายน 2565
A4: หมายเหตุ 35 ค่าใช้จ่ายจากการอุดหนุนอื่นและบริจาค | D4: รหัสบัญชี | E4: ชื่อบัญชี
B5: (หน่วย:บาท)
B6: 2565 | C6: 2564
A7: ค่าใช้จ่ายเงินอุดหนุนเพื่อการดำเนินงาน
A8: ค่าใช้จ่ายอุดหนุนเพื่อการดำเนินงาน - ภาคครัวเรือน | B8: =+W!AG153 -> 71385 | C8: 131177 | D8: 5107010104.001 | E8: ค่าใช้จ่ายอุดหนุนเพื่อการดำเนินงาน - ภาคครัวเรือน
A9: ค่าใช้จ่ายอุดหนุนเพื่อการดำเนินงาน - ธุรกิจเอกชน | B9: xxx | C9: xxx | D9: 5107010105.001 | E9: ค่าใช้จ่ายอุดหนุนเพื่อการดำเนินงาน - ธุรกิจเอกชน
A10: เงินอุดหนุนเพื่อการดำเนินงาน - องค์กรไม่หวังผลกำไร | B10: xxx | C10: xxx | D10: 5107010106.001 | E10: เงินอุดหนุนเพื่อการดำเนินงาน - องค์กรไม่หวังผลกำไร
A11: ค่าใช้จ่ายอุดหนุนเพื่อการดำเนินงาน - หน่วยธุรกิจอื่น | B11: xxx | C11: xxx | D11: 5107010109.001 | E11: ค่าใช้จ่ายอุดหนุนเพื่อการดำเนินงาน - หน่วยธุรกิจอื่น
A12: ค่าใช้จ่ายอุดหนุนเพื่อชดเชยจากทุนหมุนเวียน | B12: xxx | C12: xxx | D12: 5107010112.001 | E12: ค่าใช้จ่ายอุดหนุนเพื่อชดเชยจากทุนหมุนเวียน
A13: ค่าใช้จ่ายช่วยเหลือตามมาตรการของรัฐบาล | B13: xxx | C13: xxx | D13: 5107010113.001 | E13: ค่าใช้จ่ายช่วยเหลือตามมาตรการของรัฐบาล
A14: ค่าใช้จ่ายสวัสดิการของรัฐบาล | B14: =+W!AG154 -> 12410700 | C14: 12176100 | D14: 5107010114.001 | E14: ค่าใช้จ่ายสวัสดิการของรัฐบาล
A15: ค่าใช้จ่ายอุดหนุนเพื่อโภชนาการ | B15: =+W!AG155 -> 539983.88 | C15: 533598.12 | D15: 5107010115.001 | E15: ค่าใช้จ่ายอุดหนุนเพื่อโภชนาการ
A16: ค่าใช้จ่ายอุดหนุนเพื่อการศึกษา | B16: =+W!AG156 -> 158750 | C16: 0 | D16: 5107010116.001 | E16: ค่าใช้จ่ายอุดหนุนเพื่อการศึกษา
A17: ค่าใช้จ่ายอุดหนุนเพื่อการบริการสังคม | B17: =+W!AG157 -> 323758 | C17: =367241+193000 -> 560241 | D17: 5107010117.001 5107010117.002 | E17: ค่าใช้จ่ายอุดหนุนเพื่อการบริการสังคม ค่าใช้จ่ายด้านสาธารณสุขตามอำนาจหน้าที่ขององค์กรปกครองส่วนท้องถิ่น
A18: ค่าใช้จ่ายอุดหนุนเพื่อการดำเนินงานอื่น | B18: xxx | C18: xxx | D18: 5107010199.001 | E18: ค่าใช้จ่ายอุดหนุนเพื่อการดำเนินงานอื่น
A19: รวมค่าใช้จ่ายเงินอุดหนุนเพื่อดำเนินงาน | B19: =SUM(B8:B18) -> 13504577 | C19: =SUM(C8:C18) -> 13401116
A20: ค่าใช้จ่ายเงินอุดหนุนเพื่อการลงทุน
A21: ค่าใช้จ่ายอุดหนุนเพื่อการลงทุน - ธุรกิจภาคเอกชน | B21: xxx | C21: xxx | D21: 5107020104.001 | E21: ค่าใช้จ่ายอุดหนุนเพื่อการลงทุน - ธุรกิจภาคเอกชน
A22: ค่าใช้จ่ายอุดหนุนเพื่อการลงทุน - องค์กรไม่หวังผลกำไร | B22: xxx | C22: xxx | D22: 5107020105.001 | E22: ค่าใช้จ่ายอุดหนุนเพื่อการลงทุน - องค์กรไม่หวังผลกำไร
A23: ค่าใช้จ่ายอุดหนุนเพื่อการลงทุนอื่น | B23: xxx | C23: xxx | D23: 5107020199.001 | E23: ค่าใช้จ่ายอุดหนุนเพื่อการลงทุนอื่น
A24: รวมค่าใช้เงินอุดหนุนเพื่อการลงทุน | B24: =SUM(B21:B23) -> 0 | C24: =SUM(C21:C23) -> 0
A25: รวมค่าใช้จ่ายจากการอุดหนุนอื่นและบริจาค | B25: =+B19+B24 -> 13504577 | C25: =+C19+C24 -> 13401116

Sheet 36
A1: 22
A3: หมายเหตุ 36 ค่าใช้จ่ายอื่น | D3: รหัสบัญชี | E3: ชื่อบัญชี
B4: (หน่วย:บาท)
B5: 2565 | C5: 2564
A6: หนี้สงสัยจะสูญและหนี้สูญ | B6: =-(W!AH158+W!AH159+W!AH160) -> -66191.3 | C6: =4481.91+1023153.8+54870+7110.5 -> 1089616.2 | D6: 5108010101.001 | E6: หนี้สูญ - ลูกหนี้ค่าสินค้าและบริการ
D7: 5108010101.002 | E7: หนี้สูญ - ลูกหนี้ภาษีโรงเรือนและที่ดิน
D8: 5108010101.003 | E8: หนี้สูญ - ลูกหนี้ภาษีบำรุงท้องที่
D9: 5108010101.004 | E9: หนี้สูญ - ลูกหนี้ภาษีป้าย
D10: 5108010101.005 | E10: หนี้สูญ - ลูกหนี้ภาษีที่ดินและสิ่งปลูกสร้าง
D11: 5108010101.006 | E11: หนี้สูญ - ลูกหนี้ค่ารักษาพยาบาลสิทธิหลักประกันสุขภาพถ้วนหน้า
D12: 5108010101.007 | E12: หนี้สูญ - ลูกหนี้ค่ารักษาพยาบาลสิทธิประกันสังคม
D13: 5108010101.008 | E13: หนี้สูญ - ลูกหนี้ค่ารักษาพยาบาลสิทธิ พ.ร.บ. รถ
D14: 5108010101.009 | E14: หนี้สูญ - ลูกหนี้ค่ารักษาพยาบาลสิทธิเบิกตรงต้นสังกัดกรมบัญชีกลาง
D15: 5108010101.010 | E15: หนี้สูญ - ลูกหนี้ค่ารักษาพยาบาลสิทธิเบิกตรงต้นสังกัดองค์กรปกครองส่วนท้องถิ่น
D16: 5108010101.011 | E16: หนี้สูญ - ลูกหนี้ค่ารักษาพยาบาลสิทธิเบิกตรงต้นสังกัดกรุงเทพมหานคร
D17: 5108010101.012 | E17: หนี้สูญ - ลูกหนี้ค่ารักษาพยาบาลสิทธิเบิกตรงต้นสังกัดเมืองพัทยา
D18: 5108010101.998 | E18: หนี้สูญ - ลูกหนี้ค่ารักษาพยาบาลอื่น
... D35: 5108010107.999 | E35: หนี้สงสัยจะสูญ - ลูกหนี้อื่นบุคคลภายนอก
A36: ค่าจำหน่ายสินทรัพย์ | B36: =+W!AG161 -> 11933.7 | C36: 0 | D36: 5203010102.001 | E36: ค่าจำหน่าย - อสังหาริมทรัพย์เพื่อการลงทุน
D37: 5203010103.001 | E37: ค่าจำหน่าย - ที่ดินกรรมสิทธิ์
D38: 5203010105.001 | E38: ค่าจำหน่าย - อาคารเพื่อการพักอาศัย
D39: 5203010106.001 | E39: ค่าจำหน่าย - อาคารสำนักงาน
D40: 5203010107.001 | E40: ค่าจำหน่าย - อาคารเพื่อประโยชน์อื่น
D41: 5203010108.001 | E41: ค่าจำหน่าย - ส่วนปรับปรุงอาคาร
D42: 5203010109.001 | E42: ค่าจำหน่าย - สิ่งปลูกสร้าง
D43: 5203010111.001 | E43: ค่าจำหน่าย - ครุภัณฑ์สำนักงาน
D44: 5203010112.001 | E44: ค่าจำหน่าย - ครุภัณฑ์ยานพาหนะและขนส่ง
D45: 5203010113.001 | E45: ค่าจำหน่าย - ครุภัณฑ์ไฟฟ้าและวิทยุ
D46: 5203010114.001 | E46: ค่าจำหน่าย - ครุภัณฑ์โฆษณาและเผยแพร่
D47: 5203010115.001 | E47: ค่าจำหน่าย - ครุภัณฑ์การเกษตร
D48: 5203010116.001 | E48: ค่าจำหน่าย - ครุภัณฑ์โรงงาน
... D69: 5203010147.001 | E69: ค่าจำหน่าย - สินทรัพย์ไม่มีตัวตนไม่ระบุรายละเอียด
A70: ขาดทุนที่เกิดขึ้นแล้วของเงินลงทุน | B70: xxx | C70: xxx | D70: 5204010102.001 5204010103.001 | E70: ขาดทุนที่เกิดขึ้นแล้วของเงินลงทุน ขาดทุนที่ยังไม่เกิดขึ้นของเงินลงทุนอื่น
A71: ขาดทุนจากการด้อยค่าเงินลงทุน | B71: xxx | C71: xxx | D71: 5204010104.001 | E71: ขาดทุนจากการด้อยค่าเงินลงทุน
A72: ขาดทุนจากการตีราคินค้าคงเหลือ | B72: xxx | C72: xxx | D72: 5204010201.001 | E72: ขาดทุนจากการตีราคาสินค้าคงเหลือ
A73: ขาดทุนจากรายการพิเศษ | B73: xxx | C73: xxx | D73: 5401010101.001 | E73: ขาดทุนจากรายการพิเศษ
A74: ค่าใช้จ่ายเงินช่วยเหลือผู้ประสบภัย | B74: 0 | C74: 812599.3 | D74: 5205010101.001 | E74: ค่าใช้จ่ายเงินช่วยเหลือผู้ประสบภัย
A75: ค่าใช้จ่ายจากการรับโอนหนี้สิน | B75: xxx | C75: xxx | D75: 5208010101.001 | E75: ค่าใช้จ่ายจากการรับโอนหนี้สิน - หน่วยงานภาครัฐ
A76: ค่าใช้จ่ายจากการจำหน่าย/โอนสินทรัพย์ | B76: xxx | C76: xxx | D76: 5211010101.001 5211010102.001 5211010102.002 | E76: โอนสินทรัพย์ให้หน่วยงานของรัฐ บริจาคสินทรัพย์ให้หน่วยงานภายนอก บริจาคสินทรัพย์ให้บุคคลภายนอก
A77: ค่าใช้จ่ายอื่น | B77: =+W!AG163+W!AG164 -> 201363.02 | C77: 153200 | D77: 5212010199.001 5212010199.002 5212010199.003 5212010199.004 5212010199.005 5212010199.006 5212010199.007 5212010199.999 | E77: เงินสมทบกองทุนสวัสดิการชุมชน เงินสมทบกองทุนหลักประกันสุขภาพองค์กรปกครองส่วนท้องถิ่น ค่าใช้จ่ายสำหรับผู้ป่วยยากไร้ ค่าอาหารสำหรับสัตว์ ค่าบำรุงสมาคมองค์กรปกครองส่วนท้องถิ่น ค่าภาษีที่จ่ายให้องค์กรปกครองส่วนท้องถิ่นตามกฎหมาย ค่าใช้จ่ายฝ่ายอำนวยการ ค่าใช้จ่ายอื่น
A78: รวมค่าใช้จ่ายอื่น | B78: =SUM(B6:B77) -> 147105.42 | C78: =SUM(C6:C77) -> 2055415.5

Sheet 37
A1: 23
A2: หมายเหตุ 37 การจัดประเภทรายการใหม่
A3: ตัวเลขเปรียบเทียบในงบการเงินปี 2564 มีการจัดประเภทใหม่ เพื่อให้สอดคล้องกับการจัดประเภทและ
A4: การแสดงรายการในงบการเงิน ปี 2565
B5: (หน่วย:บาท)
B6: ก่อนจัด ประเภทใหม่ | C6: เพิ่ม/(ลด) | D6: หลังจัด ประเภทใหม่
A7: งบแสดงฐานะการเงิน
A8: สินทรัพย์
A9: สินทรัพย์หมุนเวียน
A10: ลูกหนี้หมุนเวียนและรายได้ค้างรับ | B10: 2461512.6 | C10: -2461512.6 | D10: 0
A11: ลูกหนี้ระยะสั้นอื่น | B11: XXX | C11: (XXX) | D11: 0
A12: ลูกหนี้การค้า | C12: 2294990.2 | D12: 2294990.2
A13: ลูกหนี้เงินโอนและรายการอุดหนุนระยะสั้น | C13: 18122.29 | D13: 18122.29
A14: ลูกหนี้อื่นระยะสั้น | C14: 148400.1 | D14: 148400.1
A15: เงินให้กู้ยืมระยะสั้น | C15: XXX | D15: XXX
A16: สินค้าและวัสดุคงเหลือ | B16: 411392.5 | C16: -411392.5 | D16: 0
A17: สินค้าคงเหลือ | C17: XXX | D17: XXX
A18: วัสดุคงเหลือ | C18: 411392.5 | D18: 411392.5
A19: รวมสินทรัพย์หมุนเวียน | B19: =B10+B16 -> 2872905.1 | C19: =SUM(C10:C18) -> 0 | D19: =D12+D13+D14+D18 -> 2872905.1
A20: ลูกหนี้ - ระยะยาว | B20: 0 | C20: 0 | D20: 0
A21: เงินให้กู้ยืมระยะยาว | C21: 0 | D21: 0
A22: สินทรัพย์ไม่หมุนเวียนอื่น | B22: =B20+B21 -> 0 | C22: 0 | D22: =D20+D21 -> 0
A24: หนี้สินและสินทรัพย์สุทธิ/ส่วนทุน
A25: หนี้สิน
A26: หนี้สินหมุนเวียน
A27: เจ้าหนี้ระยะสั้น | B27: 109043.75 | C27: -109043.75 | D27: 0
A28: ค่าใช้จ่ายค้างจ่าย | B28: 124646.38 | C28: -124646.38 | D28: 0
A29: เจ้าหนี้การค้า | C29: 97771.3 | D29: 97771.3
A30: เจ้าหนี้อื่นระยะสั้น | C30: 135918.83 | D30: 135918.83
A31: เงินรับฝากและเงินประกันระยะสั้น | B31: 123295.25 | C31: -123295.25 | D31: 0
A32: เงินรับฝากระยะสั้น | C32: 123295.25 | D32: 123295.25
A33: เงินรับฝากและเงินประกันระยะยาว | B33: 344180 | C33: -344180 | D33: 0
A34: เงินรับฝากระยะยาว | C34: 344180 | D34: 344180
A35: หนี้สินหมุนเวียนอื่น | B35: XXX | C35: (XXX) | D35: XXX
A36: เงินกู้ยืมระยะสั้น | B36: XXX | C36: (XXX) | D36: 0
A37: ส่วนของเงินกู้ยืมระยะยาวที่ถึงกำหนดชำระภายใน 1 ปี | C37: XXX | D37: XXX
A38: หนี้สินไม่หมุนเวียน
A39: หนี้สินไม่หมุนเวียนอื่น | B39: XXX | C39: (XXX) | D39: XXX
A40: เจ้าหนี้เงินโอนและรายการอุดหนุนระยะยาว | C40: XXX | D40: XXX
A41: รวมหนี้สิน | B41: =SUM(B27:B40) -> 701165.38 | C41: =SUM(C27:C40) -> 0 | D41: =SUM(D27:D40) -> 701165.38
A46: สินทรัพย์สุทธิ/ส่วนทุน
A47: เงินสะสม | B47: 79203081 | C47: -79203081 | D47: 0
A48: เงินทุนสำรองเงินสะสม | B48: 28863610 | C48: -28863610 | D48: 0
A49: รายได้สะสม | B49: 2295356.1 | C49: -2295356.1 | D49: 0
A50: ทุนดำเนินการ | B50: XXX | C50: (XXX) | D50: 0
A51: กำไร/ขาดทุนสะสม | B51: XXX | C51: (XXX) | D51: 0
A52: รายได้สูง/(ต่ำ)กว่าค่าใช้จ่ายสะสม | C52: 1.1036205e+08 | D52: 1.1036205e+08
A53: รวมสินทรัพย์สุทธิ/ส่วนทุน | B53: =SUM(B47:B52) -> 1.1036205e+08 | C53: =SUM(C47:C52) -> 0 | D53: =SUM(D47:D52) -> 1.1036205e+08
A54: งบแสดงผลการดำเนินงานทางการเงิน
A55: รายได้
A56: รายได้จัดเก็บเอง | B56: 5957468.3 | C56: -5957468.3 | D56: 0
A57: รายได้ที่รัฐบาลอุดหนุนให้ | B57: 29079985 | C57: -29079985 | D57: 0
A58: รายได้ที่รัฐบาลเก็บแล้วจัดสรรให้ | B58: 21870687 | C58: -21870687 | D58: 0
A59: รายได้ภาษีจัดสรร | C59: 21870687 | D59: 21870687
A60: รายได้จากงบประมาณ (เฉพาะหน่วยรับงบตรง) | C60: XXX | D60: XXX
A61: รายได้จากการขายสินค้าและบริการ | C61: 926109 | D61: 926109
A62: รายได้จากการอุดหนุนจากหน่วยงานภาครัฐ | C62: 32237911 | D62: 32237911
A63: รายได้จากการจัดเก็บภาษี ค่าธรรมเนียม ค่าปรับ และใบอนุญาต | C63: 1232076.5 | D63: 1232076.5
A64: รายได้จากการอุดหนุนอื่นและบริจาค | C64: XXX | D64: XXX
A65: รายได้ของกิจการเฉพาะการและหน่วยงานภายใต้สังกัด | C65: XXX | D65: XXX
A66: รายได้อื่น | C66: 641357.6 | D66: 641357.6
A67: รวมรายได้ | B67: =SUM(B56:B66) -> 56908140 | C67: 0 | D67: =SUM(D56:D66) -> 56908140
A68: ค่าใช้จ่าย
A69: ค่าใช้สอย | B69: 1591274.6 | C69: -239178.03 | D69: =B69+C69 -> 1352096.6
A70: ค่าวัสดุ | B70: 1146237.5 | C70: -588348.42 | D70: =B70+C70 -> 557889.12
A71: ต้นทุนขายสินค้าและบริการ | C71: 827526.45 | D71: 827526.45
A72: ค่าใช้จ่ายจากการอุดหนุนจากหน่วยงานภาครัฐ | C72: =6138784.22+45000 -> 6183784.2 | D72: =6138784.22+45000 -> 6183784.2
A73: ค่าใช้จ่ายจากการอุดหนุนอื่นและบริจาค | B73: 19584900 | C73: =-6138784.22-45000 -> -6183784.2 | D73: =B73+C73 -> 13401116
A74: รวมค่าใช้จ่าย | B74: =SUM(B69:B73) -> 22322412 | C74: =SUM(C69:C73) -> 0 | D74: =SUM(D69:D73) -> 22322412
