Workbook

Sheet L
A1: เทศบาลตำบลหลักช้าง
A3: สำหรับปีสิ้นสุดวันที่ 30 กันยายน 2565

Sheet W
C1: ชื่อบัญชี | D1: รหัสบัญชี | E1: งบทดลองแม่หลังปรับปรุงก่อนปิด | G1: งบทดลองรวมหลังปรับปรุงก่อนปิด | I1: รายการหักระหว่างกัน | K1: รายการปรับปรุงตามสตง. | M1: งบทดลองรวมหลังปรับปรุงก่อนปิด หลังหักรายการระหว่างกัน | O1: รวมสถานธนานุบาล | Q1: รวมโรงผลิตน้ำประปา และประปาหมู่บ้าน | S1: รวมสถานีขนส่ง | U1: รวมโรงพยาบาล และหน่วยบริการสาธารณสุข | W1: รวมโรงเรียน และศูนย์พัฒนาเด็กเล็ก | Y1: รวมศูนย์แสดงและจำหน่ายสินค้าหนึ่งตำบลหนึ่งผลิตภัณฑ์ | AA1: รวมกิจการอื่น | AG1: งบแสดงผลการดำเนินงาน | AK1: งบแสดงฐานะการเงิน.
E3: Dr. | F3: Cr. | G3: Dr. | H3: Cr. | I3: Dr. | J3: Cr. | K3: Dr. | L3: Cr. | M3: Dr. | N3: Cr. | O3: Dr. | P3: Cr. | Q3: Dr. | R3: Cr. | S3: Dr. | T3: Cr. | U3: Dr. | V3: Cr. | W3: Dr. | X3: Cr. | Y3: Dr. | Z3: Cr. | AA3: Dr. | AB3: Cr. | AG3: Dr. | AH3: Cr. | AI3: Dr. | AJ3: Cr. | AK3: Dr. | AL3: Cr.
A4: T | B4: 1 | C4: เงินฝากออมทรัพย์ที่สถาบันการเงิน (2152377293) | D4: 1101030102.001 | E4: 4908840.2 | F4: 0 | G4: 4908840.2 | H4: 0 | I4: 0 | J4: 0 | M4: =+Table1[[#This Row],[Column7]]+Table1[[#This Row],[คอลัมน์3]]-Table1[[#This Row],[คอลัมน์2]] -> 4908840.2 | N4: =+Table1[[#This Row],[Column8]]+Table1[[#This Row],[คอลัมน์2]]-Table1[[#This Row],[คอลัมน์3]] -> 0 | O4: 0 | P4: 0 | Q4: 0 | R4: 0 | S4: 0 | T4: 0 | U4: 0 | V4: 0 | W4: 0 | X4: 0 | Y4: 0 | Z4: 0 | AA4: 0 | AB4: 0 | AC4: 62AFC52F-AFDE-40D9-822E-926DEE808EC7 | AD4: (2152377293) | AE4: 0 | AF4: 0 | AK4: =+Table1[[#This Row],[Column11]] -> 4908840.2 | AL4: =+Table1[[#This Row],[Column12]] -> 0
A5: T | B5: 1 | C5: เงินฝากออมทรัพย์ที่สถาบันการเงิน (8350109726) | D5: 1101030102.001 | E5: 49436544 | F5: 0 | G5: 49436544 | H5: 0 | I5: 0 | J5: 0 | M5: =+Table1[[#This Row],[Column7]]+Table1[[#This Row],[คอลัมน์3]]-Table1[[#This Row],[คอลัมน์2]] -> 49436544 | N5: =+Table1[[#This Row],[Column8]]+Table1[[#This Row],[คอลัมน์2]]-Table1[[#This Row],[คอลัมน์3]] -> 0 | O5: 0 | P5: 0 | Q5: 0 | R5: 0 | S5: 0 | T5: 0 | U5: 0 | V5: 0 | W5: 0 | X5: 0 | Y5: 0 | Z5: 0 | AA5: 0 | AB5: 0 | AC5: 62AFC52F-AFDE-40D9-822E-926DEE808EC7 | AD5: (8350109726) | AE5: 0 | AF5: 0 | AK5: =+Table1[[#This Row],[Column11]] -> 49436544 | AL5: =+Table1[[#This Row],[Column12]] -> 0
A6: T | B6: 1 | C6: เงินฝากออมทรัพย์ที่สถาบันการเงินเงินฝากออมทรัพย์ที่สถาบันการเงิน เลขที่บัญชี 835-0-32215-2 | D6: 1101030102.001 | E6: 0 | F6: 0 | G6: 1015012.4 | H6: 0 | I6: 0 | J6: 0 | M6: =+Table1[[#This Row],[Column7]]+Table1[[#This Row],[คอลัมน์3]]-Table1[[#This Row],[คอลัมน์2]] -> 1015012.4 | N6: =+Table1[[#This Row],[Column8]]+Table1[[#This Row],[คอลัมน์2]]-Table1[[#This Row],[คอลัมน์3]] -> 0 | O6: 0 | P6: 0 | Q6: 0 | R6: 0 | S6: 0 | T6: 0 | U6: 0 | V6: 0 | W6: 1015012.4 | X6: 0 | Y6: 0 | Z6: 0 | AA6: 0 | AB6: 0 | AC6: 62AFC52F-AFDE-40D9-822E-926DEE808EC7 | AD6: เงินฝากออมทรัพย์ที่สถาบันการเงิน เลขที่บัญชี 835-0-32215-2 | AE6: 0 | AF6: 0 | AK6: =+Table1[[#This Row],[Column11]] -> 1015012.4 | AL6: =+Table1[[#This Row],[Column12]] -> 0
A7: T | B7: 1 | C7: เงินฝากไม่มีรายตัว (2154200119) | D7: 1101030199.001 | E7: 17777891 | F7: 0 | G7: 17777891 | H7: 0 | I7: 0 | J7: 0 | M7: =+Table1[[#This Row],[Column7]]+Table1[[#This Row],[คอลัมน์3]]-Table1[[#This Row],[คอลัมน์2]] -> 17777891 | N7: =+Table1[[#This Row],[Column8]]+Table1[[#This Row],[คอลัมน์2]]-Table1[[#This Row],[คอลัมน์3]] -> 0 | O7: 0 | P7: 0 | Q7: 0 | R7: 0 | S7: 0 | T7: 0 | U7: 0 | V7: 0 | W7: 0 | X7: 0 | Y7: 0 | Z7: 0 | AA7: 0 | AB7: 0 | AC7: 2E5DEED5-90E0-4622-B4EC-51C16E0A7EB8 | AD7: (2154200119) | AE7: 0 | AF7: 0 | AK7: =+Table1[[#This Row],[Column11]] -> 17777891 | AL7: =+Table1[[#This Row],[Column12]] -> 0
A8: T | B8: 1 | C8: ลูกหนี้ค่าสินค้าและบริการ - หน่วยงานภาครัฐ | D8: 1102050101.001 | E8: 120814 | F8: 0 | G8: 120814 | H8: 0 | I8: 0 | J8: 0 | M8: =+Table1[[#This Row],[Column7]]+Table1[[#This Row],[คอลัมน์3]]-Table1[[#This Row],[คอลัมน์2]] -> 120814 | N8: =+Table1[[#This Row],[Column8]]+Table1[[#This Row],[คอลัมน์2]]-Table1[[#This Row],[คอลัมน์3]] -> 0 | O8: 0 | P8: 0 | Q8: 0 | R8: 0 | S8: 0 | T8: 0 | U8: 0 | V8: 0 | W8: 0 | X8: 0 | Y8: 0 | Z8: 0 | AA8: 0 | AB8: 0 | AC8: 53BF1E47-D95E-4B08-A937-84D33CBA0ED1 | AE8: 0 | AF8: 0 | AK8: =+Table1[[#This Row],[Column11]] -> 120814 | AL8: =+Table1[[#This Row],[Column12]] -> 0
A9: T | B9: 1 | C9: ลูกหนี้ค่าสินค้าและบริการ - บุคคลภายนอก | D9: 1102050102.001 | E9: 3599586 | F9: 0 | G9: 3599586 | H9: 0 | I9: 0 | J9: 0 | M9: =+Table1[[#This Row],[Column7]]+Table1[[#This Row],[คอลัมน์3]]-Table1[[#This Row],[คอลัมน์2]] -> 3599586 | N9: =+Table1[[#This Row],[Column8]]+Table1[[#This Row],[คอลัมน์2]]-Table1[[#This Row],[คอลัมน์3]] -> 0 | O9: 0 | P9: 0 | Q9: 0 | R9: 0 | S9: 0 | T9: 0 | U9: 0 | V9: 0 | W9: 0 | X9: 0 | Y9: 0 | Z9: 0 | AA9: 0 | AB9: 0 | AC9: 0C8214D6-13B0-43C3-BB89-E23E5206AD72 | AE9: 0 | AF9: 0 | AK9: =+Table1[[#This Row],[Column11]] -> 3599586 | AL9: =+Table1[[#This Row],[Column12]] -> 0
A10: T | B10: 1 | C10: รายได้ค้างรับ - หน่วยงานภาครัฐ | D10: 1102050106.001 | E10: 84314.79 | F10: 0 | G10: 84314.79 | H10: 0 | I10: 0 | J10: 0 | M10: =+Table1[[#This Row],[Column7]]+Table1[[#This Row],[คอลัมน์3]]-Table1[[#This Row],[คอลัมน์2]] -> 84314.79 | N10: =+Table1[[#This Row],[Column8]]+Table1[[#This Row],[คอลัมน์2]]-Table1[[#This Row],[คอลัมน์3]] -> 0 | O10: 0 | P10: 0 | Q10: 0 | R10: 0 | S10: 0 | T10: 0 | U10: 0 | V10: 0 | W10: 0 | X10: 0 | Y10: 0 | Z10: 0 | AA10: 0 | AB10: 0 | AC10: 7504E89F-1D31-4A29-878F-6ACE2C2B31EC | AE10: 0 | AF10: 0 | AK10: =+Table1[[#This Row],[Column11]] -> 84314.79 | AL10: =+Table1[[#This Row],[Column12]] -> 0
A11: T | B11: 1 | C11: รายได้ค้างรับ - บุคคลภายนอก | D11: 1102050107.001 | E11: 61335.9 | F11: 0 | G11: 62994.94 | H11: 0 | I11: 0 | J11: 0 | M11: =+Table1[[#This Row],[Column7]]+Table1[[#This Row],[คอลัมน์3]]-Table1[[#This Row],[คอลัมน์2]] -> 62994.94 | N11: =+Table1[[#This Row],[Column8]]+Table1[[#This Row],[คอลัมน์2]]-Table1[[#This Row],[คอลัมน์3]] -> 0 | O11: 0 | P11: 0 | Q11: 0 | R11: 0 | S11: 0 | T11: 0 | U11: 0 | V11: 0 | W11: 1659.04 | X11: 0 | Y11: 0 | Z11: 0 | AA11: 0 | AB11: 0 | AC11: BAEE4A64-E3CB-473E-9FBA-D9A1D5E2E8D5 | AE11: 0 | AF11: 0 | AK11: =+Table1[[#This Row],[Column11]] -> 62994.94 | AL11: =+Table1[[#This Row],[Column12]] -> 0
A12: T | B12: 1 | C12: ค่าเผื่อหนี้สงสัยจะสูญ - ลูกหนี้ค่าสินค้าและบริการ | D12: 1102050123.001 | E12: 0 | F12: 965362.3 | G12: 0 | H12: 965362.3 | I12: 0 | J12: 0 | M12: =+Table1[[#This Row],[Column7]]+Table1[[#This Row],[คอลัมน์3]]-Table1[[#This Row],[คอลัมน์2]] -> 0 | N12: =+Table1[[#This Row],[Column8]]+Table1[[#This Row],[คอลัมน์2]]-Table1[[#This Row],[คอลัมน์3]] -> 965362.3 | O12: 0 | P12: 0 | Q12: 0 | R12: 0 | S12: 0 | T12: 0 | U12: 0 | V12: 0 | W12: 0 | X12: 0 | Y12: 0 | Z12: 0 | AA12: 0 | AB12: 0 | AC12: 8DD7FDF1-7232-4FDC-B66D-292430B5232A | AE12: 0 | AF12: 0 | AK12: =+Table1[[#This Row],[Column11]] -> 0 | AL12: =+Table1[[#This Row],[Column12]] -> 965362.3
A13: T | B13: 1 | C13: ค่าเผื่อหนี้สงสัยจะสูญ - ลูกหนี้ภาษีโรงเรือนและที่ดิน | D13: 1102050123.002 | E13: 0 | F13: 46860 | G13: 0 | H13: 46860 | I13: 0 | J13: 0 | M13: =+Table1[[#This Row],[Column7]]+Table1[[#This Row],[คอลัมน์3]]-Table1[[#This Row],[คอลัมน์2]] -> 0 | N13: =+Table1[[#This Row],[Column8]]+Table1[[#This Row],[คอลัมน์2]]-Table1[[#This Row],[คอลัมน์3]] -> 46860 | O13: 0 | P13: 0 | Q13: 0 | R13: 0 | S13: 0 | T13: 0 | U13: 0 | V13: 0 | W13: 0 | X13: 0 | Y13: 0 | Z13: 0 | AA13: 0 | AB13: 0 | AC13: 0CB071AD-A946-4CFC-BB6A-9CBB9F261719 | AE13: 0 | AF13: 0 | AK13: =+Table1[[#This Row],[Column11]] -> 0 | AL13: =+Table1[[#This Row],[Column12]] -> 46860
A14: T | B14: 1 | C14: ค่าเผื่อหนี้สงสัยจะสูญ - ลูกหนี้ภาษีบำรุงท้องที่ | D14: 1102050123.003 | E14: 0 | F14: 6720.7 | G14: 0 | H14: 6720.7 | I14: 0 | J14: 0 | M14: =+Table1[[#This Row],[Column7]]+Table1[[#This Row],[คอลัมน์3]]-Table1[[#This Row],[คอลัมน์2]] -> 0 | N14: =+Table1[[#This Row],[Column8]]+Table1[[#This Row],[คอลัมน์2]]-Table1[[#This Row],[คอลัมน์3]] -> 6720.7 | O14: 0 | P14: 0 | Q14: 0 | R14: 0 | S14: 0 | T14: 0 | U14: 0 | V14: 0 | W14: 0 | X14: 0 | Y14: 0 | Z14: 0 | AA14: 0 | AB14: 0 | AC14: 13E7A9B7-C42C-48F7-9ED1-B2F5C9020C73 | AE14: 0 | AF14: 0 | AK14: =+Table1[[#This Row],[Column11]] -> 0 | AL14: =+Table1[[#This Row],[Column12]] -> 6720.7
A15: T | B15: 1 | C15: รายได้เงินอุดหนุนค้างรับ | D15: 1102050193.001 | E15: 6343000 | F15: 0 | G15: 6343000 | H15: 0 | I15: 0 | J15: 0 | M15: =+Table1[[#This Row],[Column7]]+Table1[[#This Row],[คอลัมน์3]]-Table1[[#This Row],[คอลัมน์2]] -> 6343000 | N15: =+Table1[[#This Row],[Column8]]+Table1[[#This Row],[คอลัมน์2]]-Table1[[#This Row],[คอลัมน์3]] -> 0 | O15: 0 | P15: 0 | Q15: 0 | R15: 0 | S15: 0 | T15: 0 | U15: 0 | V15: 0 | W15: 0 | X15: 0 | Y15: 0 | Z15: 0 | AA15: 0 | AB15: 0 | AC15: 52E753CF-532A-491F-88E0-7B57D309B899 | AE15: 0 | AF15: 0 | AK15: =+Table1[[#This Row],[Column11]] -> 6343000 | AL15: =+Table1[[#This Row],[Column12]] -> 0
A16: T | B16: 1 | C16: ลูกหนี้ - ภาษีโรงเรือนและที่ดิน | D16: 1102050194.001 | E16: 53340 | F16: 0 | G16: 53340 | H16: 0 | I16: 0 | J16: 0 | M16: =+Table1[[#This Row],[Column7]]+Table1[[#This Row],[คอลัมน์3]]-Table1[[#This Row],[คอลัมน์2]] -> 53340 | N16: =+Table1[[#This Row],[Column8]]+Table1[[#This Row],[คอลัมน์2]]-Table1[[#This Row],[คอลัมน์3]] -> 0 | O16: 0 | P16: 0 | Q16: 0 | R16: 0 | S16: 0 | T16: 0 | U16: 0 | V16: 0 | W16: 0 | X16: 0 | Y16: 0 | Z16: 0 | AA16: 0 | AB16: 0 | AC16: 527A44CC-BCFF-4264-98F3-8D9078A9AFE0 | AE16: 0 | AF16: 0 | AK16: =+Table1[[#This Row],[Column11]] -> 53340 | AL16: =+Table1[[#This Row],[Column12]] -> 0
A17: T | B17: 1 | C17: ลูกหนี้ - ภาษีบำรุงท้องที่ | D17: 1102050194.002 | E17: 7277.08 | F17: 0 | G17: 7277.08 | H17: 0 | I17: 0 | J17: 0 | M17: =+Table1[[#This Row],[Column7]]+Table1[[#This Row],[คอลัมน์3]]-Table1[[#This Row],[คอลัมน์2]] -> 7277.08 | N17: =+Table1[[#This Row],[Column8]]+Table1[[#This Row],[คอลัมน์2]]-Table1[[#This Row],[คอลัมน์3]] -> 0 | O17: 0 | P17: 0 | Q17: 0 | R17: 0 | S17: 0 | T17: 0 | U17: 0 | V17: 0 | W17: 0 | X17: 0 | Y17: 0 | Z17: 0 | AA17: 0 | AB17: 0 | AC17: 23BEB1E3-1CDF-47D0-9096-A82FB4C515D6 | AE17: 0 | AF17: 0 | AK17: =+Table1[[#This Row],[Column11]] -> 7277.08 | AL17: =+Table1[[#This Row],[Column12]] -> 0
A18: T | B18: 1 | C18: เงินฝากประจำ-ระยะสั้น (300033570023) | D18: 1104010101.001 | E18: 13293357 | F18: 0 | G18: 13293357 | H18: 0 | I18: 0 | J18: 0 | M18: =+Table1[[#This Row],[Column7]]+Table1[[#This Row],[คอลัมน์3]]-Table1[[#This Row],[คอลัมน์2]] -> 13293357 | N18: =+Table1[[#This Row],[Column8]]+Table1[[#This Row],[คอลัมน์2]]-Table1[[#This Row],[คอลัมน์3]] -> 0 | O18: 0 | P18: 0 | Q18: 0 | R18: 0 | S18: 0 | T18: 0 | U18: 0 | V18: 0 | W18: 0 | X18: 0 | Y18: 0 | Z18: 0 | AA18: 0 | AB18: 0 | AC18: 8116693C-BB37-4A8A-AA5F-09C21F68BEB2 | AD18: (300033570023) | AE18: 0 | AF18: 0 | AK18: =+Table1[[#This Row],[Column11]] -> 13293357 | AL18: =+Table1[[#This Row],[Column12]] -> 0
A19: T | B19: 1 | C19: เงินฝากประจำ-ระยะสั้น (8352016520) | D19: 1104010101.001 | E19: 3520773.3 | F19: 0 | G19: 3520773.3 | H19: 0 | I19: 0 | J19: 0 | M19: =+Table1[[#This Row],[Column7]]+Table1[[#This Row],[คอลัมน์3]]-Table1[[#This Row],[คอลัมน์2]] -> 3520773.3 | N19: =+Table1[[#This Row],[Column8]]+Table1[[#This Row],[คอลัมน์2]]-Table1[[#This Row],[คอลัมน์3]] -> 0 | O19: 0 | P19: 0 | Q19: 0 | R19: 0 | S19: 0 | T19: 0 | U19: 0 | V19: 0 | W19: 0 | X19: 0 | Y19: 0 | Z19: 0 | AA19: 0 | AB19: 0 | AC19: 8116693C-BB37-4A8A-AA5F-09C21F68BEB2 | AD19: (8352016520) | AE19: 0 | AF19: 0 | AK19: =+Table1[[#This Row],[Column11]] -> 3520773.3 | AL19: =+Table1[[#This Row],[Column12]] -> 0
A20: T | B20: 1 | C20: วัสดุคงคลัง | D20: 1105010105.001 | E20: 187949.7 | F20: 0 | G20: 187949.7 | H20: 0 | I20: 0 | J20: 0 | M20: =+Table1[[#This Row],[Column7]]+Table1[[#This Row],[คอลัมน์3]]-Table1[[#This Row],[คอลัมน์2]] -> 187949.7 | N20: =+Table1[[#This Row],[Column8]]+Table1[[#This Row],[คอลัมน์2]]-Table1[[#This Row],[คอลัมน์3]] -> 0 | O20: 0 | P20: 0 | Q20: 0 | R20: 0 | S20: 0 | T20: 0 | U20: 0 | V20: 0 | W20: 0 | X20: 0 | Y20: 0 | Z20: 0 | AA20: 0 | AB20: 0 | AC20: C787CD2A-A34C-4680-9B62-A5D701754961 | AE20: 0 | AF20: 0 | AK20: =+Table1[[#This Row],[Column11]] -> 187949.7 | AL20: =+Table1[[#This Row],[Column12]] -> 0
A21: T | B21: 1 | C21: ค่าใช้จ่ายจ่ายล่วงหน้า | D21: 1106010103.001 | E21: 6750 | F21: 0 | G21: 6750 | H21: 0 | I21: 0 | J21: 0 | M21: =+Table1[[#This Row],[Column7]]+Table1[[#This Row],[คอลัมน์3]]-Table1[[#This Row],[คอลัมน์2]] -> 6750 | N21: =+Table1[[#This Row],[Column8]]+Table1[[#This Row],[คอลัมน์2]]-Table1[[#This Row],[คอลัมน์3]] -> 0 | O21: 0 | P21: 0 | Q21: 0 | R21: 0 | S21: 0 | T21: 0 | U21: 0 | V21: 0 | W21: 0 | X21: 0 | Y21: 0 | Z21: 0 | AA21: 0 | AB21: 0 | AC21: 06922F9C-155C-4B0A-A20D-29DD3641F2B2 | AE21: 0 | AF21: 0 | AK21: =+Table1[[#This Row],[Column11]] -> 6750 | AL21: =+Table1[[#This Row],[Column12]] -> 0
A22: T | B22: 1 | C22: เงินฝากเงินทุนส่งเสริมกิจการเทศบาล | D22: 1203020199.002 | E22: 6449883.6 | F22: 0 | G22: 6449883.6 | H22: 0 | I22: 0 | J22: 0 | M22: =+Table1[[#This Row],[Column7]]+Table1[[#This Row],[คอลัมน์3]]-Table1[[#This Row],[คอลัมน์2]] -> 6449883.6 | N22: =+Table1[[#This Row],[Column8]]+Table1[[#This Row],[คอลัมน์2]]-Table1[[#This Row],[คอลัมน์3]] -> 0 | O22: 0 | P22: 0 | Q22: 0 | R22: 0 | S22: 0 | T22: 0 | U22: 0 | V22: 0 | W22: 0 | X22: 0 | Y22: 0 | Z22: 0 | AA22: 0 | AB22: 0 | AC22: 24CC0E52-5CCF-402A-8698-EB806EC5B16D | AE22: 0 | AF22: 0 | AK22: =+Table1[[#This Row],[Column11]] -> 6449883.6 | AL22: =+Table1[[#This Row],[Column12]] -> 0
A23: T | B23: 1 | C23: ที่ดิน | D23: 1204010101.001 | E23: 140000 | F23: 0 | G23: 140000 | H23: 0 | I23: 0 | J23: 0 | M23: =+Table1[[#This Row],[Column7]]+Table1[[#This Row],[คอลัมน์3]]-Table1[[#This Row],[คอลัมน์2]] -> 140000 | N23: =+Table1[[#This Row],[Column8]]+Table1[[#This Row],[คอลัมน์2]]-Table1[[#This Row],[คอลัมน์3]] -> 0 | O23: 0 | P23: 0 | Q23: 0 | R23: 0 | S23: 0 | T23: 0 | U23: 0 | V23: 0 | W23: 0 | X23: 0 | Y23: 0 | Z23: 0 | AA23: 0 | AB23: 0 | AC23: D768F5A8-4BD3-4A06-A32C-8F06DF0C09C7 | AE23: 0 | AF23: 0 | AK23: =+Table1[[#This Row],[Column11]] -> 140000 | AL23: =+Table1[[#This Row],[Column12]] -> 0
A24: T | B24: 1 | C24: อาคารสำนักงาน | D24: 1205020101.001 | E24: 3392000 | F24: 0 | G24: 5751500 | H24: 0 | I24: 0 | J24: 0 | M24: =+Table1[[#This Row],[Column7]]+Table1[[#This Row],[คอลัมน์3]]-Table1[[#This Row],[คอลัมน์2]] -> 5751500 | N24: =+Table1[[#This Row],[Column8]]+Table1[[#This Row],[คอลัมน์2]]-Table1[[#This Row],[คอลัมน์3]] -> 0 | O24: 0 | P24: 0 | Q24: 0 | R24: 0 | S24: 0 | T24: 0 | U24: 0 | V24: 0 | W24: 2359500 | X24: 0 | Y24: 0 | Z24: 0 | AA24: 0 | AB24: 0 | AC24: 9FB4744C-20D3-428C-A27A-60336AD73361 | AE24: 0 | AF24: 0 | AK24: =+Table1[[#This Row],[Column11]] -> 5751500 | AL24: =+Table1[[#This Row],[Column12]] -> 0
A25: T | B25: 1 | C25: ค่าเสื่อมราคาสะสมอาคารสำนักงาน | D25: 1205020103.001 | E25: 0 | F25: 2951299 | G25: 0 | H25: 4231542.8 | I25: 0 | J25: 0 | M25: =+Table1[[#This Row],[Column7]]+Table1[[#This Row],[คอลัมน์3]]-Table1[[#This Row],[คอลัมน์2]] -> 0 | N25: =+Table1[[#This Row],[Column8]]+Table1[[#This Row],[คอลัมน์2]]-Table1[[#This Row],[คอลัมน์3]] -> 4231542.8 | O25: 0 | P25: 0 | Q25: 0 | R25: 0 | S25: 0 | T25: 0 | U25: 0 | V25: 0 | W25: 0 | X25: 1280243.8 | Y25: 0 | Z25: 0 | AA25: 0 | AB25: 0 | AC25: 89A44DE8-8A24-4E10-86C7-197C892A4FAC | AE25: 0 | AF25: 0 | AK25: =+Table1[[#This Row],[Column11]] -> 0 | AL25: =+Table1[[#This Row],[Column12]] -> 4231542.8
A26: T | B26: 1 | C26: อาคารเพื่อประโยชน์อื่น | D26: 1205030101.001 | E26: 1654674.1 | F26: 0 | G26: 1654674.1 | H26: 0 | I26: 0 | J26: 0 | M26: =+Table1[[#This Row],[Column7]]+Table1[[#This Row],[คอลัมน์3]]-Table1[[#This Row],[คอลัมน์2]] -> 1654674.1 | N26: =+Table1[[#This Row],[Column8]]+Table1[[#This Row],[คอลัมน์2]]-Table1[[#This Row],[คอลัมน์3]] -> 0 | O26: 0 | P26: 0 | Q26: 0 | R26: 0 | S26: 0 | T26: 0 | U26: 0 | V26: 0 | W26: 0 | X26: 0 | Y26: 0 | Z26: 0 | AA26: 0 | AB26: 0 | AC26: B810C745-26E9-426F-A60F-E27B836140DD | AE26: 0 | AF26: 0 | AK26: =+Table1[[#This Row],[Column11]] -> 1654674.1 | AL26: =+Table1[[#This Row],[Column12]] -> 0
A27: T | B27: 1 | C27: ค่าเสื่อมราคาสะสมอาคารเพื่อประโยชน์อื่น | D27: 1205030103.001 | E27: 0 | F27: 822139.04 | G27: 0 | H27: 822139.04 | I27: 0 | J27: 0 | M27: =+Table1[[#This Row],[Column7]]+Table1[[#This Row],[คอลัมน์3]]-Table1[[#This Row],[คอลัมน์2]] -> 0 | N27: =+Table1[[#This Row],[Column8]]+Table1[[#This Row],[คอลัมน์2]]-Table1[[#This Row],[คอลัมน์3]] -> 822139.04 | O27: 0 | P27: 0 | Q27: 0 | R27: 0 | S27: 0 | T27: 0 | U27: 0 | V27: 0 | W27: 0 | X27: 0 | Y27: 0 | Z27: 0 | AA27: 0 | AB27: 0 | AC27: 617318BB-5BB5-4D7C-AA58-2B33AF57D85B | AE27: 0 | AF27: 0 | AK27: =+Table1[[#This Row],[Column11]] -> 0 | AL27: =+Table1[[#This Row],[Column12]] -> 822139.04
A28: T | B28: 1 | C28: สิ่งปลูกสร้าง | D28: 1205040101.001 | E28: 1100748 | F28: 0 | G28: 1230248 | H28: 0 | I28: 0 | J28: 0 | M28: =+Table1[[#This Row],[Column7]]+Table1[[#This Row],[คอลัมน์3]]-Table1[[#This Row],[คอลัมน์2]] -> 1230248 | N28: =+Table1[[#This Row],[Column8]]+Table1[[#This Row],[คอลัมน์2]]-Table1[[#This Row],[คอลัมน์3]] -> 0 | O28: 0 | P28: 0 | Q28: 0 | R28: 0 | S28: 0 | T28: 0 | U28: 0 | V28: 0 | W28: 129500 | X28: 0 | Y28: 0 | Z28: 0 | AA28: 0 | AB28: 0 | AC28: 3EBB3D66-FD5F-42C8-A56E-032CBCACC6C9 | AE28: 0 | AF28: 0 | AK28: =+Table1[[#This Row],[Column11]] -> 1230248 | AL28: =+Table1[[#This Row],[Column12]] -> 0
A29: T | B29: 1 | C29: ค่าเสื่อมราคาสะสมสิ่งปลูกสร้าง | D29: 1205040103.001 | E29: 0 | F29: 388753.13 | G29: 0 | H29: 508180.86 | I29: 0 | J29: 0 | M29: =+Table1[[#This Row],[Column7]]+Table1[[#This Row],[คอลัมน์3]]-Table1[[#This Row],[คอลัมน์2]] -> 0 | N29: =+Table1[[#This Row],[Column8]]+Table1[[#This Row],[คอลัมน์2]]-Table1[[#This Row],[คอลัมน์3]] -> 508180.86 | O29: 0 | P29: 0 | Q29: 0 | R29: 0 | S29: 0 | T29: 0 | U29: 0 | V29: 0 | W29: 0 | X29: 119427.73 | Y29: 0 | Z29: 0 | AA29: 0 | AB29: 0 | AC29: 5728A8D1-89CA-4393-9EA8-A8DA51F225D5 | AE29: 0 | AF29: 0 | AK29: =+Table1[[#This Row],[Column11]] -> 0 | AL29: =+Table1[[#This Row],[Column12]] -> 508180.86
A30: T | B30: 1 | C30: ครุภัณฑ์สำนักงาน | D30: 1206010101.001 | E30: 133700 | F30: 0 | G30: 161200 | H30: 0 | I30: 0 | J30: 0 | M30: =+Table1[[#This Row],[Column7]]+Table1[[#This Row],[คอลัมน์3]]-Table1[[#This Row],[คอลัมน์2]] -> 161200 | N30: =+Table1[[#This Row],[Column8]]+Table1[[#This Row],[คอลัมน์2]]-Table1[[#This Row],[คอลัมน์3]] -> 0 | O30: 0 | P30: 0 | Q30: 0 | R30: 0 | S30: 0 | T30: 0 | U30: 0 | V30: 0 | W30: 27500 | X30: 0 | Y30: 0 | Z30: 0 | AA30: 0 | AB30: 0 | AC30: 8BDBEF3D-391A-45F4-B4E4-7E1E42703F89 | AE30: 0 | AF30: 0 | AK30: =+Table1[[#This Row],[Column11]] -> 161200 | AL30: =+Table1[[#This Row],[Column12]] -> 0
A31: T | B31: 1 | C31: ค่าเสื่อมราคาสะสมครุภัณฑ์สำนักงาน | D31: 1206010103.001 | E31: 0 | F31: 28469.37 | G31: 0 | H31: 28469.37 | I31: 0 | J31: 0 | M31: =+Table1[[#This Row],[Column7]]+Table1[[#This Row],[คอลัมน์3]]-Table1[[#This Row],[คอลัมน์2]] -> 0 | N31: =+Table1[[#This Row],[Column8]]+Table1[[#This Row],[คอลัมน์2]]-Table1[[#This Row],[คอลัมน์3]] -> 28469.37 | O31: 0 | P31: 0 | Q31: 0 | R31: 0 | S31: 0 | T31: 0 | U31: 0 | V31: 0 | W31: 0 | X31: 0 | Y31: 0 | Z31: 0 | AA31: 0 | AB31: 0 | AC31: 818B970B-1494-4344-8B40-55F367DBFEC5 | AE31: 0 | AF31: 0 | AK31: =+Table1[[#This Row],[Column11]] -> 0 | AL31: =+Table1[[#This Row],[Column12]] -> 28469.37
... A59: T | B59: 1 | C59: รายได้เงินอุดหนุนรับล่วงหน้า | D59: 2103010102.001 | E59: 0 | F59: 1743000 | G59: 0 | H59: 1743000 | I59: 0 | J59: 0 | M59: =+Table1[[#This Row],[Column7]]+Table1[[#This Row],[คอลัมน์3]]-Table1[[#This Row],[คอลัมน์2]] -> 0 | N59: =+Table1[[#This Row],[Column8]]+Table1[[#This Row],[คอลัมน์2]]-Table1[[#This Row],[คอลัมน์3]] -> 1743000 | O59: 0 | P59: 0 | Q59: 0 | R59: 0 | S59: 0 | T59: 0 | U59: 0 | V59: 0 | W59: 0 | X59: 0 | Y59: 0 | Z59: 0 | AA59: 0 | AB59: 0 | AC59: 7CE4E5A2-67DF-4CDB-892D-9238F88CB290 | AE59: 0 | AF59: 0 | AK59: =+Table1[[#This Row],[Column11]] -> 0 | AL59: =+Table1[[#This Row],[Column12]] -> 1743000
A60: T | B60: 1 | C60: เงินรับฝากอื่น - ระยะสั้น เงินสนับสนุนผู้ประสบภัยพิบัติพายุโซนร้อนปาบึก | D60: 2111020199.999 | E60: 0 | F60: 10000 | G60: 0 | H60: 10000 | I60: 0 | J60: 0 | M60: =+Table1[[#This Row],[Column7]]+Table1[[#This Row],[คอลัมน์3]]-Table1[[#This Row],[คอลัมน์2]] -> 0 | N60: =+Table1[[#This Row],[Column8]]+Table1[[#This Row],[คอลัมน์2]]-Table1[[#This Row],[คอลัมน์3]] -> 10000 | O60: 0 | P60: 0 | Q60: 0 | R60: 0 | S60: 0 | T60: 0 | U60: 0 | V60: 0 | W60: 0 | X60: 0 | Y60: 0 | Z60: 0 | AA60: 0 | AB60: 0 | AC60: 3C1B17A4-5C0F-4560-8647-52A67FDC1654 | AD60: เงินสนับสนุนผู้ประสบภัยพิบัติพายุโซนร้อนปาบึก | AE60: 0 | AF60: 0 | AK60: =+Table1[[#This Row],[Column11]] -> 0 | AL60: =+Table1[[#This Row],[Column12]] -> 10000
A61: T | B61: 1 | C61: เงินประกันสัญญา - ระยะสั้น | D61: 2112010101.001 | E61: 0 | F61: 331900 | G61: 0 | H61: 355363 | I61: 0 | J61: 0 | M61: =+Table1[[#This Row],[Column7]]+Table1[[#This Row],[คอลัมน์3]]-Table1[[#This Row],[คอลัมน์2]] -> 0 | N61: =+Table1[[#This Row],[Column8]]+Table1[[#This Row],[คอลัมน์2]]-Table1[[#This Row],[คอลัมน์3]] -> 355363 | O61: 0 | P61: 0 | Q61: 0 | R61: 0 | S61: 0 | T61: 0 | U61: 0 | V61: 0 | W61: 0 | X61: 23463 | Y61: 0 | Z61: 0 | AA61: 0 | AB61: 0 | AC61: 47E39AA2-84BA-4E43-B8F2-00A2E35F1969 | AE61: 0 | AF61: 0 | AK61: =+Table1[[#This Row],[Column11]] -> 0 | AL61: =+Table1[[#This Row],[Column12]] -> 355363
A62: T | B62: 1 | C62: เงินรับฝากอื่น - ระยะยาว เงินประกันการใช้น้ำ | D62: 2207020102.999 | E62: 0 | F62: 61500 | G62: 0 | H62: 61500 | I62: 0 | J62: 0 | M62: =+Table1[[#This Row],[Column7]]+Table1[[#This Row],[คอลัมน์3]]-Table1[[#This Row],[คอลัมน์2]] -> 0 | N62: =+Table1[[#This Row],[Column8]]+Table1[[#This Row],[คอลัมน์2]]-Table1[[#This Row],[คอลัมน์3]] -> 61500 | O62: 0 | P62: 0 | Q62: 0 | R62: 0 | S62: 0 | T62: 0 | U62: 0 | V62: 0 | W62: 0 | X62: 0 | Y62: 0 | Z62: 0 | AA62: 0 | AB62: 0 | AC62: 1DAC37F2-82A8-4BCD-B5EB-A32693B44206 | AD62: เงินประกันการใช้น้ำ | AE62: 0 | AF62: 0 | AK62: =+Table1[[#This Row],[Column11]] -> 0 | AL62: =+Table1[[#This Row],[Column12]] -> 61500
A63: T | B63: 1 | C63: เงินประกันสัญญา - ระยะยาว | D63: 2208010101.001 | E63: 0 | F63: 167246 | G63: 0 | H63: 167246 | I63: 0 | J63: 0 | M63: =+Table1[[#This Row],[Column7]]+Table1[[#This Row],[คอลัมน์3]]-Table1[[#This Row],[คอลัมน์2]] -> 0 | N63: =+Table1[[#This Row],[Column8]]+Table1[[#This Row],[คอลัมน์2]]-Table1[[#This Row],[คอลัมน์3]] -> 167246 | O63: 0 | P63: 0 | Q63: 0 | R63: 0 | S63: 0 | T63: 0 | U63: 0 | V63: 0 | W63: 0 | X63: 0 | Y63: 0 | Z63: 0 | AA63: 0 | AB63: 0 | AC63: 35F97FF1-B382-41B2-BE9F-DB8A3AF003D3 | AE63: 0 | AF63: 0 | AK63: =+Table1[[#This Row],[Column11]] -> 0 | AL63: =+Table1[[#This Row],[Column12]] -> 167246
A64: T | B64: 1 | C64: เงินสะสม | D64: 3102010101.001 | E64: 0 | F64: 79219570 | G64: 0 | H64: 79219570 | I64: 0 | J64: 0 | M64: =+Table1[[#This Row],[Column7]]+Table1[[#This Row],[คอลัมน์3]]-Table1[[#This Row],[คอลัมน์2]] -> 0 | N64: =+Table1[[#This Row],[Column8]]+Table1[[#This Row],[คอลัมน์2]]-Table1[[#This Row],[คอลัมน์3]] -> 79219570 | O64: 0 | P64: 0 | Q64: 0 | R64: 0 | S64: 0 | T64: 0 | U64: 0 | V64: 0 | W64: 0 | X64: 0 | Y64: 0 | Z64: 0 | AA64: 0 | AB64: 0 | AC64: 606A83FF-C20E-41B3-8916-E13743EE722A | AE64: 0 | AF64: 0 | AJ64: =+F168*0.85 -> 18522036 | AK64: =+Table1[[#This Row],[Column11]] -> 0 | AL64: =+Table1[[#This Row],[Column12]]+AJ64 -> 97741606
A65: T | B65: 1 | C65: เงินทุนสำรองเงินสะสม | D65: 3102010101.002 | E65: 0 | F65: 28863610 | G65: 0 | H65: 28863610 | I65: 0 | J65: 0 | M65: =+Table1[[#This Row],[Column7]]+Table1[[#This Row],[คอลัมน์3]]-Table1[[#This Row],[คอลัมน์2]] -> 0 | N65: =+Table1[[#This Row],[Column8]]+Table1[[#This Row],[คอลัมน์2]]-Table1[[#This Row],[คอลัมน์3]] -> 28863610 | O65: 0 | P65: 0 | Q65: 0 | R65: 0 | S65: 0 | T65: 0 | U65: 0 | V65: 0 | W65: 0 | X65: 0 | Y65: 0 | Z65: 0 | AA65: 0 | AB65: 0 | AC65: 24ED33B5-0AB8-4CB4-965E-7C336108B848 | AE65: 0 | AF65: 0 | AJ65: =+F168*0.15 -> 3268594.6 | AK65: =+Table1[[#This Row],[Column11]] -> 0 | AL65: =+Table1[[#This Row],[Column12]]+AJ65 -> 32132204
A66: T | B66: 1 | C66: รายได้สะสม | D66: 3102010101.003 | E66: 0 | F66: 0 | G66: 0 | H66: 2295356.1 | I66: 0 | J66: 0 | M66: =+Table1[[#This Row],[Column7]]+Table1[[#This Row],[คอลัมน์3]]-Table1[[#This Row],[คอลัมน์2]] -> 0 | N66: =+Table1[[#This Row],[Column8]]+Table1[[#This Row],[คอลัมน์2]]-Table1[[#This Row],[คอลัมน์3]] -> 2295356.1 | O66: 0 | P66: 0 | Q66: 0 | R66: 0 | S66: 0 | T66: 0 | U66: 0 | V66: 0 | W66: 0 | X66: 2295356.1 | Y66: 0 | Z66: 0 | AA66: 0 | AB66: 0 | AC66: 3258F1ED-A8B1-496A-8A51-FB3A26A5BBE2 | AE66: 0 | AF66: 0 | AI66: =+W168 -> 131561.46 | AK66: =+Table1[[#This Row],[Column11]] -> 0 | AL66: =+Table1[[#This Row],[Column12]]-AI66 -> 2163794.7
A67: T | B67: 1 | C67: รายได้ภาษีโรงเรือนและที่ดิน | D67: 4401010101.001 | E67: 0 | F67: 1800 | G67: 0 | H67: 1800 | I67: 0 | J67: 0 | M67: =+Table1[[#This Row],[Column7]]+Table1[[#This Row],[คอลัมน์3]]-Table1[[#This Row],[คอลัมน์2]] -> 0 | N67: =+Table1[[#This Row],[Column8]]+Table1[[#This Row],[คอลัมน์2]]-Table1[[#This Row],[คอลัมน์3]] -> 1800 | O67: 0 | P67: 0 | Q67: 0 | R67: 0 | S67: 0 | T67: 0 | U67: 0 | V67: 0 | W67: 0 | X67: 0 | Y67: 0 | Z67: 0 | AA67: 0 | AB67: 0 | AC67: F7F6BE18-7939-4424-A6C7-5243C1446EDD | AE67: 0 | AF67: 0 | AG67: =+Table1[[#This Row],[Column11]] -> 0 | AH67: =+Table1[[#This Row],[Column12]] -> 1800
A68: T | B68: 1 | C68: รายได้ภาษีบำรุงท้องที่ | D68: 4401010102.001 | E68: 0 | F68: 1260.88 | G68: 0 | H68: 1260.88 | I68: 0 | J68: 0 | M68: =+Table1[[#This Row],[Column7]]+Table1[[#This Row],[คอลัมน์3]]-Table1[[#This Row],[คอลัมน์2]] -> 0 | N68: =+Table1[[#This Row],[Column8]]+Table1[[#This Row],[คอลัมน์2]]-Table1[[#This Row],[คอลัมน์3]] -> 1260.88 | O68: 0 | P68: 0 | Q68: 0 | R68: 0 | S68: 0 | T68: 0 | U68: 0 | V68: 0 | W68: 0 | X68: 0 | Y68: 0 | Z68: 0 | AA68: 0 | AB68: 0 | AC68: 2FDAFB30-E271-4024-88AD-8BB357FA1490 | AE68: 0 | AF68: 0 | AG68: =+Table1[[#This Row],[Column11]] -> 0 | AH68: =+Table1[[#This Row],[Column12]] -> 1260.88
...

Sheet งบฐานะการเงิน
A1: =+L!A1 -> เทศบาลตำบลหลักช้าง
A2: งบแสดงฐานะการเงิน
A3: ณ วันที่ 30 กันยายน 2565
I4: (หน่วย:บาท)
A5: สินทรัพย์ | G5: หมายเหตุ | I5: ปี 2565 | J5: ปี 2564
B6: สินทรัพย์หมุนเวียน
C7: เงินสดและรายการเทียบเท่าเงินสด | G7: 4 | I7: =+'4-5'!D11 -> 73138288 | J7: =+'4-5'!F11 -> 64794995
C8: ลูกหนี้การค้า | G8: 5 | I8: =+'5'!D10 -> 2755037.7 | J8: =+'5'!E10 -> 2294990.2
C9: ลูกหนี้เงินโอนและรายการอุดหนุนระยะสั้น | G9: 6 | I9: =+'6-7'!E10 -> 6350036.4 | J9: =+'6-7'!G10 -> 18122.29
C10: ลูกหนี้อื่นระยะสั้น | G10: 7 | I10: =+'7'!E20 -> 147309.73 | J10: =+'7'!F20 -> 148400.1
C11: เงินให้กู้ยืมระยะสั้น | I11: xxx | J11: xxx
C12: เงินลงทุนระยะสั้น | G12: 8 | I12: =+'8-11'!B7 -> 16814131 | J12: =+'8-11'!D7 -> 13258843
C13: สินค้าคงเหลือ | I13: xxx | J13: xxx
C14: วัสดุคงเหลือ | G14: 9 | I14: =+'9'!B8 -> 187949.7 | J14: =+'9'!C8 -> 411392.5
C15: สินทรัพย์หมุนเวียนอื่น | G15: 10 | I15: =+'10'!B13 -> 6750 | J15: =+'10'!C13 -> 11858.12
C16: รวมสินทรัพย์หมุนเวียน | I16: =SUM(I7:I15) -> 99399502 | J16: =SUM(J7:J15) -> 80938602
B17: สินทรัพย์ไม่หมุนเวียน
C18: เงินให้กู้ยืมระยะยาว | I18: xxx | J18: xxx
C19: เงินลงทุนระยะยาว | G19: 11 | I19: =+'11'!B11 -> 6449883.6 | J19: =+'11'!C11 -> 5348885.3
C20: ที่ดิน อาคาร และอุปกรณ์ - สุทธิ | G20: 12 | I20: =+'12-13'!B21 -> 3715145 | J20: =+'12-13'!C21 -> 3388000.8
C21: สินทรัพย์โครงสร้างพื้นฐาน - สุทธิ | G21: 13 | I21: =+'13'!B24 -> 30650610 | J21: =+'13'!C24 -> 21387724
C22: สินทรัพย์ไม่มีตัวตน - สุทธิ | G22: 18 | I22: xxx | J22: xxx
C23: อสังหาริมทรัพย์เพื่อการลงทุน | G23: 19 | I23: xxx | J23: xxx
C24: สินทรัพย์ไม่หมุนเวียนอื่น | G24: 20 | I24: xxx | J24: xxx
C25: รวมสินทรัพย์ไม่หมุนเวียน | I25: =SUM(I18:I24) -> 40815638 | J25: =SUM(J18:J24) -> 30124610
A26: รวมสินทรัพย์ | I26: =+I16+I25 -> 1.4021514e+08 | J26: =+J16+J25 -> 1.1106321e+08
A27: หนี้สินและสินทรัพย์สุทธิ/ส่วนทุน
A28: หนี้สิน
B29: หนี้สินหมุนเวียน
C30: เจ้าหนี้การค้า | G30: 14 | I30: =+'14-16'!B6 -> 5671300 | J30: =+'14-16'!C6 -> 97771.3
C31: เจ้าหนี้เงินโอนและรายการอุดหนุนระยะสั้น | G31: 15 | I31: =+'15'!B12 -> 1743000 | J31: =+'15'!C12 -> 0
C32: เจ้าหนี้อื่นระยะสั้น | G32: 14 | I32: =+'14-16'!B16-'14-16'!B6 -> 169126.36 | J32: =+'14-16'!C7+'14-16'!C11+'14-16'!C12+'14-16'!C15 -> 135918.83
C33: เงินกู้ยืมระยะสั้น | G33: 23 | I33: xxx | J33: xxx
C34: ส่วนของเงินกู้ยืมระยะยาวที่ถึงกำหนดชำระภายใน 1 ปี | G34: 27 | I34: xxx | J34: xxx
C35: ส่วนของเจ้าหนี้ตามสัญญาเช่าการเงินที่ถึงกำหนดชำระภายใน 1 ปี | G35: 28 | I35: xxx | J35: xxx
C36: เงินรับฝากระยะสั้น | G36: 16 | I36: =+'16'!B14 -> 365363 | J36: =+'16'!C14 -> 123295.25
C37: ประมาณการหนี้สินระยะสั้น | G37: 25 | I37: xxx | J37: xxx
C38: หนี้สินหมุนเวียนอื่น | G38: 26 | I38: xxx | J38: xxx
C39: รวมหนี้สินหมุนเวียน | I39: =SUM(I30:I38) -> 7948789.4 | J39: =SUM(J30:J38) -> 356985.38
B40: หนี้สินไม่หมุนเวียน
...

Sheet งบผลการดำเนินงาน
A1: =+L!A1 -> เทศบาลตำบลหลักช้าง
A2: งบแสดงผลการดำเนินงานทางการเงิน
A3: =+L!A3 -> สำหรับปีสิ้นสุดวันที่ 30 กันยายน 2565
A4: (หน่วย:บาท)
C5: หมายเหตุ | D5: ปี 2565 | E5: ปี 2564
A6: รายได้
B7: รายได้จากงบประมาณ | D7: xxx | E7: xxx
B8: รายได้ภาษีจัดสรร | C8: 20 | D8: =+'20'!C27 -> 23495513 | E8: =+'20'!D27 -> 21870687
B9: รายได้จากการขายสินค้าและบริการ | C9: 21 | D9: =+'21-23'!B21 -> 952569 | E9: =+'21-23'!C21 -> 926109
B10: รายได้จากการอุดหนุนจากหน่วยงานภาครัฐ | C10: 22 | D10: =+'22'!B13 -> 40658579 | E10: =+'22'!C13 -> 32237911
B11: รายได้จากการจัดเก็บภาษี ค่าธรรมเนียม ค่าปรับ และใบอนุญาต | C11: 23 | D11: =+'23'!B79 -> 337113.95 | E11: =+'23'!C79 -> 1232076.5
B12: รายได้จากการอุดหนุนอื่นและบริจาค | D12: xxx | E12: xxx
B13: รายได้ของกิจการเฉพาะการและหน่วยงานภายใต้สังกัด | C13: 24 | D13: =+'24-25'!B153 -> 5721.44 | E13: =+'24-25'!C153 -> 6950.81
B14: รายได้อื่น | C14: 25 | D14: =+'25'!B28 -> 447864.14 | E14: =+'25'!C28 -> 641357.6
A15: รวมรายได้ | D15: =SUM(D7:D14) -> 65897360 | E15: =SUM(E7:E14) -> 56915091
A16: ค่าใช้จ่าย
B17: ค่าใช้จ่ายบุคลากร | C17: 26 | D17: =+'26-27'!B31 -> 13623717 | E17: =+'26-27'!C31 -> 12202824
B18: ค่าบำเหน็จบำนาญ | C18: 27 | D18: =+'27'!B18 -> 0 | E18: =+'27'!C18 -> 418932
B19: ค่าตอบแทน | C19: 28 | D19: =+'28-30'!B10 -> 261940 | E19: =+'28-30'!C10 -> 304150
B20: ค่าใช้สอย | C20: 29 | D20: =+'29'!B20 -> 2251343.5 | E20: =+'29'!C20 -> 1352096.6
B21: ค่าวัสดุ | C21: 30 | D21: =+'30'!B10 -> 856719.38 | E21: =+'30'!C10 -> 557889.12
B22: ค่าสาธารณูปโภค | C22: 31 | D22: =+'31-33'!B11 -> 280217.55 | E22: =+'31-33'!C11 -> 374305.93
B23: ต้นทุนขายสินค้าและบริการ | C23: 32 | D23: =+'31-33'!B19 -> 884455.02 | E23: =+'31-33'!C19 -> 827526.45
B24: ค่าเสื่อมราคาและค่าตัดจัดหน่าย | C24: 33 | D24: =+'31-33'!B30 -> 5627534.5 | E24: =+'31-33'!C30 -> 4084033
B25: ค่าใช้จ่ายจากการอุดหนุนจากหน่วยงานภาครัฐ | C25: 34 | D25: =+'34-35'!B17 -> 6800681.8 | E25: =+'34-35'!C17 -> 6183784.2
B26: ค่าใช้จ่ายจากการอุดหนุนอื่นและบริจาค | C26: 35 | D26: =+'35'!B25 -> 13504577 | E26: =+'35'!C25 -> 13401116
B27: ค่าใช้จ่ายอื่น | C27: 36 | D27: =+'36'!B78 -> 147105.42 | E27: =+'36'!C78 -> 2055415.5
A28: รวมค่าใช้จ่าย | D28: =SUM(D17:D27) -> 44238291 | E28: =SUM(E17:E27) -> 41762073
A29: รายได้สูง/(ต่ำ) กว่าค่าใช้จ่ายก่อนต้นทุนทางการเงิน | D29: =+D15-D28 -> 21659069 | E29: =+E15-E28 -> 15153018
B30: ต้นทุนทางการเงิน | D30: 0 | E30: 0
A31: รายได้สูง/(ต่ำ) กว่าค่าใช้จ่ายสุทธิ | D31: =+D29-D30 -> 21659069 | E31: =+E29-E30 -> 15153018
A33: หมายเหตุประกอบงบการเงินเป็นส่วนหนึ่งของรายงานการเงินนี้

Sheet งบเปลี่ยนแปลง
A1: =+L!A1 -> เทศบาลตำบลหลักช้าง
A2: งบแสดงการเปลี่ยนแปลงสินทรัพย์สุทธิ/ส่วนทุน
A3: =+L!A3 -> สำหรับปีสิ้นสุดวันที่ 30 กันยายน 2565
A4: (หน่วย:บาท)
B6: หมายเหตุ | D6: รายได้สูง/(ต่ำ)กว่าค่าใช้จ่ายสะสม | J6: องค์ประกอบอื่นของสินทรัพย์สุทธิ/ส่วนทุน | K6: รวมสินทรัพย์สุทธิ/ส่วนทุน
D7: เงินสะสม | E7: เงินทุนสำรองเงินสะสม | F7: รายได้สะสม | G7: ทุนดำเนินการ | H7: กำไร/ขาดทุน สะสม | I7: รวมรายได้สูง/(ต่ำ)กว่าค่าใช้จ่ายสะสม
A8: ยอดคงเหลือ ณ วันที่ 30 กันยายน 2563 - ตามที่รายงานไว้เดิม | D8: =+'[1]งบรวม(แม่+ลูก)'!$C$7 -> 46772555 | E8: =+'[1]งบรวม(แม่+ลูก)'!$D$7 -> 25741695 | F8: =+'[1]งบรวม(แม่+ลูก)'!$E$7 -> 0 | G8: 0 | H8: 0 | I8: =SUM(D8:H8) -> 72514250 | J8: 0 | K8: =SUM(I8:J8) -> 72514250
A9: ผลสะสมจากการแก้ไขข้อผิดพลาดปีก่อน | D9: =+'[1]งบรวม(แม่+ลูก)'!$C$8 -> 0 | E9: =+'[1]งบรวม(แม่+ลูก)'!$D$8 -> 0 | F9: =+'[1]งบรวม(แม่+ลูก)'!$E$8 -> 0 | G9: 0 | H9: 0 | I9: =SUM(D9:H9) -> 0 | J9: 0 | K9: =SUM(I9:J9) -> 0
A10: ผลสะสมของการเปลี่ยนแปลงนโยบายการบัญชี | D10: =+'[1]งบรวม(แม่+ลูก)'!$C$9 -> 17591923 | E10: =+'[1]งบรวม(แม่+ลูก)'!$D$9 -> 941731.7 | F10: =+'[1]งบรวม(แม่+ลูก)'!$E$9 -> 999981.46 | G10: 0 | H10: 0 | I10: =SUM(D10:H10) -> 19533636 | J10: 0 | K10: =SUM(I10:J10) -> 19533636
A11: ยอดคงเหลือ ณ วันที่ 30 กันยายน 2563 - หลังการปรับปรุง | D11: =SUM(D8:D10) -> 64364478 | E11: =SUM(E8:E10) -> 26683427 | F11: =SUM(F8:F10) -> 999981.46 | G11: =SUM(G8:G10) -> 0 | H11: =SUM(H8:H10) -> 0 | I11: =SUM(I8:I10) -> 92047886 | J11: =SUM(J8:J10) -> 0 | K11: =SUM(K8:K10) -> 92047886
A12: การเปลี่ยนในสินทรัพย์สุทธิ/ส่วนทุนสำหรับปี 2564
A13: การเปลี่ยนแปลงที่ทำให้ทุนเพิ่ม/ลด | D13: =+'[1]งบรวม(แม่+ลูก)'!$C$12 -> 1894264.9 | E13: =+'[1]งบรวม(แม่+ลูก)'!$D$12 -> -104112.6 | F13: =+'[1]งบรวม(แม่+ลูก)'!$E$12 -> 1370990.2 | G13: 0 | H13: 0 | I13: =SUM(D13:H13) -> 3161142.5 | J13: 0 | K13: =SUM(I13:J13) -> 3161142.5
A14: รายได้สูง/(ต่ำ) กว่าค่าใช้จ่ายสำหรับงวด | D14: =+'[1]งบรวม(แม่+ลูก)'!$C$13 -> 12944338 | E14: =+'[1]งบรวม(แม่+ลูก)'!$D$13 -> 2284295 | F14: =+'[1]งบรวม(แม่+ลูก)'!$E$13 -> -75615.52 | G14: 0 | H14: 0 | I14: =SUM(D14:H14) -> 15153018 | J14: 0 | K14: =SUM(I14:J14) -> 15153018
A15: ยอดคงเหลือ ณ วันที่ 30 กันยายน 2564 | D15: =SUM(D11:D14) -> 79203081 | E15: =SUM(E11:E14) -> 28863610 | F15: =SUM(F11:F14) -> 2295356.1 | G15: =SUM(G11:G14) -> 0 | H15: =SUM(H11:H14) -> 0 | I15: =SUM(I13:I14) -> 18314161 | J15: =SUM(J11:J14) -> 0 | K15: =SUM(K13:K14) -> 18314161
A17: ยอดคงเหลือ ณ วันที่ 30 กันยายน 2564 - ตามที่รายงานไว้เดิม | D17: =+'[1]งบรวม(แม่+ลูก)'!$C$16 -> 79203081 | E17: =+E15 -> 28863610 | F17: =+F15 -> 2295356.1 | G17: 0 | H17: 0 | I17: =SUM(D17:H17) -> 1.1036205e+08 | J17: 0 | K17: =SUM(I17:J17) -> 1.1036205e+08
A18: ผลสะสมจากการแก้ไขข้อผิดพลาดปีก่อน | D18: =+'[1]งบรวม(แม่+ลูก)'!$C$17 -> 0 | E18: =+'[1]งบรวม(แม่+ลูก)'!$D$17 -> 0 | F18: =+'[1]งบรวม(แม่+ลูก)'!$E$17 -> 0 | G18: 0 | H18: 0 | I18: =SUM(D18:H18) -> 0 | J18: 0 | K18: =SUM(I18:J18) -> 0
A19: ผลสะสมของการเปลี่ยนแปลงนโยบายการบัญชี | D19: =+'[1]งบรวม(แม่+ลูก)'!$C$18 -> 0 | E19: =+'[1]งบรวม(แม่+ลูก)'!$D$18 -> 0 | F19: =+'[1]งบรวม(แม่+ลูก)'!$E$18 -> 0 | G19: 0 | H19: 0 | I19: =SUM(D19:H19) -> 0 | J19: 0 | K19: =SUM(I19:J19) -> 0
A20: ยอดคงเหลือ ณ วันที่ 30 กันยายน 2564 - หลังการปรับปรุง | D20: =SUM(D17:D19) -> 79203081 | E20: =SUM(E17:E19) -> 28863610 | F20: =SUM(F17:F19) -> 2295356.1 | G20: =SUM(G17:G19) -> 0 | H20: =SUM(H17:H19) -> 0 | I20: =SUM(I17:I19) -> 1.1036205e+08 | J20: =SUM(J17:J19) -> 0 | K20: =SUM(I20:J20) -> 1.1036205e+08
A21: การเปลี่ยนในสินทรัพย์สุทธิ/ส่วนทุนสำหรับปี 2565
A22: การเปลี่ยนแปลงที่ทำให้ทุนเพิ่ม/ลด | D22: =+'[1]งบรวม(แม่+ลูก)'!$C$21 -> 16489 | E22: =+'[1]งบรวม(แม่+ลูก)'!$D$21 -> 0 | F22: =+'[1]งบรวม(แม่+ลูก)'!$E$21 -> 0 | G22: 0 | H22: 0 | I22: =SUM(D22:H22) -> 16489 | J22: 0 | K22: =SUM(I22:J22) -> 16489
A23: รายได้สูง/(ต่ำ) กว่าค่าใช้จ่ายสำหรับงวด | D23: =+'[1]งบรวม(แม่+ลูก)'!$C$22 -> 18522036 | E23: =+'[1]งบรวม(แม่+ลูก)'!$D$22 -> 3268594.6 | F23: =+'[1]งบรวม(แม่+ลูก)'!$E$22 -> -131561.46 | G23: 0 | H23: 0 | I23: =SUM(D23:H23) -> 21659069 | J23: 0 | K23: =SUM(I23:J23) -> 21659069
A24: ยอดคงเหลือ ณ วันที่ 30 กันยายน 2565 | D24: =+D20+D22+D23 -> 97741606 | E24: =+E20+E22+E23 -> 32132204 | F24: =+F20+F22+F23 -> 2163794.7 | G24: =+G20+G22+G23 -> 0 | H24: =+H20+H22+H23 -> 0 | I24: =+I20+I22+I23 -> 1.320376e+08 | J24: =+J20+J22+J23 -> 0 | K24: =SUM(K20:K23) -> 1.320376e+08
A26: หมายเหตุประกอบงบการเงินเป็นส่วนหนึ่งของรายงานการเงินนี้

Sheet 4-5
A1: 8
A3: หมายเหตุ 4 เงินสดและรายการเทียบเท่าเงินสด | G3: รหัสบัญชี | H3: ชื่อบัญชี
D4: (หน่วย:บาท)
D5: 2565 | F5: 2564
A6: เงินสดในมือ | D6: 0 | F6: 0 | G6: 1101010101.001 | H6: เงินสดในมือ
A7: เงินฝากสถาบันการเงิน | D7: =+W!AK4+W!AK5+W!AK6 -> 55360396 | F7: 64794995 | G7: 1101030101.001 1101030102.001 | H7: เงินฝากธนาคารกระแสรายวัน เงินฝากธนาคารออมทรัพย์
A8: เงินฝากประจำที่มีกำหนดจ่ายคืนไม่เกิน 3 เดือน | D8: =+W!AK7 -> 17777891 | F8: 0 | G8: 1101030199.001 | H8: เงินฝากไม่มีรายตัว
A10: เงินฝากกระทรวงการคลัง | D10: 0 | F10: 0
A11: รวมเงินสดและรายการเทียบเท่าเงินสด | D11: =SUM(D6:D10) -> 73138288 | F11: =SUM(F6:F10) -> 64794995
A13: หมายเหตุ 5 ลูกหนี้การค้า
F14: (หน่วย:บาท)
D15: 2565 | F15: 2564
A16: ลูกหนี้ค่าสินค้าและบริการ | D16: =+W!AK8+W!AK9 -> 3720400 | F16: 3318144 | G16: 1102050101.001 1102050102.001 1102050194.005 | H16: ลูกหนี้ค่าสินค้าและบริการ-หน่วยงานภาครัฐ ลูกหนี้ค่าสินค้าและบริการ-บุคคลภายนอก ลูกหนี้ - ทรัพย์รับจำนำ
A17: ลูกหนี้ค่ารักษาพยาบาล | D17: 0 | F17: 0
A18: หัก ค่าเผื่อหนี้สงสัยจะสูญ | D18: =-W!AL12 -> -965362.3 | F18: -1023153.8 | G18: 1102050123.001 1102050123.006 1102050123.007 1102050123.008 1102050123.009 1102050123.010 1102050123.011 1102050123.012 1102050123.998 | H18: ค่าเผื่อหนี้สงสัยจะสูญ - ลูกหนี้ค่าสินค้าและบริการ ค่าเผื่อหนี้สงสัยจะสูญ - ลูกหนี้ค่ารักษาพยาบาลสิทธิหลักประกันสุขภาพถ้วนหน้า ค่าเผื่อหนี้สงสัยจะสูญ - ลูกหนี้ค่ารักษาพยาบาลสิทธิประกันสังคม ค่าเผื่อหนี้สงสัยจะสูญ - ลูกหนี้ค่ารักษาพยาบาลสิทธิ พ.ร.บ. รถ ค่าเผื่อหนี้สงสัยจะสูญ - ลูกหนี้ค่ารักษาพยาบาลสิทธิเบิกตรงต้นสังกัดกรมบัญชีกลาง ค่าเผื่อหนี้สงสัยจะสูญ - ลูกหนี้ค่ารักษาพยาบาลสิทธิเบิกตรงต้นสังกัดองค์กรปกครองส่วนท้องถิ่น ค่าเผื่อหนี้สงสัยจะสูญ - ลูกหนี้ค่ารักษาพยาบาลสิทธิเบิกตรงต้นสังกัดกรุงเทพมหานคร ค่าเผื่อหนี้สงสัยจะสูญ - ลูกหนี้ค่ารักษาพยาบาลสิทธิเบิกตรงต้นสังกัดเมืองพัทยา ค่าเผื่อหนี้สงสัยจะสูญ - ลูกหนี้ค่ารักษาพยาบาลอื่น
A19: รวมลูกหนี้การค้า (สุทธิ) | D19: =SUM(D16:D18) -> 2755037.7 | F19: 2294990.2
A21: ลูกหนี้การค้า ณ วันสิ้นปี แยกตามอายุหนี้ ดังนี้
F22: (หน่วย:บาท)
A23: ลูกหนี้การค้า | B23: ยังไม่ถึงกำหนด | C23: เกินกำหนดชำระ | D23: เกินกำหนดชำระ | F23: รวม
B24: ชำระ | C24: ไม่เกิน 30 วัน | D24: เกินกว่า 30 วัน
A25: 2565 | B25: 0 | C25: 54177 | D25: 3666223 | F25: =SUM(B25:D25) -> 3720400
A26: 2564 | B26: 0 | C26: 81940 | D26: 3236204 | F26: =+B26+C26+D26 -> 3318144

Sheet 5
A1: =+L!A1 -> เทศบาลตำบลหลักช้าง
A2: หมายเหตุประกอบงบการเงิน
A3: =+L!A3 -> สำหรับปีสิ้นสุดวันที่ 30 กันยายน 2565
A4: หมายเหตุ 5 ลูกหนี้การค้า | F4: รหัสบัญชี | G4: ชื่อบัญชี
D5: (หน่วย:บาท)
D6: 2565 | E6: 2564
A7: ลูกหนี้ค่าสินค้าและบริการ | D7: =+W!AK8+W!AK9 -> 3720400 | E7: 3318144 | F7: 1102050101.001 1102050102.001 1102050194.005 | G7: ลูกหนี้ค่าสินค้าและบริการ-หน่วยงานภาครัฐ ลูกหนี้ค่าสินค้าและบริการ-บุคคลภายนอก ลูกหนี้ - ทรัพย์รับจำนำ
A8: ลูกหนี้ค่ารักษาพยาบาล | D8: 0 | E8: 0 | F8: 1102050194.006 1102050194.007 1102050194.008 1102050194.009 1102050194.010 1102050194.011 1102050194.012 1102050194.998 | G8: ลูกหนี้ - ค่ารักษาพยาบาลสิทธิหลักประกันสุขภาพถ้วนหน้า ลูกหนี้ - ค่ารักษาพยาบาลสิทธิประกันสังคม ลูกหนี้ - ค่ารักษาพยาบาลสิทธิ พ.ร.บ. รถ ลูกหนี้ - ค่ารักษาพยาบาลสิทธิเบิกตรงต้นสังกัดกรมบัญชีกลาง ลูกหนี้ - ค่ารักษาพยาบาลสิทธิเบิกตรงต้นสังกัดองค์กรปกครองส่วนท้องถิ่น ลูกหนี้ - ค่ารักษาพยาบาลสิทธิเบิกตรงต้นสังกัดกรุงเทพมหานคร ลูกหนี้ - ค่ารักษาพยาบาลสิทธิเบิกตรงต้นสังกัดเมืองพัทยา ลูกหนี้ - ค่ารักษาพยาบาลอื่น
A9: หัก ค่าเผื่อหนี้สงสัยจะสูญ | D9: =-W!AL12 -> -965362.3 | E9: -1023153.8 | F9: 1102050123.001 1102050123.006 1102050123.007 1102050123.008 1102050123.009 1102050123.010 1102050123.011 1102050123.012 1102050123.998 | G9: ค่าเผื่อหนี้สงสัยจะสูญ - ลูกหนี้ค่าสินค้าและบริการ ค่าเผื่อหนี้สงสัยจะสูญ - ลูกหนี้ค่ารักษาพยาบาลสิทธิหลักประกันสุขภาพถ้วนหน้า ค่าเผื่อหนี้สงสัยจะสูญ - ลูกหนี้ค่ารักษาพยาบาลสิทธิประกันสังคม ค่าเผื่อหนี้สงสัยจะสูญ - ลูกหนี้ค่ารักษาพยาบาลสิทธิ พ.ร.บ. รถ ค่าเผื่อหนี้สงสัยจะสูญ - ลูกหนี้ค่ารักษาพยาบาลสิทธิเบิกตรงต้นสังกัดกรมบัญชีกลาง ค่าเผื่อหนี้สงสัยจะสูญ - ลูกหนี้ค่ารักษาพยาบาลสิทธิเบิกตรงต้นสังกัดองค์กรปกครองส่วนท้องถิ่น ค่าเผื่อหนี้สงสัยจะสูญ - ลูกหนี้ค่ารักษาพยาบาลสิทธิเบิกตรงต้นสังกัดกรุงเทพมหานคร ค่าเผื่อหนี้สงสัยจะสูญ - ลูกหนี้ค่ารักษาพยาบาลสิทธิเบิกตรงต้นสังกัดเมืองพัทยา ค่าเผื่อหนี้สงสัยจะสูญ - ลูกหนี้ค่ารักษาพยาบาลอื่น
A10: รวมลูกหนี้การค้า (สุทธิ) | D10: =+D7+D8+D9 -> 2755037.7 | E10: =+E7+E8+E9 -> 2294990.2
A12: ลูกหนี้การค้า ณ วันสิ้นปี แยกตามอายุหนี้ ดังนี้
E13: (หน่วย:บาท)
A14: ลูกหนี้การค้า | B14: ยังไม่ถึงกำหนด | C14: เกินกำหนดชำระ | D14: เกินกำหนดชำระ | E14: รวม
B15: ชำระ | C15: ไม่เกิน 30 วัน | D15: เกินกว่า 30 วัน
A16: 2565 | B16: 0 | C16: 54177 | D16: 3666223 | E16: =SUM(B16:D16) -> 3720400
A17: 2564 | B17: 0 | C17: 81940 | D17: 3236204 | E17: =+B17+C17+D17 -> 3318144

Sheet 6-7
A1: 9
A3: หมายเหตุ 6 ลูกหนี้เงินโอนและรายการอุดหนุนระยะสั้น | H3: รหัสบัญชี | I3: ชื่อบัญชี
E4: (หน่วย:บาท)
E5: 2565 | G5: 2564
A6: ลูกหนี้ค่าภาษี | E6: =+W!AK16+W!AK17 -> 60617.08 | G6: 80102.79 | H6: 1102050194.001 1102050194.002 1102050194.003 1102050194.004 | I6: ลูกหนี้-ภาษีโรงเรือนและที่ดิน ลูกหนี้-ภาษีบำรุงท้องที่ ลูกหนี้-ภาษีป้าย ลูกหนี้-ภาษีที่ดินและสิ่งปลูกสร้าง
A7: หัก ค่าเผื่อหนี้สงสัยจะสูญ | E7: =-(W!AL13+W!AL14) -> -53580.7 | G7: =-(54870+7110.5) -> -61980.5 | H7: 1102050123.002 1102050123.003 1102050123.004 1102050123.005 | I7: ค่าเผื่อหนี้สงสัยจะสูญ - ลูกหนี้ภาษีโรงเรือนและที่ดิน ค่าเผื่อหนี้สงสัยจะสูญ - ลูกหนี้ภาษีบำรุงท้องที่ ค่าเผื่อหนี้สงสัยจะสูญ - ลูกหนี้ภาษีป้าย ค่าเผื่อหนี้สงสัยจะสูญ - ลูกหนี้ภาษีที่ดินและสิ่งปลูกสร้าง
A8: รวมลูกหนี้เงินโอน | E8: 7036.38 | G8: 18122.29
A9: รายได้เงินอุดหนุนค้างรับ | E9: =+W!AK15 -> 6343000 | G9: 0 | H9: 1102050193.001 | I9: รายได้เงินอุดหนุนค้างรับ
A10: รวมลูกหนี้เงินโอนและรายการอุดหนุนระยะสั้น | E10: =+E8+E9 -> 6350036.4 | G10: 18122.29
A12: หมายเหตุ 7 ลูกหนี้อื่นระยะสั้น
G13: (หน่วย:บาท)
E14: 2565 | G14: 2564
A15: ลูกหนี้เงินยืม | E15: 0 | G15: 5850 | H15: 1102010102.001
A16: ลูกหนี้เงินยืมเงินสะสม | E16: xxx | G16: xxx | H16: 1102010102.002
A17: เงินรอรับคืน | E17: xxx | G17: xxx | H17: 1103020110.001
A18: เงินจ่ายล่วงหน้า | E18: xxx | G18: xxx | H18: 1103020111.001
A19: ลูกหนี้เงินมัดจำและเงินประกัน | E19: xxx | G19: xxx | H19: 1102050129.001
A20: รายได้ค้างรับ | E20: =+W!AK10+W!AK11 -> 147309.73 | G20: 142550.1 | H20: 1102050106.001 1102050107.001
A21: ดอกเบี้ยรับจำนำค้างรับ | E21: xxx | G21: xxx | H21: 1102050107.002
A22: ลูกหนี้ความรับผิดทางแพ่ง | E22: xxx | G22: xxx | H22: 1103020112.001
A23: ลูกหนี้ความรับผิดทางละเมิด | E23: xxx | G23: xxx | H23: 1103020115.001
A24: รวม | E24: =SUM(E15:E23) -> 147309.73 | G24: =SUM(G15:G23) -> 148400.1
A25: ลูกหนี้อื่น | E25: 0 | G25: 0 | H25: 1102050193.002 1102050193.999 1102050194.999
A26: หัก ค่าเผื่อหนี้สงสัยจะสูญ | E26: 0 | G26: 0 | H26: 1102050123.999
A27: ลูกหนี้อื่น (สุทธิ) | E27: 0 | G27: 0
A28: รวมลูกหนี้อื่นระยะสั้น | E28: =+E24+E27 -> 147309.73 | G28: =+G24+G27 -> 148400.1 | H28: 1103020112.001 1103020115.001
A30: ลูกหนี้เงินยืม ณ วันสิ้นปี แยกตามอายุหนี้ ดังนี้
G31: (หน่วย:บาท)
A32: ลูกหนี้เงินยืม | B32: ยังไม่ถึงกำหนด | D32: เกินกำหนดชำระ | E32: เกินกำหนดชำระ | G32: รวม
B33: ชำระ | D33: ไม่เกิน 15 วัน | E33: เกินกว่า 15 วัน
A34: 2565 | B34: 0 | D34: 0 | E34: 0 | G34: =SUM(B34:E34) -> 0
A35: 2564 | B35: 5850 | D35: 0 | E35: 0 | G35: =SUM(B35:E35) -> 5850

Sheet 7
A1: =+L!A1 -> เทศบาลตำบลหลักช้าง
A2: หมายเหตุประกอบงบการเงิน
A3: =+L!A3 -> สำหรับปีสิ้นสุดวันที่ 30 กันยายน 2565
A4: หมายเหตุ 7 ลูกหนี้อื่นระยะสั้น | G4: รหัสบัญชี | H4: ชื่อบัญชี
F5: (หน่วย:บาท)
E6: 2565 | F6: 2564
A7: ลูกหนี้เงินยืม | E7: 0 | F7: 5850 | G7: 1102010102.001 | H7: ลูกหนี้เงินยืม
A8: ลูกหนี้เงินยืมเงินสะสม | E8: xxx | F8: xxx | G8: 1102010102.002 | H8: ลูกหนี้เงินยืมเงินสะสม
A9: เงินรอรับคืน | E9: xxx | F9: xxx | G9: 1103020110.001 | H9: เงินรอรับคืน
A10: เงินจ่ายล่วงหน้า | E10: xxx | F10: xxx | G10: 1103020111.001 | H10: เงินจ่ายล่วงหน้า
A11: ลูกหนี้เงินมัดจำและเงินประกัน | E11: xxx | F11: xxx | G11: 1102050129.001 | H11: ลูกหนี้เงินมัดจำและเงินประกัน
A12: รายได้ค้างรับ | E12: =+W!AK10+W!AK11 -> 147309.73 | F12: 142550.1 | G12: 1102050106.001 1102050107.001 | H12: รายได้ค้างรับ-หน่วยงานภาครัฐ รายได้ค้างรับ-บุคคลภายนอก
A13: ดอกเบี้ยรับจำนำค้างรับ | E13: xxx | F13: xxx | G13: 1102050107.002 | H13: ดอกเบี้ยรับจำนำค้างรับ
A14: ลูกหนี้ความรับผิดทางแพ่ง | E14: xxx | F14: xxx | G14: 1103020112.001 | H14: ลูกหนี้ความรับผิดทางแพ่ง
A15: ลูกหนี้ความรับผิดทางละเมิด | E15: xxx | F15: xxx | G15: 1103020115.001 | H15: ลูกหนี้ความรับผิดทางละเมิด
A16: รวม | E16: =SUM(E7:E15) -> 147309.73 | F16: =SUM(F7:F15) -> 148400.1
A17: ลูกหนี้อื่น | E17: 0 | F17: 0 | G17: 1102050193.002 1102050193.999 1102050194.999 | H17: ลูกหนี้อื่น - กรมสรรพากร ลูกหนี้อื่น-หน่วยงานภาครัฐ ลูกหนี้อื่น-บุคคลภายนอก
A18: หัก ค่าเผื่อหนี้สงสัยจะสูญ | E18: 0 | F18: 0 | G18: 1102050123.999 | H18: ค่าเผื่อหนี้สงสัยจะสูญ - ลูกหนี้อื่นบุคคลภายนอก
A19: ลูกหนี้อื่น (สุทธิ) | E19: =+E17-E18 -> 0 | F19: 0
A20: รวมลูกหนี้อื่นระยะสั้น | E20: =+E16+E19 -> 147309.73 | F20: =+F16+F19 -> 148400.1 | G20: 1103020112.001 1103020115.001 | H20: ลูกหนี้ความรับผิดทางแพ่ง ลูกหนี้ความรับผิดทางละเมิด
A22: ลูกหนี้เงินยืม ณ วันสิ้นปี แยกตามอายุหนี้ ดังนี้
F23: (หน่วย:บาท)
A24: ลูกหนี้เงินยืม | B24: ยังไม่ถึงกำหนด | D24: เกินกำหนดชำระ | E24: เกินกำหนดชำระ | F24: รวม
B25: ชำระ | D25: ไม่เกิน 15 วัน | E25: เกินกว่า 15 วัน
A26: 2565 | B26: 0 | D26: 0 | E26: 0 | F26: =SUM(B26:E26) -> 0
A27: 2564 | B27: 5850 | D27: 0 | E27: 0 | F27: =SUM(B27:E27) -> 5850

Sheet 8-11
A1: 10
A3: หมายเหตุ 8 เงินลงทุนระยะสั้น | E3: รหัสบัญชี | F3: ชื่อบัญชี
B4: (หน่วย:บาท)
B5: 2565 | D5: 2564
A6: เงินฝากประจำ | B6: =+W!AK18+W!AK19 -> 16814131 | D6: 13258843 | E6: 1104010101.001 | F6: เงินฝากประจำ-ระยะสั้น
A7: รวมเงินลงทุนระยะสั้น | B7: =SUM(B6) -> 16814131 | D7: =SUM(D6) -> 13258843
A9: หมายเหตุ 9 วัสดุคงเหลือ
D10: (หน่วย:บาท)
B11: 2565 | D11: 2564
A12: วัสดุคงคลัง | B12: =+W!AK20 -> 187949.7 | D12: 411392.5 | E12: 1105010105.001 | F12: วัสดุคงคลัง
A13: รวมวัสดุคงเหลือ | B13: =+B12 -> 187949.7 | D13: =SUM(D12) -> 411392.5
A15: หมายเหตุ 10 สินทรัพย์หมุนเวียนอื่น
D16: (หน่วย:บาท)
B17: 2565 | D17: 2564
A18: ค่าใช้จ่ายจ่ายล่วงหน้า | B18: =+W!AK21 -> 6750 | D18: 11858.12 | E18: 1106010103.001 | F18: ค่าใช้จ่ายจ่ายล่วงหน้า
A19: พักภาษีหัก ณ ที่จ่าย | B19: xxx | D19: xxx
A20: พักค่าปรับ | B20: xxx | D20: xxx
A21: ภาษีซื้อ | B21: xxx | D21: xxx
A22: ภาษีซื้อยังไม่ถึงกำหนดชำระ | B22: xxx | D22: xxx
A23: สินทรัพย์หมุนเวียนอื่น | B23: xxx | D23: xxx
A24: รวมสินทรัพย์หมุนเวียนอื่น | B24: 6750 | D24: 11858.12
A26: หมายเหตุ 11 เงินลงทุนระยะยาว
D27: (หน่วย:บาท)
B28: 2565 | D28: 2564
A29: เงินฝากประจำ | B29: xxx | D29: xxx
A30: เงินสมทบกองทุนส่งเสริมกิจการขององค์กรปกครองส่วนท้องถิ่น | B30: =+W!AK22 -> 6449883.6 | D30: 5348885.3 | E30: 1203020199.001 1203020199.002 | F30: เงินฝากเงินทุนส่งเสริมกิจการองค์การบริหารส่วนจังหวัด เงินฝากเงินทุนส่งเสริมกิจการเทศบาล
A31: หุ้นในโรงพิมพ์อาสารักษาดินแดน | B31: xxx | D31: xxx
A32: เงินลงทุนอื่น | B32: xxx | D32: xxx
A33: รวมเงินลงทุนระยะยาว | B33: 6449883.6 | D33: 5348885.3

Sheet 9
A1: =+L!A1 -> เทศบาลตำบลหลักช้าง
A2: หมายเหตุประกอบงบการเงิน
A3: =+L!A3 -> สำหรับปีสิ้นสุดวันที่ 30 กันยายน 2565
A4: หมายเหตุ 9 วัสดุคงเหลือ | D4: รหัสบัญชี | E4: ชื่อบัญชี
B5: (หน่วย:บาท)
B6: 2565 | C6: 2564
A7: วัสดุคงคลัง | B7: =+W!AK20 -> 187949.7 | C7: 411392.5 | D7: 1105010105.001 | E7: วัสดุคงคลัง
A8: รวมวัสดุคงเหลือ | B8: =+B7 -> 187949.7 | C8: =SUM(C7) -> 411392.5

Sheet 10
A1: =+L!A1 -> เทศบาลตำบลหลักช้าง
A2: หมายเหตุประกอบงบการเงิน
A3: =+L!A3 -> สำหรับปีสิ้นสุดวันที่ 30 กันยายน 2565
A4: หมายเหตุ 10 สินทรัพย์หมุนเวียนอื่น | D4: รหัสบัญชี | E4: ชื่อบัญชี
B5: (หน่วย:บาท)
B6: 2565 | C6: 2564
A7: ค่าใช้จ่ายจ่ายล่วงหน้า | B7: =+W!AK21 -> 6750 | C7: 11858.12 | D7: 1106010103.001 | E7: ค่าใช้จ่ายจ่ายล่วงหน้า
A8: พักภาษีหัก ณ ที่จ่าย | B8: xxx | C8: xxx | D8: 1106010199.001 | E8: พักภาษีหัก ณ ที่จ่าย
A9: พักค่าปรับ | B9: xxx | C9: xxx | D9: 1106010199.002 | E9: พักค่าปรับ
A10: ภาษีซื้อ | B10: xxx | C10: xxx | D10: 1106010199.003 | E10: ภาษีซื้อ
A11: ภาษีซื้อยังไม่ถึงกำหนดชำระ | B11: xxx | C11: xxx | D11: 1106010199.004 | E11: ภาษีซื้อยังไม่ถึงกำหนดชำระ
A12: สินทรัพย์หมุนเวียนอื่น | B12: xxx | C12: xxx | D12: 1106010199.999 | E12: สินทรัพย์หมุนเวียนอื่น
A13: รวมสินทรัพย์หมุนเวียนอื่น | B13: =SUM(B7:B12) -> 6750 | C13: =SUM(C7:C12) -> 11858.12

Sheet 11
A1: =+L!A1 -> เทศบาลตำบลหลักช้าง
A2: หมายเหตุประกอบงบการเงิน
A3: =+L!A3 -> สำหรับปีสิ้นสุดวันที่ 30 กันยายน 2565
A4: หมายเหตุ 11 เงินลงทุนระยะยาว | D4: รหัสบัญชี | E4: ชื่อบัญชี
B5: (หน่วย:บาท)
B6: 2565 | C6: 2564
A7: เงินฝากประจำ | B7: xxx | C7: xxx | D7: 1203010101.001 | E7: เงินฝากประจำ-ระยะยาว
A8: เงินสมทบกองทุนส่งเสริมกิจการขององค์กรปกครองส่วนท้องถิ่น | B8: =+W!AK22 -> 6449883.6 | C8: 5348885.3 | D8: 1203020199.001 1203020199.002 | E8: เงินฝากเงินทุนส่งเสริมกิจการองค์การบริหารส่วนจังหวัด เงินฝากเงินทุนส่งเสริมกิจการเทศบาล
A9: หุ้นในโรงพิมพ์อาสารักษาดินแดน | B9: xxx | C9: xxx | D9: 1203020199.005 | E9: หุ้นในโรงพิมพ์อาสารักษาดินแดน
A10: เงินลงทุนอื่น | B10: xxx | C10: xxx | D10: 1203020199.003 1203020199.004 1203020199.999 | E10: เงินทุนส่งเสริมอาชีพ เงินฝากกองทุนอื่น ๆ เงินลงทุนอื่น
A11: รวมเงินลงทุนระยะยาว | B11: =SUM(B7:B10) -> 6449883.6 | C11: =SUM(C7:C10) -> 5348885.3

Sheet 12-13
A1: 11
A3: หมายเหตุ 12 ที่ดิน อาคาร และอุปกรณ์ | D3: รหัสบัญชี | E3: ชื่อบัญชี
B4: (หน่วย:บาท)
B5: 2565 | C5: 2564
A6: ที่ดิน | B6: =+W!AK23 -> 140000 | C6: 140000 | D6: 1204010101.001 1204040101.001 | E6: ที่ดิน ที่ดินไม่ระบุรายละเอียด
A7: อาคารและสิ่งปลูกสร้าง | B7: =+W!AK24+W!AK26+W!AK28 -> 8636422.2 | C7: 8150174.2 | D7: 1205010101.001 1205020101.001 1205030101.001 1205030106.001 1205040101.001 1205060101.001 | E7: อาคารเพื่อการพักอาศัย อาคารสำนักงาน อาคารเพื่อประโยชน์อื่น ส่วนปรับปรุงอาคาร สิ่งปลูกสร้าง อาคารและสิ่งปลูกสร้างไม่ระบุรายละเอียด
A8: หัก ค่าเสื่อมราคาสะสม - อาคารและสิ่งปลูกสร้าง | B8: =-(W!AL25+W!AL27+W!AL29) -> -5561862.7 | C8: -5308503.6 | D8: 1205010103.001 1205020103.001 1205030103.001 1205030108.001 1205040103.001 1205060102.001 | E8: ค่าเสื่อมราคาสะสมอาคารเพื่อการพักอาศัย ค่าเสื่อมราคาสะสมอาคารสำนักงาน ค่าเสื่อมราคาสะสมอาคารเพื่อประโยชน์อื่น ค่าเสื่อมราคาสะสมส่วนปรับปรุงอาคาร ค่าเสื่อมราคาสะสมสิ่งปลูกสร้าง ค่าเสื่อมราคาสะสมอาคารและสิ่งปลูกสร้างไม่ระบุรายละเอียด
A9: อาคารและสิ่งปลูกสร้าง (สุทธิ) | B9: =+B7+B8 -> 3074559.5 | C9: =+C7+C8 -> 2841670.6
A10: ครุภัณฑ์ | B10: =+W!AK30+W!AK32+W!AK34+W!AK36+W!AK38+W!AK40+W!AK42 -> 1304530 | C10: 1064680 | D10: 1206010101.001 1206020101.001 1206030101.001 1206040101.001 1206050101.001 1206060101.001 1206070101.001 1206080101.001 | E10: ครุภัณฑ์สำนักงาน ครุภัณฑ์ยานพาหนะและขนส่ง ครุภัณฑ์ไฟฟ้าและวิทยุ ครุภัณฑ์โฆษณาและเผยแพร่ ครุภัณฑ์การเกษตร ครุภัณฑ์โรงงาน ครุภัณฑ์ก่อสร้าง ครุภัณฑ์สำรวจ
D11: 1206090101.001 1206100101.001 1206110101.001 1206120101.001 1206130101.001 1206140101.001 1206150101.001 1206160101.001 1206180101.001 | E11: ครุภัณฑ์วิทยาศาสตร์และการแพทย์ ครุภัณฑ์คอมพิวเตอร์ ครุภัณฑ์การศึกษา ครุภัณฑ์งานบ้านงานครัว ครุภัณฑ์กีฬา ครุภัณฑ์ดนตรี ครุภัณฑ์สนาม ครุภัณฑ์อื่น ครุภัณฑ์ไม่ระบุรายละเอียด
D12: 1206010102.001 1206020102.001 1206030102.001 1206040102.001 1206050102.001 1206060102.001 1206070102.001 1206080102.001 | E12: พักครุภัณฑ์สำนักงาน พักครุภัณฑ์ยานพาหนะและขนส่ง พักครุภัณฑ์ไฟฟ้าและวิทยุ พักครุภัณฑ์โฆษณาและเผยแพร่ พักครุภัณฑ์การเกษตร พักครุภัณฑ์โรงงาน พักครุภัณฑ์ก่อสร้าง พักครุภัณฑ์สำรวจ
D13: 1206090102.001 1206100102.001 1206110102.001 1206120102.001 1206130102.001 1206140102.001 1206150102.001 1206160102.001 | E13: พักครุภัณฑ์วิทยาศาสตร์และการแพทย์ พักครุภัณฑ์คอมพิวเตอร์ พักครุภัณฑ์การศึกษา พักครุภัณฑ์งานบ้านงานครัว พักครุภัณฑ์กีฬา พักครุภัณฑ์ดนตรี พักครุภัณฑ์สนาม พักครุภัณฑ์อื่น
A14: หัก ค่าเสื่อมราคาสะสม - ครุภัณฑ์ | B14: =-(+W!AL31+W!AL33+W!AL35+W!AL37+W!AL39+W!AL41+W!AL43) -> -803944.51 | C14: -658349.75 | D14: 1206010103.001 1206020103.001 1206030103.001 1206040103.001 1206050103.001 1206060103.001 1206070103.001 1206080103.001 | E14: ค่าเสื่อมราคาสะสมครุภัณฑ์สำนักงาน ค่าเสื่อมราคาสะสมครุภัณฑ์ยานพาหนะและขนส่ง ค่าเสื่อมราคาสะสมครุภัณฑ์ไฟฟ้าและวิทยุ ค่าเสื่อมราคาสะสมครุภัณฑ์โฆษณาและเผยแพร่ ค่าเสื่อมราคาสะสมครุภัณฑ์การเกษตร ค่าเสื่อมราคาสะสมครุภัณฑ์โรงงาน ค่าเสื่อมราคาสะสมครุภัณฑ์ก่อสร้าง ค่าเสื่อมราคาสะสมครุภัณฑ์สำรวจ
D15: 1206090103.001 1206100103.001 1206110103.001 1206120103.001 1206130103.001 1206140103.001 1206150103.001 1206160103.001 1206180102.001 | E15: ค่าเสื่อมราคาสะสมครุภัณฑ์วิทยาศาสตร์และการแพทย์ ค่าเสื่อมราคาสะสมครุภัณฑ์คอมพิวเตอร์ ค่าเสื่อมราคาสะสมครุภัณฑ์การศึกษา ค่าเสื่อมราคาสะสมครุภัณฑ์งานบ้านงานครัว ค่าเสื่อมราคาสะสมครุภัณฑ์กีฬา ค่าเสื่อมราคาสะสมครุภัณฑ์ดนตรี ค่าเสื่อมราคาสะสมครุภัณฑ์สนาม ค่าเสื่อมราคาสะสมครุภัณฑ์อื่น ค่าเสื่อมราคาสะสมครุภัณฑ์ไม่ระบุรายละเอียด
A16: ครุภัณฑ์ (สุทธิ) | B16: =+B10+B14 -> 500585.49 | C16: =+C10+C14 -> 406330.25
A17: ที่ดิน อาคาร และอุปกรณ์ตามสัญญาเช่าการเงิน | B17: xxx | C17: xxx | D17: 1204010103.001 1205030104.001 1205040104.001 1206160104.001 | E17: ที่ดิน - ภายใต้สัญญาเช่าการเงิน อาคาร - ภายใต้สัญญาเช่าการเงิน สิ่งปลูกสร้าง - ภายใต้สัญญาเช่าการเงิน ครุภัณฑ์ - ภายใต้สัญญาเช่าการเงิน
A18: หัก ค่าเสื่อมราคาสะสม - อาคารและอุปกรณ์ ตามสัญญาเช่าการเงิน | B18: (xxx) | C18: (xxx) | D18: 1205030105.001 1205040105.001 1206160105.001 | E18: ค่าเสื่อมราคาสะสมอาคาร - ภายใต้สัญญาเช่าการเงิน ค่าเสื่อมราคาสะสม - สิ่งปลูกสร้างภายใต้สัญญาเช่าการเงิน ค่าเสื่อมราคาสะสม - ครุภัณฑ์ภายใต้สัญญาเช่าการเงิน
A19: ที่ดิน อาคาร และอุปกรณ์ตามสัญญาเช่าการเงิน (สุทธิ) | B19: 0 | C19: 0
A20: งานระหว่างก่อสร้าง | B20: 0 | C20: 0 | D20: 1211010101.001 | E20: งานระหว่างก่อสร้าง
A21: รวมที่ดิน อาคาร และอุปกรณ์ (สุทธิ) | B21: =+B6+B9+B16+B19+B20 -> 3715145 | C21: =+C6+C9+C16+C19+C20 -> 3388000.8
A23: หมายเหตุ 13 สินทรัพย์โครงสร้างพื้นฐาน
B24: (หน่วย:บาท)
B25: 2565 | C25: 2564
A26: ถนน | B26: =+W!AK44 -> 43000883 | C26: 29996483 | D26: 1208010101.001 | E26: ถนน
A27: หัก ค่าเสื่อมราคาสะสม - ถนน | B27: =-W!AL45 -> -17570492 | C27: -13295428 | D27: 1208010103.001 | E27: ค่าเสื่อมราคาสะสมถนน
A28: ถนน (สุทธิ) | B28: =+B26+B27 -> 25430391 | C28: =+C26+C27 -> 16701055
A29: สะพาน | B29: xxx | C29: xxx | D29: 1208020101.001 | E29: สะพาน
A30: หัก ค่าเสื่อมราคาสะสม - สะพาน | B30: (xxx) | C30: (xxx) | D30: 1208020103.001 | E30: ค่าเสื่อมราคาสะสมสะพาน
A31: สะพาน (สุทธิ) | B31: xxx | C31: xxx
A32: เขื่อน | B32: xxx | C32: xxx | D32: 1208030101.001 | E32: เขื่อน
A33: หัก ค่าเสื่อมราคาสะสม - เขื่อน | B33: (xxx) | C33: (xxx) | D33: 1208030103.001 | E33: ค่าเสื่อมราคาสะสมเขื่อน
A34: เขื่อน (สุทธิ) | B34: xxx | C34: xxx
A35: อ่างเก็บน้ำ | B35: =+W!AK46 -> 1334196.3 | C35: 1334196.3 | D35: 1208040101.001 | E35: อ่างเก็บน้ำ
A36: หัก ค่าเสื่อมราคาสะสม - อ่างเก็บน้ำ | B36: =-W!AL47 -> -317054.37 | C36: -250344.56 | D36: 1208040103.001 | E36: ค่าเสื่อมราคาสะสมอ่างเก็บน้ำ
A37: อ่างเก็บน้ำ (สุทธิ) | B37: =+B35+B36 -> 1017141.9 | C37: =+C35+C36 -> 1083851.7
A38: สินทรัพย์โครงสร้างพื้นฐานอื่น | B38: =+W!AK48 -> 16028620 | C38: 14558620 | D38: 1208050101.001 | E38: สินทรัพย์โครงสร้างพื้นฐานอื่น
D39: 1208070101.001 | E39: สินทรัพย์โครงสร้างพื้นฐานอื่นไม่ระบุรายละเอียด
A40: หัก ค่าเสื่อมราคาสะสม - สินทรัพย์โครงสร้างพื้นฐานอื่น | B40: =-W!AL49 -> -11825543 | C40: -10955802 | D40: 1208050103.001 | E40: ค่าเสื่อมราคาสะสมสินทรัพย์โครงสร้างพื้นฐานอื่น
A42: สินทรัพย์โครงสร้างพื้นฐานอื่น (สุทธิ) | B42: =+B38+B40 -> 4203076.4 | C42: =+C38+C40 -> 3602817.4
A43: รวมสินทรัพย์โครงสร้างพื้นฐาน (สุทธิ) | B43: =+B28+B37+B42 -> 30650610 | C43: =+C28+C37+C42 -> 21387724

Sheet 13
A1: =+L!A1 -> เทศบาลตำบลหลักช้าง
A2: หมายเหตุประกอบงบการเงิน
A3: =+L!A3 -> สำหรับปีสิ้นสุดวันที่ 30 กันยายน 2565
A4: หมายเหตุ 13 สินทรัพย์โครงสร้างพื้นฐาน | D4: รหัสบัญชี | E4: ชื่อบัญชี
B5: (หน่วย:บาท)
B6: 2565 | C6: 2564
A7: ถนน | B7: =+W!AK44 -> 43000883 | C7: 29996483 | D7: 1208010101.001 | E7: ถนน
A8: หัก ค่าเสื่อมราคาสะสม - ถนน | B8: =-W!AL45 -> -17570492 | C8: -13295428 | D8: 1208010103.001 | E8: ค่าเสื่อมราคาสะสมถนน
A9: ถนน (สุทธิ) | B9: =+B7+B8 -> 25430391 | C9: =+C7+C8 -> 16701055
A10: สะพาน | B10: xxx | C10: xxx | D10: 1208020101.001 | E10: สะพาน
A11: หัก ค่าเสื่อมราคาสะสม - สะพาน | B11: (xxx) | C11: (xxx) | D11: 1208020103.001 | E11: ค่าเสื่อมราคาสะสมสะพาน
A12: สะพาน (สุทธิ) | B12: xxx | C12: xxx
A13: เขื่อน | B13: xxx | C13: xxx | D13: 1208030101.001 | E13: เขื่อน
A14: หัก ค่าเสื่อมราคาสะสม - เขื่อน | B14: (xxx) | C14: (xxx) | D14: 1208030103.001 | E14: ค่าเสื่อมราคาสะสมเขื่อน
A15: เขื่อน (สุทธิ) | B15: xxx | C15: xxx
A16: อ่างเก็บน้ำ | B16: =+W!AK46 -> 1334196.3 | C16: 1334196.3 | D16: 1208040101.001 | E16: อ่างเก็บน้ำ
A17: หัก ค่าเสื่อมราคาสะสม - อ่างเก็บน้ำ | B17: =-W!AL47 -> -317054.37 | C17: -250344.56 | D17: 1208040103.001 | E17: ค่าเสื่อมราคาสะสมอ่างเก็บน้ำ
A18: อ่างเก็บน้ำ (สุทธิ) | B18: =+B16+B17 -> 1017141.9 | C18: =+C16+C17 -> 1083851.7
A19: สินทรัพย์โครงสร้างพื้นฐานอื่น | B19: =+W!AK48 -> 16028620 | C19: 14558620 | D19: 1208050101.001 | E19: สินทรัพย์โครงสร้างพื้นฐานอื่น
D20: 1208070101.001 | E20: สินทรัพย์โครงสร้างพื้นฐานอื่นไม่ระบุรายละเอียด
A21: หัก ค่าเสื่อมราคาสะสม - สินทรัพย์โครงสร้างพื้นฐานอื่น | B21: =-W!AL49 -> -11825543 | C21: -10955802 | D21: 1208050103.001 | E21: ค่าเสื่อมราคาสะสมสินทรัพย์โครงสร้างพื้นฐานอื่น
D22: 1208070102.001 | E22: ค่าเสื่อมราคาสะสมสินทรัพย์โครงสร้างพื้นฐานอื่นไม่ระบุรายละเอียด
A23: สินทรัพย์โครงสร้างพื้นฐานอื่น (สุทธิ) | B23: =+B19+B21 -> 4203076.4 | C23: =+C19+C21 -> 3602817.4
A24: รวมสินทรัพย์โครงสร้างพื้นฐาน (สุทธิ) | B24: =+B9+B18+B23 -> 30650610 | C24: =+C9+C18+C23 -> 21387724

Sheet 14-16
A1: 12
A3: หมายเหตุ 14 เจ้าหนี้ระยะสั้น | D3: รหัสบัญชี | E3: ชื่อบัญชี
B4: (หน่วย:บาท)
B5: 2565 | C5: 2564
A6: เจ้าหนี้การค้า | B6: =+W!AL50 -> 5671300 | C6: 97771.3 | D6: 2101010101.001 2101010102.001 | E6: เจ้าหนี้การค้า - หน่วยงานภาครัฐ เจ้าหนี้การค้า - บุคคลภายนอก
A7: เจ้าหนี้อื่น | B7: =+W!AL51 -> 1200 | C7: 11272.45 | D7: 2101020198.001 2101020198.999 2101020199.999 2101020198.002 2101020199.004 | E7: เจ้าหนี้อื่น - กรมสรรพากร เจ้าหนี้อื่น - หน่วยงานภาครัฐ เจ้าหนี้อื่น - บุคคลภายนอก เจ้าหนี้อื่นชดใช้ค่าเสียหายระยะสั้น – หน่วยงานภาครัฐ เจ้าหนี้อื่นชดใช้ค่าเสียหายระยะสั้น – บุคคลภายนอก
A8: เจ้าหนี้ - ทรัพย์จำนำสูญหาย | B8: 0 | C8: xxx | D8: 2101020199.001 | E8: เจ้าหนี้ - ทรัพย์รับจำนำสูญหาย
A9: เจ้าหนี้ - ค่ารักษาพยาบาล | B9: 0 | C9: xxx | D9: 2101020199.002 2101020199.003 | E9: เจ้าหนี้ค่ารักษาพยาบาล-ประกันสุขภาพถ้วนหน้า เจ้าหนี้ค่ารักษาพยาบาล-ประกันสังคม
A10: ดอกเบี้ยค้างจ่าย | B10: 0 | C10: xxx | D10: 2102020102.001 | E10: ดอกเบี้ยค้างจ่าย
A11: ค่าสาธารณูปโภคค้างจ่าย | B11: =+W!AL52 -> 104733.72 | C11: 85343.27 | D11: 2102040101.001 | E11: ค่าสาธารณูปโภคค้างจ่าย
A12: ภาษีหัก ณ ที่จ่าย | B12: =+W!AL53+W!AL54+W!AL55+W!AL56 -> 21192.89 | C12: 9451.15 | D12: 2102040103.001 2102040104.001 2102040105.001 2102040106.001 | E12: ภาษีหัก ณ ที่จ่ายรอนำส่ง - ภาษีเงินได้บุคคลธรรมดา ภาษีหัก ณ ที่จ่ายรอนำส่ง - ภาษีเงินได้บุคคลธรรมดา ภ.ง.ด.1 ภาษีหัก ณ ที่จ่ายรอนำส่ง - ภาษีเงินได้นิติบุคคลจากหน่วยงานภาครัฐ ภาษีหัก ณ ที่จ่ายรอนำส่ง - ภาษีเงินได้นิติบุคคลจากบุคคลภายนอก
A13: ใบสำคัญค้างจ่ายอื่น | B13: 0 | C13: xxx | D13: 2102040110.001 | E13: ใบสำคัญค้างจ่ายอื่น
A14: ค่าจ้างและค่าตอบแทนค้างจ่าย | B14: 0 | C14: xxx | D14: 2102040199.001 | E14: ค่าจ้างและค่าตอบแทนค้างจ่าย
A15: ค่าใช้จ่ายค้างจ่ายอื่น | B15: =+W!AL57+W!AL58 -> 41999.75 | C15: 29851.96 | D15: 2102040198.001 2102040199.999 | E15: ค่าใช้จ่ายค้างจ่ายอื่น - หน่วยงานภาครัฐ ค่าใช้จ่ายค้างจ่ายอื่น - บุคคลภายนอก
A16: รวมเจ้าหนี้ระยะสั้น | B16: =+B6+B7+B8+B9+B10+B11+B12+B13+B14+B15 -> 5840426.4 | C16: =SUM(C6:C15) -> 233690.13
A18: หมายเหตุ 15 เจ้าหนี้เงินโอนและรายการอุดหนุนระยะสั้น
B19: (หน่วย:บาท)
B20: 2565 | C20: 2564
A21: รายได้เงินอุดหนุนรับล่วงหน้า | B21: =+W!AL59 -> 1743000 | C21: 0 | D21: 2103010102.001 | E21: รายได้เงินอุดหนุนรับล่วงหน้า
A22: รายได้ค่าภาษีรับล่วงหน้า | B22: xxx | C22: 0
A23: รายได้จากเงินกู้ของรัฐบาลรับล่วงหน้า | B23: xxx | C23: 0
A24: เงินรับฝากรอคืนแผ่นดิน | B24: xxx | C24: 0
A25: รายได้รอการรับรู้ | B25: xxx | C25: 0
A26: รวมเจ้าหนี้เงินโอนและรายการอุดหนุนระยะสั้น | B26: =SUM(B21:B25) -> 1743000 | C26: =SUM(C21:C25) -> 0
A28: หมายเหตุ 16 เงินรับฝากระยะสั้น
B29: (หน่วย:บาท)
B30: 2565 | C30: 2564
A31: เงินรับฝากเงินทุนโครงการเศรษฐกิจชุมชน | B31: xxx | C31: xxx
A32: เงินรับฝากชดใช้ค่าความเสียหาย | B32: xxx | C32: xxx
A33: เงินรับฝากจากการจัดเก็บภาษีบำรุงท้องที่ | B33: 0 | C33: 6775 | D33: 2111020199.008 2111020199.009 | E33: เงินรับฝากค่าใช้จ่ายในการจัดเก็บภาษีบำรุงท้องที่ 5% เงินรับฝากส่วนลดในการจัดเก็บภาษีบำรุงท้องที่ 6%
